BEGIN:VCALENDAR
VERSION:2.0
PRODID:-//Town of Wilmington - ECPv6.15.20//NONSGML v1.0//EN
CALSCALE:GREGORIAN
METHOD:PUBLISH
X-WR-CALNAME:Town of Wilmington
X-ORIGINAL-URL:https://wilmingtonvermont.us
X-WR-CALDESC:Events for Town of Wilmington
REFRESH-INTERVAL;VALUE=DURATION:PT1H
X-Robots-Tag:noindex
X-PUBLISHED-TTL:PT1H
BEGIN:VTIMEZONE
TZID:America/New_York
BEGIN:DAYLIGHT
TZOFFSETFROM:-0500
TZOFFSETTO:-0400
TZNAME:EDT
DTSTART:20300310T070000
END:DAYLIGHT
BEGIN:STANDARD
TZOFFSETFROM:-0400
TZOFFSETTO:-0500
TZNAME:EST
DTSTART:20301103T060000
END:STANDARD
BEGIN:DAYLIGHT
TZOFFSETFROM:-0500
TZOFFSETTO:-0400
TZNAME:EDT
DTSTART:20310309T070000
END:DAYLIGHT
BEGIN:STANDARD
TZOFFSETFROM:-0400
TZOFFSETTO:-0500
TZNAME:EST
DTSTART:20311102T060000
END:STANDARD
BEGIN:DAYLIGHT
TZOFFSETFROM:-0500
TZOFFSETTO:-0400
TZNAME:EDT
DTSTART:20320314T070000
END:DAYLIGHT
BEGIN:STANDARD
TZOFFSETFROM:-0400
TZOFFSETTO:-0500
TZNAME:EST
DTSTART:20321107T060000
END:STANDARD
END:VTIMEZONE
BEGIN:VEVENT
DTSTART;TZID=America/New_York:20310127T170000
DTEND;TZID=America/New_York:20310127T180000
DTSTAMP:20260423T025747
CREATED:20241205T143317Z
LAST-MODIFIED:20250424T124719Z
UID:10001841-1927299600-1927303200@wilmingtonvermont.us
SUMMARY:Planning Commission
DESCRIPTION:
URL:https://wilmingtonvermont.us/event/planning-commission-2/2031-01-27/
LOCATION:Town Hall Meeting Room\, 2 East Main St\, WILMINGTON\, VT\, 053630217\, United States
END:VEVENT
BEGIN:VEVENT
DTSTART;TZID=America/New_York:20310203T170000
DTEND;TZID=America/New_York:20310203T190000
DTSTAMP:20260423T025747
CREATED:20241205T143435Z
LAST-MODIFIED:20241205T143911Z
UID:10001842-1927904400-1927911600@wilmingtonvermont.us
SUMMARY:Development Review Board
DESCRIPTION:
URL:https://wilmingtonvermont.us/event/development-review-board/2031-02-03/
LOCATION:Town Hall Meeting Room\, 2 East Main St\, WILMINGTON\, VT\, 053630217\, United States
END:VEVENT
BEGIN:VEVENT
DTSTART;TZID=America/New_York:20310204T180000
DTEND;TZID=America/New_York:20310204T200000
DTSTAMP:20260423T025747
CREATED:20241205T145307Z
LAST-MODIFIED:20250529T124158Z
UID:10001862-1927994400-1928001600@wilmingtonvermont.us
SUMMARY:Selectboard
DESCRIPTION:
URL:https://wilmingtonvermont.us/event/selectboard/2031-02-04/
LOCATION:Town Hall Meeting Room\, 2 East Main St\, WILMINGTON\, VT\, 053630217\, United States
END:VEVENT
BEGIN:VEVENT
DTSTART;TZID=America/New_York:20310210T090000
DTEND;TZID=America/New_York:20310210T100000
DTSTAMP:20260423T025747
CREATED:20241205T142743Z
LAST-MODIFIED:20241205T142743Z
UID:10001844-1928480400-1928484000@wilmingtonvermont.us
SUMMARY:Beautification Committee Meeting
DESCRIPTION:
URL:https://wilmingtonvermont.us/event/beautification-committee-meeting/2031-02-10/
LOCATION:Town Hall Meeting Room\, 2 East Main St\, WILMINGTON\, VT\, 053630217\, United States
END:VEVENT
BEGIN:VEVENT
DTSTART;TZID=America/New_York:20310210T170000
DTEND;TZID=America/New_York:20310210T180000
DTSTAMP:20260423T025747
CREATED:20241205T143201Z
LAST-MODIFIED:20250424T124807Z
UID:10001845-1928509200-1928512800@wilmingtonvermont.us
SUMMARY:Planning Commission
DESCRIPTION:
URL:https://wilmingtonvermont.us/event/planning-commission/2031-02-10/
LOCATION:Town Hall Meeting Room\, 2 East Main St\, WILMINGTON\, VT\, 053630217\, United States
END:VEVENT
BEGIN:VEVENT
DTSTART;TZID=America/New_York:20310213T173000
DTEND;TZID=America/New_York:20310213T183000
DTSTAMP:20260423T025747
CREATED:20241205T145808Z
LAST-MODIFIED:20250822T124908Z
UID:10001849-1928770200-1928773800@wilmingtonvermont.us
SUMMARY:Trails Committee
DESCRIPTION:
URL:https://wilmingtonvermont.us/event/trails-committee/2031-02-13/
LOCATION:Town Hall Meeting Room\, 2 East Main St\, WILMINGTON\, VT\, 053630217\, United States
END:VEVENT
BEGIN:VEVENT
DTSTART;TZID=America/New_York:20310217T080000
DTEND;TZID=America/New_York:20310217T170000
DTSTAMP:20260423T025747
CREATED:20241205T143531Z
LAST-MODIFIED:20241205T143806Z
UID:10001850-1929081600-1929114000@wilmingtonvermont.us
SUMMARY:Development Review Board
DESCRIPTION:
URL:https://wilmingtonvermont.us/event/development-review-board-2/2031-02-17/
LOCATION:Town Hall Meeting Room\, 2 East Main St\, WILMINGTON\, VT\, 053630217\, United States
END:VEVENT
BEGIN:VEVENT
DTSTART;TZID=America/New_York:20310218T180000
DTEND;TZID=America/New_York:20310218T200000
DTSTAMP:20260423T025747
CREATED:20241205T145528Z
LAST-MODIFIED:20241205T145528Z
UID:10001854-1929204000-1929211200@wilmingtonvermont.us
SUMMARY:Selectboard
DESCRIPTION:
URL:https://wilmingtonvermont.us/event/selectboard-2/2031-02-18/
LOCATION:Town Hall Meeting Room\, 2 East Main St\, WILMINGTON\, VT\, 053630217\, United States
END:VEVENT
BEGIN:VEVENT
DTSTART;TZID=America/New_York:20310224T170000
DTEND;TZID=America/New_York:20310224T180000
DTSTAMP:20260423T025747
CREATED:20241205T143317Z
LAST-MODIFIED:20250424T124719Z
UID:10001856-1929718800-1929722400@wilmingtonvermont.us
SUMMARY:Planning Commission
DESCRIPTION:
URL:https://wilmingtonvermont.us/event/planning-commission-2/2031-02-24/
LOCATION:Town Hall Meeting Room\, 2 East Main St\, WILMINGTON\, VT\, 053630217\, United States
END:VEVENT
BEGIN:VEVENT
DTSTART;TZID=America/New_York:20310303T170000
DTEND;TZID=America/New_York:20310303T190000
DTSTAMP:20260423T025747
CREATED:20241205T143435Z
LAST-MODIFIED:20241205T143911Z
UID:10001858-1930323600-1930330800@wilmingtonvermont.us
SUMMARY:Development Review Board
DESCRIPTION:
URL:https://wilmingtonvermont.us/event/development-review-board/2031-03-03/
LOCATION:Town Hall Meeting Room\, 2 East Main St\, WILMINGTON\, VT\, 053630217\, United States
END:VEVENT
BEGIN:VEVENT
DTSTART;TZID=America/New_York:20310304T180000
DTEND;TZID=America/New_York:20310304T200000
DTSTAMP:20260423T025747
CREATED:20241205T145307Z
LAST-MODIFIED:20250529T124158Z
UID:10001863-1930413600-1930420800@wilmingtonvermont.us
SUMMARY:Selectboard
DESCRIPTION:
URL:https://wilmingtonvermont.us/event/selectboard/2031-03-04/
LOCATION:Town Hall Meeting Room\, 2 East Main St\, WILMINGTON\, VT\, 053630217\, United States
END:VEVENT
BEGIN:VEVENT
DTSTART;TZID=America/New_York:20310310T090000
DTEND;TZID=America/New_York:20310310T100000
DTSTAMP:20260423T025747
CREATED:20241205T142743Z
LAST-MODIFIED:20241205T142743Z
UID:10001869-1930899600-1930903200@wilmingtonvermont.us
SUMMARY:Beautification Committee Meeting
DESCRIPTION:
URL:https://wilmingtonvermont.us/event/beautification-committee-meeting/2031-03-10/
LOCATION:Town Hall Meeting Room\, 2 East Main St\, WILMINGTON\, VT\, 053630217\, United States
END:VEVENT
BEGIN:VEVENT
DTSTART;TZID=America/New_York:20310310T170000
DTEND;TZID=America/New_York:20310310T180000
DTSTAMP:20260423T025747
CREATED:20241205T143201Z
LAST-MODIFIED:20250424T124807Z
UID:10001870-1930928400-1930932000@wilmingtonvermont.us
SUMMARY:Planning Commission
DESCRIPTION:
URL:https://wilmingtonvermont.us/event/planning-commission/2031-03-10/
LOCATION:Town Hall Meeting Room\, 2 East Main St\, WILMINGTON\, VT\, 053630217\, United States
END:VEVENT
BEGIN:VEVENT
DTSTART;TZID=America/New_York:20310313T173000
DTEND;TZID=America/New_York:20310313T183000
DTSTAMP:20260423T025747
CREATED:20241205T145808Z
LAST-MODIFIED:20250822T124908Z
UID:10001867-1931189400-1931193000@wilmingtonvermont.us
SUMMARY:Trails Committee
DESCRIPTION:
URL:https://wilmingtonvermont.us/event/trails-committee/2031-03-13/
LOCATION:Town Hall Meeting Room\, 2 East Main St\, WILMINGTON\, VT\, 053630217\, United States
END:VEVENT
BEGIN:VEVENT
DTSTART;TZID=America/New_York:20310317T080000
DTEND;TZID=America/New_York:20310317T170000
DTSTAMP:20260423T025747
CREATED:20241205T143531Z
LAST-MODIFIED:20241205T143806Z
UID:10001874-1931500800-1931533200@wilmingtonvermont.us
SUMMARY:Development Review Board
DESCRIPTION:
URL:https://wilmingtonvermont.us/event/development-review-board-2/2031-03-17/
LOCATION:Town Hall Meeting Room\, 2 East Main St\, WILMINGTON\, VT\, 053630217\, United States
END:VEVENT
BEGIN:VEVENT
DTSTART;TZID=America/New_York:20310318T180000
DTEND;TZID=America/New_York:20310318T200000
DTSTAMP:20260423T025747
CREATED:20241205T145528Z
LAST-MODIFIED:20241205T145528Z
UID:10001878-1931623200-1931630400@wilmingtonvermont.us
SUMMARY:Selectboard
DESCRIPTION:
URL:https://wilmingtonvermont.us/event/selectboard-2/2031-03-18/
LOCATION:Town Hall Meeting Room\, 2 East Main St\, WILMINGTON\, VT\, 053630217\, United States
END:VEVENT
BEGIN:VEVENT
DTSTART;TZID=America/New_York:20310401T180000
DTEND;TZID=America/New_York:20310401T200000
DTSTAMP:20260423T025747
CREATED:20241205T145307Z
LAST-MODIFIED:20250529T124158Z
UID:10001864-1932832800-1932840000@wilmingtonvermont.us
SUMMARY:Selectboard
DESCRIPTION:
URL:https://wilmingtonvermont.us/event/selectboard/2031-04-01/
LOCATION:Town Hall Meeting Room\, 2 East Main St\, WILMINGTON\, VT\, 053630217\, United States
END:VEVENT
BEGIN:VEVENT
DTSTART;TZID=America/New_York:20310407T170000
DTEND;TZID=America/New_York:20310407T190000
DTSTAMP:20260423T025747
CREATED:20241205T143435Z
LAST-MODIFIED:20241205T143911Z
UID:10001859-1933347600-1933354800@wilmingtonvermont.us
SUMMARY:Development Review Board
DESCRIPTION:
URL:https://wilmingtonvermont.us/event/development-review-board/2031-04-07/
LOCATION:Town Hall Meeting Room\, 2 East Main St\, WILMINGTON\, VT\, 053630217\, United States
END:VEVENT
BEGIN:VEVENT
DTSTART;TZID=America/New_York:20310410T173000
DTEND;TZID=America/New_York:20310410T183000
DTSTAMP:20260423T025747
CREATED:20241205T145808Z
LAST-MODIFIED:20250822T124908Z
UID:10001868-1933608600-1933612200@wilmingtonvermont.us
SUMMARY:Trails Committee
DESCRIPTION:
URL:https://wilmingtonvermont.us/event/trails-committee/2031-04-10/
LOCATION:Town Hall Meeting Room\, 2 East Main St\, WILMINGTON\, VT\, 053630217\, United States
END:VEVENT
BEGIN:VEVENT
DTSTART;TZID=America/New_York:20310414T170000
DTEND;TZID=America/New_York:20310414T180000
DTSTAMP:20260423T025747
CREATED:20241205T143201Z
LAST-MODIFIED:20250424T124807Z
UID:10001871-1933952400-1933956000@wilmingtonvermont.us
SUMMARY:Planning Commission
DESCRIPTION:
URL:https://wilmingtonvermont.us/event/planning-commission/2031-04-14/
LOCATION:Town Hall Meeting Room\, 2 East Main St\, WILMINGTON\, VT\, 053630217\, United States
END:VEVENT
BEGIN:VEVENT
DTSTART;TZID=America/New_York:20310415T180000
DTEND;TZID=America/New_York:20310415T200000
DTSTAMP:20260423T025747
CREATED:20241205T145528Z
LAST-MODIFIED:20241205T145528Z
UID:10001879-1934042400-1934049600@wilmingtonvermont.us
SUMMARY:Selectboard
DESCRIPTION:
URL:https://wilmingtonvermont.us/event/selectboard-2/2031-04-15/
LOCATION:Town Hall Meeting Room\, 2 East Main St\, WILMINGTON\, VT\, 053630217\, United States
END:VEVENT
BEGIN:VEVENT
DTSTART;TZID=America/New_York:20310421T080000
DTEND;TZID=America/New_York:20310421T170000
DTSTAMP:20260423T025747
CREATED:20241205T143531Z
LAST-MODIFIED:20241205T143806Z
UID:10001875-1934524800-1934557200@wilmingtonvermont.us
SUMMARY:Development Review Board
DESCRIPTION:
URL:https://wilmingtonvermont.us/event/development-review-board-2/2031-04-21/
LOCATION:Town Hall Meeting Room\, 2 East Main St\, WILMINGTON\, VT\, 053630217\, United States
END:VEVENT
END:VCALENDAR