BEGIN:VCALENDAR
VERSION:2.0
PRODID:-//Town of Wilmington - ECPv6.15.20//NONSGML v1.0//EN
CALSCALE:GREGORIAN
METHOD:PUBLISH
X-ORIGINAL-URL:https://wilmingtonvermont.us
X-WR-CALDESC:Events for Town of Wilmington
REFRESH-INTERVAL;VALUE=DURATION:PT1H
X-Robots-Tag:noindex
X-PUBLISHED-TTL:PT1H
BEGIN:VTIMEZONE
TZID:America/New_York
BEGIN:DAYLIGHT
TZOFFSETFROM:-0500
TZOFFSETTO:-0400
TZNAME:EDT
DTSTART:20290311T070000
END:DAYLIGHT
BEGIN:STANDARD
TZOFFSETFROM:-0400
TZOFFSETTO:-0500
TZNAME:EST
DTSTART:20291104T060000
END:STANDARD
BEGIN:DAYLIGHT
TZOFFSETFROM:-0500
TZOFFSETTO:-0400
TZNAME:EDT
DTSTART:20300310T070000
END:DAYLIGHT
BEGIN:STANDARD
TZOFFSETFROM:-0400
TZOFFSETTO:-0500
TZNAME:EST
DTSTART:20301103T060000
END:STANDARD
BEGIN:DAYLIGHT
TZOFFSETFROM:-0500
TZOFFSETTO:-0400
TZNAME:EDT
DTSTART:20310309T070000
END:DAYLIGHT
BEGIN:STANDARD
TZOFFSETFROM:-0400
TZOFFSETTO:-0500
TZNAME:EST
DTSTART:20311102T060000
END:STANDARD
BEGIN:DAYLIGHT
TZOFFSETFROM:-0500
TZOFFSETTO:-0400
TZNAME:EDT
DTSTART:20320314T070000
END:DAYLIGHT
BEGIN:STANDARD
TZOFFSETFROM:-0400
TZOFFSETTO:-0500
TZNAME:EST
DTSTART:20321107T060000
END:STANDARD
END:VTIMEZONE
BEGIN:VEVENT
DTSTART;TZID=America/New_York:20301028T170000
DTEND;TZID=America/New_York:20301028T180000
DTSTAMP:20260423T001322
CREATED:20241205T143317Z
LAST-MODIFIED:20250424T124719Z
UID:10001746-1919437200-1919440800@wilmingtonvermont.us
SUMMARY:Planning Commission
DESCRIPTION:
URL:https://wilmingtonvermont.us/event/planning-commission-2/2030-10-28/
LOCATION:Town Hall Meeting Room\, 2 East Main St\, WILMINGTON\, VT\, 053630217\, United States
END:VEVENT
BEGIN:VEVENT
DTSTART;TZID=America/New_York:20301104T170000
DTEND;TZID=America/New_York:20301104T190000
DTSTAMP:20260423T001322
CREATED:20241205T143435Z
LAST-MODIFIED:20241205T143911Z
UID:10001747-1920042000-1920049200@wilmingtonvermont.us
SUMMARY:Development Review Board
DESCRIPTION:
URL:https://wilmingtonvermont.us/event/development-review-board/2030-11-04/
LOCATION:Town Hall Meeting Room\, 2 East Main St\, WILMINGTON\, VT\, 053630217\, United States
END:VEVENT
BEGIN:VEVENT
DTSTART;TZID=America/New_York:20301105T180000
DTEND;TZID=America/New_York:20301105T200000
DTSTAMP:20260423T001322
CREATED:20241205T145307Z
LAST-MODIFIED:20250529T124158Z
UID:10001748-1920132000-1920139200@wilmingtonvermont.us
SUMMARY:Selectboard
DESCRIPTION:
URL:https://wilmingtonvermont.us/event/selectboard/2030-11-05/
LOCATION:Town Hall Meeting Room\, 2 East Main St\, WILMINGTON\, VT\, 053630217\, United States
END:VEVENT
BEGIN:VEVENT
DTSTART;TZID=America/New_York:20301111T090000
DTEND;TZID=America/New_York:20301111T100000
DTSTAMP:20260423T001322
CREATED:20241205T142743Z
LAST-MODIFIED:20241205T142743Z
UID:10001749-1920618000-1920621600@wilmingtonvermont.us
SUMMARY:Beautification Committee Meeting
DESCRIPTION:
URL:https://wilmingtonvermont.us/event/beautification-committee-meeting/2030-11-11/
LOCATION:Town Hall Meeting Room\, 2 East Main St\, WILMINGTON\, VT\, 053630217\, United States
END:VEVENT
BEGIN:VEVENT
DTSTART;TZID=America/New_York:20301111T170000
DTEND;TZID=America/New_York:20301111T180000
DTSTAMP:20260423T001322
CREATED:20241205T143201Z
LAST-MODIFIED:20250424T124807Z
UID:10001750-1920646800-1920650400@wilmingtonvermont.us
SUMMARY:Planning Commission
DESCRIPTION:
URL:https://wilmingtonvermont.us/event/planning-commission/2030-11-11/
LOCATION:Town Hall Meeting Room\, 2 East Main St\, WILMINGTON\, VT\, 053630217\, United States
END:VEVENT
BEGIN:VEVENT
DTSTART;TZID=America/New_York:20301114T173000
DTEND;TZID=America/New_York:20301114T183000
DTSTAMP:20260423T001322
CREATED:20241205T145808Z
LAST-MODIFIED:20250822T124908Z
UID:10001767-1920907800-1920911400@wilmingtonvermont.us
SUMMARY:Trails Committee
DESCRIPTION:
URL:https://wilmingtonvermont.us/event/trails-committee/2030-11-14/
LOCATION:Town Hall Meeting Room\, 2 East Main St\, WILMINGTON\, VT\, 053630217\, United States
END:VEVENT
BEGIN:VEVENT
DTSTART;TZID=America/New_York:20301118T080000
DTEND;TZID=America/New_York:20301118T170000
DTSTAMP:20260423T001322
CREATED:20241205T143531Z
LAST-MODIFIED:20241205T143806Z
UID:10001753-1921219200-1921251600@wilmingtonvermont.us
SUMMARY:Development Review Board
DESCRIPTION:
URL:https://wilmingtonvermont.us/event/development-review-board-2/2030-11-18/
LOCATION:Town Hall Meeting Room\, 2 East Main St\, WILMINGTON\, VT\, 053630217\, United States
END:VEVENT
BEGIN:VEVENT
DTSTART;TZID=America/New_York:20301119T180000
DTEND;TZID=America/New_York:20301119T200000
DTSTAMP:20260423T001322
CREATED:20241205T145528Z
LAST-MODIFIED:20241205T145528Z
UID:10001755-1921341600-1921348800@wilmingtonvermont.us
SUMMARY:Selectboard
DESCRIPTION:
URL:https://wilmingtonvermont.us/event/selectboard-2/2030-11-19/
LOCATION:Town Hall Meeting Room\, 2 East Main St\, WILMINGTON\, VT\, 053630217\, United States
END:VEVENT
BEGIN:VEVENT
DTSTART;TZID=America/New_York:20301125T170000
DTEND;TZID=America/New_York:20301125T180000
DTSTAMP:20260423T001322
CREATED:20241205T143317Z
LAST-MODIFIED:20250424T124719Z
UID:10001757-1921856400-1921860000@wilmingtonvermont.us
SUMMARY:Planning Commission
DESCRIPTION:
URL:https://wilmingtonvermont.us/event/planning-commission-2/2030-11-25/
LOCATION:Town Hall Meeting Room\, 2 East Main St\, WILMINGTON\, VT\, 053630217\, United States
END:VEVENT
BEGIN:VEVENT
DTSTART;TZID=America/New_York:20301202T170000
DTEND;TZID=America/New_York:20301202T190000
DTSTAMP:20260423T001322
CREATED:20241205T143435Z
LAST-MODIFIED:20241205T143911Z
UID:10001758-1922461200-1922468400@wilmingtonvermont.us
SUMMARY:Development Review Board
DESCRIPTION:
URL:https://wilmingtonvermont.us/event/development-review-board/2030-12-02/
LOCATION:Town Hall Meeting Room\, 2 East Main St\, WILMINGTON\, VT\, 053630217\, United States
END:VEVENT
BEGIN:VEVENT
DTSTART;TZID=America/New_York:20301203T180000
DTEND;TZID=America/New_York:20301203T200000
DTSTAMP:20260423T001322
CREATED:20241205T145307Z
LAST-MODIFIED:20250529T124158Z
UID:10001860-1922551200-1922558400@wilmingtonvermont.us
SUMMARY:Selectboard
DESCRIPTION:
URL:https://wilmingtonvermont.us/event/selectboard/2030-12-03/
LOCATION:Town Hall Meeting Room\, 2 East Main St\, WILMINGTON\, VT\, 053630217\, United States
END:VEVENT
BEGIN:VEVENT
DTSTART;TZID=America/New_York:20301209T090000
DTEND;TZID=America/New_York:20301209T100000
DTSTAMP:20260423T001322
CREATED:20241205T142743Z
LAST-MODIFIED:20241205T142743Z
UID:10001761-1923037200-1923040800@wilmingtonvermont.us
SUMMARY:Beautification Committee Meeting
DESCRIPTION:
URL:https://wilmingtonvermont.us/event/beautification-committee-meeting/2030-12-09/
LOCATION:Town Hall Meeting Room\, 2 East Main St\, WILMINGTON\, VT\, 053630217\, United States
END:VEVENT
BEGIN:VEVENT
DTSTART;TZID=America/New_York:20301209T170000
DTEND;TZID=America/New_York:20301209T180000
DTSTAMP:20260423T001322
CREATED:20241205T143201Z
LAST-MODIFIED:20250424T124807Z
UID:10001762-1923066000-1923069600@wilmingtonvermont.us
SUMMARY:Planning Commission
DESCRIPTION:
URL:https://wilmingtonvermont.us/event/planning-commission/2030-12-09/
LOCATION:Town Hall Meeting Room\, 2 East Main St\, WILMINGTON\, VT\, 053630217\, United States
END:VEVENT
BEGIN:VEVENT
DTSTART;TZID=America/New_York:20301212T173000
DTEND;TZID=America/New_York:20301212T183000
DTSTAMP:20260423T001322
CREATED:20241205T145808Z
LAST-MODIFIED:20250822T124908Z
UID:10001768-1923327000-1923330600@wilmingtonvermont.us
SUMMARY:Trails Committee
DESCRIPTION:
URL:https://wilmingtonvermont.us/event/trails-committee/2030-12-12/
LOCATION:Town Hall Meeting Room\, 2 East Main St\, WILMINGTON\, VT\, 053630217\, United States
END:VEVENT
BEGIN:VEVENT
DTSTART;TZID=America/New_York:20301216T080000
DTEND;TZID=America/New_York:20301216T170000
DTSTAMP:20260423T001322
CREATED:20241205T143531Z
LAST-MODIFIED:20241205T143806Z
UID:10001769-1923638400-1923670800@wilmingtonvermont.us
SUMMARY:Development Review Board
DESCRIPTION:
URL:https://wilmingtonvermont.us/event/development-review-board-2/2030-12-16/
LOCATION:Town Hall Meeting Room\, 2 East Main St\, WILMINGTON\, VT\, 053630217\, United States
END:VEVENT
BEGIN:VEVENT
DTSTART;TZID=America/New_York:20301217T180000
DTEND;TZID=America/New_York:20301217T200000
DTSTAMP:20260423T001322
CREATED:20241205T145528Z
LAST-MODIFIED:20241205T145528Z
UID:10001771-1923760800-1923768000@wilmingtonvermont.us
SUMMARY:Selectboard
DESCRIPTION:
URL:https://wilmingtonvermont.us/event/selectboard-2/2030-12-17/
LOCATION:Town Hall Meeting Room\, 2 East Main St\, WILMINGTON\, VT\, 053630217\, United States
END:VEVENT
BEGIN:VEVENT
DTSTART;TZID=America/New_York:20301223T170000
DTEND;TZID=America/New_York:20301223T180000
DTSTAMP:20260423T001322
CREATED:20241205T143317Z
LAST-MODIFIED:20250424T124719Z
UID:10001773-1924275600-1924279200@wilmingtonvermont.us
SUMMARY:Planning Commission
DESCRIPTION:
URL:https://wilmingtonvermont.us/event/planning-commission-2/2030-12-23/
LOCATION:Town Hall Meeting Room\, 2 East Main St\, WILMINGTON\, VT\, 053630217\, United States
END:VEVENT
BEGIN:VEVENT
DTSTART;TZID=America/New_York:20310106T170000
DTEND;TZID=America/New_York:20310106T190000
DTSTAMP:20260423T001322
CREATED:20241205T143435Z
LAST-MODIFIED:20241205T143911Z
UID:10001775-1925485200-1925492400@wilmingtonvermont.us
SUMMARY:Development Review Board
DESCRIPTION:
URL:https://wilmingtonvermont.us/event/development-review-board/2031-01-06/
LOCATION:Town Hall Meeting Room\, 2 East Main St\, WILMINGTON\, VT\, 053630217\, United States
END:VEVENT
BEGIN:VEVENT
DTSTART;TZID=America/New_York:20310107T180000
DTEND;TZID=America/New_York:20310107T200000
DTSTAMP:20260423T001322
CREATED:20241205T145307Z
LAST-MODIFIED:20250529T124158Z
UID:10001861-1925575200-1925582400@wilmingtonvermont.us
SUMMARY:Selectboard
DESCRIPTION:
URL:https://wilmingtonvermont.us/event/selectboard/2031-01-07/
LOCATION:Town Hall Meeting Room\, 2 East Main St\, WILMINGTON\, VT\, 053630217\, United States
END:VEVENT
BEGIN:VEVENT
DTSTART;TZID=America/New_York:20310109T173000
DTEND;TZID=America/New_York:20310109T183000
DTSTAMP:20260423T001322
CREATED:20241205T145808Z
LAST-MODIFIED:20250822T124908Z
UID:10001777-1925746200-1925749800@wilmingtonvermont.us
SUMMARY:Trails Committee
DESCRIPTION:
URL:https://wilmingtonvermont.us/event/trails-committee/2031-01-09/
LOCATION:Town Hall Meeting Room\, 2 East Main St\, WILMINGTON\, VT\, 053630217\, United States
END:VEVENT
BEGIN:VEVENT
DTSTART;TZID=America/New_York:20310113T090000
DTEND;TZID=America/New_York:20310113T100000
DTSTAMP:20260423T001322
CREATED:20241205T142743Z
LAST-MODIFIED:20241205T142743Z
UID:10001837-1926061200-1926064800@wilmingtonvermont.us
SUMMARY:Beautification Committee Meeting
DESCRIPTION:
URL:https://wilmingtonvermont.us/event/beautification-committee-meeting/2031-01-13/
LOCATION:Town Hall Meeting Room\, 2 East Main St\, WILMINGTON\, VT\, 053630217\, United States
END:VEVENT
BEGIN:VEVENT
DTSTART;TZID=America/New_York:20310113T170000
DTEND;TZID=America/New_York:20310113T180000
DTSTAMP:20260423T001322
CREATED:20241205T143201Z
LAST-MODIFIED:20250424T124807Z
UID:10001838-1926090000-1926093600@wilmingtonvermont.us
SUMMARY:Planning Commission
DESCRIPTION:
URL:https://wilmingtonvermont.us/event/planning-commission/2031-01-13/
LOCATION:Town Hall Meeting Room\, 2 East Main St\, WILMINGTON\, VT\, 053630217\, United States
END:VEVENT
BEGIN:VEVENT
DTSTART;TZID=America/New_York:20310120T080000
DTEND;TZID=America/New_York:20310120T170000
DTSTAMP:20260423T001322
CREATED:20241205T143531Z
LAST-MODIFIED:20241205T143806Z
UID:10001839-1926662400-1926694800@wilmingtonvermont.us
SUMMARY:Development Review Board
DESCRIPTION:
URL:https://wilmingtonvermont.us/event/development-review-board-2/2031-01-20/
LOCATION:Town Hall Meeting Room\, 2 East Main St\, WILMINGTON\, VT\, 053630217\, United States
END:VEVENT
BEGIN:VEVENT
DTSTART;TZID=America/New_York:20310121T180000
DTEND;TZID=America/New_York:20310121T200000
DTSTAMP:20260423T001322
CREATED:20241205T145528Z
LAST-MODIFIED:20241205T145528Z
UID:10001853-1926784800-1926792000@wilmingtonvermont.us
SUMMARY:Selectboard
DESCRIPTION:
URL:https://wilmingtonvermont.us/event/selectboard-2/2031-01-21/
LOCATION:Town Hall Meeting Room\, 2 East Main St\, WILMINGTON\, VT\, 053630217\, United States
END:VEVENT
BEGIN:VEVENT
DTSTART;TZID=America/New_York:20310127T170000
DTEND;TZID=America/New_York:20310127T180000
DTSTAMP:20260423T001322
CREATED:20241205T143317Z
LAST-MODIFIED:20250424T124719Z
UID:10001841-1927299600-1927303200@wilmingtonvermont.us
SUMMARY:Planning Commission
DESCRIPTION:
URL:https://wilmingtonvermont.us/event/planning-commission-2/2031-01-27/
LOCATION:Town Hall Meeting Room\, 2 East Main St\, WILMINGTON\, VT\, 053630217\, United States
END:VEVENT
BEGIN:VEVENT
DTSTART;TZID=America/New_York:20310203T170000
DTEND;TZID=America/New_York:20310203T190000
DTSTAMP:20260423T001322
CREATED:20241205T143435Z
LAST-MODIFIED:20241205T143911Z
UID:10001842-1927904400-1927911600@wilmingtonvermont.us
SUMMARY:Development Review Board
DESCRIPTION:
URL:https://wilmingtonvermont.us/event/development-review-board/2031-02-03/
LOCATION:Town Hall Meeting Room\, 2 East Main St\, WILMINGTON\, VT\, 053630217\, United States
END:VEVENT
BEGIN:VEVENT
DTSTART;TZID=America/New_York:20310204T180000
DTEND;TZID=America/New_York:20310204T200000
DTSTAMP:20260423T001322
CREATED:20241205T145307Z
LAST-MODIFIED:20250529T124158Z
UID:10001862-1927994400-1928001600@wilmingtonvermont.us
SUMMARY:Selectboard
DESCRIPTION:
URL:https://wilmingtonvermont.us/event/selectboard/2031-02-04/
LOCATION:Town Hall Meeting Room\, 2 East Main St\, WILMINGTON\, VT\, 053630217\, United States
END:VEVENT
BEGIN:VEVENT
DTSTART;TZID=America/New_York:20310210T090000
DTEND;TZID=America/New_York:20310210T100000
DTSTAMP:20260423T001322
CREATED:20241205T142743Z
LAST-MODIFIED:20241205T142743Z
UID:10001844-1928480400-1928484000@wilmingtonvermont.us
SUMMARY:Beautification Committee Meeting
DESCRIPTION:
URL:https://wilmingtonvermont.us/event/beautification-committee-meeting/2031-02-10/
LOCATION:Town Hall Meeting Room\, 2 East Main St\, WILMINGTON\, VT\, 053630217\, United States
END:VEVENT
BEGIN:VEVENT
DTSTART;TZID=America/New_York:20310210T170000
DTEND;TZID=America/New_York:20310210T180000
DTSTAMP:20260423T001322
CREATED:20241205T143201Z
LAST-MODIFIED:20250424T124807Z
UID:10001845-1928509200-1928512800@wilmingtonvermont.us
SUMMARY:Planning Commission
DESCRIPTION:
URL:https://wilmingtonvermont.us/event/planning-commission/2031-02-10/
LOCATION:Town Hall Meeting Room\, 2 East Main St\, WILMINGTON\, VT\, 053630217\, United States
END:VEVENT
BEGIN:VEVENT
DTSTART;TZID=America/New_York:20310213T173000
DTEND;TZID=America/New_York:20310213T183000
DTSTAMP:20260423T001322
CREATED:20241205T145808Z
LAST-MODIFIED:20250822T124908Z
UID:10001849-1928770200-1928773800@wilmingtonvermont.us
SUMMARY:Trails Committee
DESCRIPTION:
URL:https://wilmingtonvermont.us/event/trails-committee/2031-02-13/
LOCATION:Town Hall Meeting Room\, 2 East Main St\, WILMINGTON\, VT\, 053630217\, United States
END:VEVENT
END:VCALENDAR