BEGIN:VCALENDAR
VERSION:2.0
PRODID:-//Town of Wilmington - ECPv6.15.20//NONSGML v1.0//EN
CALSCALE:GREGORIAN
METHOD:PUBLISH
X-ORIGINAL-URL:https://wilmingtonvermont.us
X-WR-CALDESC:Events for Town of Wilmington
REFRESH-INTERVAL;VALUE=DURATION:PT1H
X-Robots-Tag:noindex
X-PUBLISHED-TTL:PT1H
BEGIN:VTIMEZONE
TZID:America/New_York
BEGIN:DAYLIGHT
TZOFFSETFROM:-0500
TZOFFSETTO:-0400
TZNAME:EDT
DTSTART:20290311T070000
END:DAYLIGHT
BEGIN:STANDARD
TZOFFSETFROM:-0400
TZOFFSETTO:-0500
TZNAME:EST
DTSTART:20291104T060000
END:STANDARD
BEGIN:DAYLIGHT
TZOFFSETFROM:-0500
TZOFFSETTO:-0400
TZNAME:EDT
DTSTART:20300310T070000
END:DAYLIGHT
BEGIN:STANDARD
TZOFFSETFROM:-0400
TZOFFSETTO:-0500
TZNAME:EST
DTSTART:20301103T060000
END:STANDARD
BEGIN:DAYLIGHT
TZOFFSETFROM:-0500
TZOFFSETTO:-0400
TZNAME:EDT
DTSTART:20310309T070000
END:DAYLIGHT
BEGIN:STANDARD
TZOFFSETFROM:-0400
TZOFFSETTO:-0500
TZNAME:EST
DTSTART:20311102T060000
END:STANDARD
END:VTIMEZONE
BEGIN:VEVENT
DTSTART;TZID=America/New_York:20300722T170000
DTEND;TZID=America/New_York:20300722T180000
DTSTAMP:20260422T211528
CREATED:20241205T143317Z
LAST-MODIFIED:20250424T124719Z
UID:10001629-1910970000-1910973600@wilmingtonvermont.us
SUMMARY:Planning Commission
DESCRIPTION:
URL:https://wilmingtonvermont.us/event/planning-commission-2/2030-07-22/
LOCATION:Town Hall Meeting Room\, 2 East Main St\, WILMINGTON\, VT\, 053630217\, United States
END:VEVENT
BEGIN:VEVENT
DTSTART;TZID=America/New_York:20300805T170000
DTEND;TZID=America/New_York:20300805T190000
DTSTAMP:20260422T211528
CREATED:20241205T143435Z
LAST-MODIFIED:20241205T143911Z
UID:10001708-1912179600-1912186800@wilmingtonvermont.us
SUMMARY:Development Review Board
DESCRIPTION:
URL:https://wilmingtonvermont.us/event/development-review-board/2030-08-05/
LOCATION:Town Hall Meeting Room\, 2 East Main St\, WILMINGTON\, VT\, 053630217\, United States
END:VEVENT
BEGIN:VEVENT
DTSTART;TZID=America/New_York:20300806T180000
DTEND;TZID=America/New_York:20300806T200000
DTSTAMP:20260422T211528
CREATED:20241205T145307Z
LAST-MODIFIED:20250529T124158Z
UID:10001710-1912269600-1912276800@wilmingtonvermont.us
SUMMARY:Selectboard
DESCRIPTION:
URL:https://wilmingtonvermont.us/event/selectboard/2030-08-06/
LOCATION:Town Hall Meeting Room\, 2 East Main St\, WILMINGTON\, VT\, 053630217\, United States
END:VEVENT
BEGIN:VEVENT
DTSTART;TZID=America/New_York:20300808T173000
DTEND;TZID=America/New_York:20300808T183000
DTSTAMP:20260422T211528
CREATED:20241205T145808Z
LAST-MODIFIED:20250822T124908Z
UID:10001707-1912440600-1912444200@wilmingtonvermont.us
SUMMARY:Trails Committee
DESCRIPTION:
URL:https://wilmingtonvermont.us/event/trails-committee/2030-08-08/
LOCATION:Town Hall Meeting Room\, 2 East Main St\, WILMINGTON\, VT\, 053630217\, United States
END:VEVENT
BEGIN:VEVENT
DTSTART;TZID=America/New_York:20300812T090000
DTEND;TZID=America/New_York:20300812T100000
DTSTAMP:20260422T211528
CREATED:20241205T142743Z
LAST-MODIFIED:20241205T142743Z
UID:10001713-1912755600-1912759200@wilmingtonvermont.us
SUMMARY:Beautification Committee Meeting
DESCRIPTION:
URL:https://wilmingtonvermont.us/event/beautification-committee-meeting/2030-08-12/
LOCATION:Town Hall Meeting Room\, 2 East Main St\, WILMINGTON\, VT\, 053630217\, United States
END:VEVENT
BEGIN:VEVENT
DTSTART;TZID=America/New_York:20300812T170000
DTEND;TZID=America/New_York:20300812T180000
DTSTAMP:20260422T211528
CREATED:20241205T143201Z
LAST-MODIFIED:20250424T124807Z
UID:10001715-1912784400-1912788000@wilmingtonvermont.us
SUMMARY:Planning Commission
DESCRIPTION:
URL:https://wilmingtonvermont.us/event/planning-commission/2030-08-12/
LOCATION:Town Hall Meeting Room\, 2 East Main St\, WILMINGTON\, VT\, 053630217\, United States
END:VEVENT
BEGIN:VEVENT
DTSTART;TZID=America/New_York:20300819T080000
DTEND;TZID=America/New_York:20300819T170000
DTSTAMP:20260422T211528
CREATED:20241205T143531Z
LAST-MODIFIED:20241205T143806Z
UID:10001723-1913356800-1913389200@wilmingtonvermont.us
SUMMARY:Development Review Board
DESCRIPTION:
URL:https://wilmingtonvermont.us/event/development-review-board-2/2030-08-19/
LOCATION:Town Hall Meeting Room\, 2 East Main St\, WILMINGTON\, VT\, 053630217\, United States
END:VEVENT
BEGIN:VEVENT
DTSTART;TZID=America/New_York:20300820T180000
DTEND;TZID=America/New_York:20300820T200000
DTSTAMP:20260422T211528
CREATED:20241205T145528Z
LAST-MODIFIED:20241205T145528Z
UID:10001727-1913479200-1913486400@wilmingtonvermont.us
SUMMARY:Selectboard
DESCRIPTION:
URL:https://wilmingtonvermont.us/event/selectboard-2/2030-08-20/
LOCATION:Town Hall Meeting Room\, 2 East Main St\, WILMINGTON\, VT\, 053630217\, United States
END:VEVENT
BEGIN:VEVENT
DTSTART;TZID=America/New_York:20300826T170000
DTEND;TZID=America/New_York:20300826T180000
DTSTAMP:20260422T211528
CREATED:20241205T143317Z
LAST-MODIFIED:20250424T124719Z
UID:10001731-1913994000-1913997600@wilmingtonvermont.us
SUMMARY:Planning Commission
DESCRIPTION:
URL:https://wilmingtonvermont.us/event/planning-commission-2/2030-08-26/
LOCATION:Town Hall Meeting Room\, 2 East Main St\, WILMINGTON\, VT\, 053630217\, United States
END:VEVENT
BEGIN:VEVENT
DTSTART;TZID=America/New_York:20300902T170000
DTEND;TZID=America/New_York:20300902T190000
DTSTAMP:20260422T211528
CREATED:20241205T143435Z
LAST-MODIFIED:20241205T143911Z
UID:10001709-1914598800-1914606000@wilmingtonvermont.us
SUMMARY:Development Review Board
DESCRIPTION:
URL:https://wilmingtonvermont.us/event/development-review-board/2030-09-02/
LOCATION:Town Hall Meeting Room\, 2 East Main St\, WILMINGTON\, VT\, 053630217\, United States
END:VEVENT
BEGIN:VEVENT
DTSTART;TZID=America/New_York:20300903T180000
DTEND;TZID=America/New_York:20300903T200000
DTSTAMP:20260422T211528
CREATED:20241205T145307Z
LAST-MODIFIED:20250529T124158Z
UID:10001711-1914688800-1914696000@wilmingtonvermont.us
SUMMARY:Selectboard
DESCRIPTION:
URL:https://wilmingtonvermont.us/event/selectboard/2030-09-03/
LOCATION:Town Hall Meeting Room\, 2 East Main St\, WILMINGTON\, VT\, 053630217\, United States
END:VEVENT
BEGIN:VEVENT
DTSTART;TZID=America/New_York:20300909T090000
DTEND;TZID=America/New_York:20300909T100000
DTSTAMP:20260422T211528
CREATED:20241205T142743Z
LAST-MODIFIED:20241205T142743Z
UID:10001714-1915174800-1915178400@wilmingtonvermont.us
SUMMARY:Beautification Committee Meeting
DESCRIPTION:
URL:https://wilmingtonvermont.us/event/beautification-committee-meeting/2030-09-09/
LOCATION:Town Hall Meeting Room\, 2 East Main St\, WILMINGTON\, VT\, 053630217\, United States
END:VEVENT
BEGIN:VEVENT
DTSTART;TZID=America/New_York:20300909T170000
DTEND;TZID=America/New_York:20300909T180000
DTSTAMP:20260422T211528
CREATED:20241205T143201Z
LAST-MODIFIED:20250424T124807Z
UID:10001716-1915203600-1915207200@wilmingtonvermont.us
SUMMARY:Planning Commission
DESCRIPTION:
URL:https://wilmingtonvermont.us/event/planning-commission/2030-09-09/
LOCATION:Town Hall Meeting Room\, 2 East Main St\, WILMINGTON\, VT\, 053630217\, United States
END:VEVENT
BEGIN:VEVENT
DTSTART;TZID=America/New_York:20300912T173000
DTEND;TZID=America/New_York:20300912T183000
DTSTAMP:20260422T211528
CREATED:20241205T145808Z
LAST-MODIFIED:20250822T124908Z
UID:10001722-1915464600-1915468200@wilmingtonvermont.us
SUMMARY:Trails Committee
DESCRIPTION:
URL:https://wilmingtonvermont.us/event/trails-committee/2030-09-12/
LOCATION:Town Hall Meeting Room\, 2 East Main St\, WILMINGTON\, VT\, 053630217\, United States
END:VEVENT
BEGIN:VEVENT
DTSTART;TZID=America/New_York:20300916T080000
DTEND;TZID=America/New_York:20300916T170000
DTSTAMP:20260422T211528
CREATED:20241205T143531Z
LAST-MODIFIED:20241205T143806Z
UID:10001724-1915776000-1915808400@wilmingtonvermont.us
SUMMARY:Development Review Board
DESCRIPTION:
URL:https://wilmingtonvermont.us/event/development-review-board-2/2030-09-16/
LOCATION:Town Hall Meeting Room\, 2 East Main St\, WILMINGTON\, VT\, 053630217\, United States
END:VEVENT
BEGIN:VEVENT
DTSTART;TZID=America/New_York:20300917T180000
DTEND;TZID=America/New_York:20300917T200000
DTSTAMP:20260422T211528
CREATED:20241205T145528Z
LAST-MODIFIED:20241205T145528Z
UID:10001728-1915898400-1915905600@wilmingtonvermont.us
SUMMARY:Selectboard
DESCRIPTION:
URL:https://wilmingtonvermont.us/event/selectboard-2/2030-09-17/
LOCATION:Town Hall Meeting Room\, 2 East Main St\, WILMINGTON\, VT\, 053630217\, United States
END:VEVENT
BEGIN:VEVENT
DTSTART;TZID=America/New_York:20300923T170000
DTEND;TZID=America/New_York:20300923T180000
DTSTAMP:20260422T211528
CREATED:20241205T143317Z
LAST-MODIFIED:20250424T124719Z
UID:10001732-1916413200-1916416800@wilmingtonvermont.us
SUMMARY:Planning Commission
DESCRIPTION:
URL:https://wilmingtonvermont.us/event/planning-commission-2/2030-09-23/
LOCATION:Town Hall Meeting Room\, 2 East Main St\, WILMINGTON\, VT\, 053630217\, United States
END:VEVENT
BEGIN:VEVENT
DTSTART;TZID=America/New_York:20301001T180000
DTEND;TZID=America/New_York:20301001T200000
DTSTAMP:20260422T211528
CREATED:20241205T145307Z
LAST-MODIFIED:20250529T124158Z
UID:10001733-1917108000-1917115200@wilmingtonvermont.us
SUMMARY:Selectboard
DESCRIPTION:
URL:https://wilmingtonvermont.us/event/selectboard/2030-10-01/
LOCATION:Town Hall Meeting Room\, 2 East Main St\, WILMINGTON\, VT\, 053630217\, United States
END:VEVENT
BEGIN:VEVENT
DTSTART;TZID=America/New_York:20301007T170000
DTEND;TZID=America/New_York:20301007T190000
DTSTAMP:20260422T211528
CREATED:20241205T143435Z
LAST-MODIFIED:20241205T143911Z
UID:10001735-1917622800-1917630000@wilmingtonvermont.us
SUMMARY:Development Review Board
DESCRIPTION:
URL:https://wilmingtonvermont.us/event/development-review-board/2030-10-07/
LOCATION:Town Hall Meeting Room\, 2 East Main St\, WILMINGTON\, VT\, 053630217\, United States
END:VEVENT
BEGIN:VEVENT
DTSTART;TZID=America/New_York:20301010T173000
DTEND;TZID=America/New_York:20301010T183000
DTSTAMP:20260422T211528
CREATED:20241205T145808Z
LAST-MODIFIED:20250822T124908Z
UID:10001739-1917883800-1917887400@wilmingtonvermont.us
SUMMARY:Trails Committee
DESCRIPTION:
URL:https://wilmingtonvermont.us/event/trails-committee/2030-10-10/
LOCATION:Town Hall Meeting Room\, 2 East Main St\, WILMINGTON\, VT\, 053630217\, United States
END:VEVENT
BEGIN:VEVENT
DTSTART;TZID=America/New_York:20301014T090000
DTEND;TZID=America/New_York:20301014T100000
DTSTAMP:20260422T211528
CREATED:20241205T142743Z
LAST-MODIFIED:20241205T142743Z
UID:10001740-1918198800-1918202400@wilmingtonvermont.us
SUMMARY:Beautification Committee Meeting
DESCRIPTION:
URL:https://wilmingtonvermont.us/event/beautification-committee-meeting/2030-10-14/
LOCATION:Town Hall Meeting Room\, 2 East Main St\, WILMINGTON\, VT\, 053630217\, United States
END:VEVENT
BEGIN:VEVENT
DTSTART;TZID=America/New_York:20301014T170000
DTEND;TZID=America/New_York:20301014T180000
DTSTAMP:20260422T211528
CREATED:20241205T143201Z
LAST-MODIFIED:20250424T124807Z
UID:10001741-1918227600-1918231200@wilmingtonvermont.us
SUMMARY:Planning Commission
DESCRIPTION:
URL:https://wilmingtonvermont.us/event/planning-commission/2030-10-14/
LOCATION:Town Hall Meeting Room\, 2 East Main St\, WILMINGTON\, VT\, 053630217\, United States
END:VEVENT
BEGIN:VEVENT
DTSTART;TZID=America/New_York:20301015T180000
DTEND;TZID=America/New_York:20301015T200000
DTSTAMP:20260422T211528
CREATED:20241205T145528Z
LAST-MODIFIED:20241205T145528Z
UID:10001743-1918317600-1918324800@wilmingtonvermont.us
SUMMARY:Selectboard
DESCRIPTION:
URL:https://wilmingtonvermont.us/event/selectboard-2/2030-10-15/
LOCATION:Town Hall Meeting Room\, 2 East Main St\, WILMINGTON\, VT\, 053630217\, United States
END:VEVENT
BEGIN:VEVENT
DTSTART;TZID=America/New_York:20301021T080000
DTEND;TZID=America/New_York:20301021T170000
DTSTAMP:20260422T211528
CREATED:20241205T143531Z
LAST-MODIFIED:20241205T143806Z
UID:10001744-1918800000-1918832400@wilmingtonvermont.us
SUMMARY:Development Review Board
DESCRIPTION:
URL:https://wilmingtonvermont.us/event/development-review-board-2/2030-10-21/
LOCATION:Town Hall Meeting Room\, 2 East Main St\, WILMINGTON\, VT\, 053630217\, United States
END:VEVENT
BEGIN:VEVENT
DTSTART;TZID=America/New_York:20301028T170000
DTEND;TZID=America/New_York:20301028T180000
DTSTAMP:20260422T211528
CREATED:20241205T143317Z
LAST-MODIFIED:20250424T124719Z
UID:10001746-1919437200-1919440800@wilmingtonvermont.us
SUMMARY:Planning Commission
DESCRIPTION:
URL:https://wilmingtonvermont.us/event/planning-commission-2/2030-10-28/
LOCATION:Town Hall Meeting Room\, 2 East Main St\, WILMINGTON\, VT\, 053630217\, United States
END:VEVENT
BEGIN:VEVENT
DTSTART;TZID=America/New_York:20301104T170000
DTEND;TZID=America/New_York:20301104T190000
DTSTAMP:20260422T211528
CREATED:20241205T143435Z
LAST-MODIFIED:20241205T143911Z
UID:10001747-1920042000-1920049200@wilmingtonvermont.us
SUMMARY:Development Review Board
DESCRIPTION:
URL:https://wilmingtonvermont.us/event/development-review-board/2030-11-04/
LOCATION:Town Hall Meeting Room\, 2 East Main St\, WILMINGTON\, VT\, 053630217\, United States
END:VEVENT
BEGIN:VEVENT
DTSTART;TZID=America/New_York:20301105T180000
DTEND;TZID=America/New_York:20301105T200000
DTSTAMP:20260422T211528
CREATED:20241205T145307Z
LAST-MODIFIED:20250529T124158Z
UID:10001748-1920132000-1920139200@wilmingtonvermont.us
SUMMARY:Selectboard
DESCRIPTION:
URL:https://wilmingtonvermont.us/event/selectboard/2030-11-05/
LOCATION:Town Hall Meeting Room\, 2 East Main St\, WILMINGTON\, VT\, 053630217\, United States
END:VEVENT
BEGIN:VEVENT
DTSTART;TZID=America/New_York:20301111T090000
DTEND;TZID=America/New_York:20301111T100000
DTSTAMP:20260422T211528
CREATED:20241205T142743Z
LAST-MODIFIED:20241205T142743Z
UID:10001749-1920618000-1920621600@wilmingtonvermont.us
SUMMARY:Beautification Committee Meeting
DESCRIPTION:
URL:https://wilmingtonvermont.us/event/beautification-committee-meeting/2030-11-11/
LOCATION:Town Hall Meeting Room\, 2 East Main St\, WILMINGTON\, VT\, 053630217\, United States
END:VEVENT
BEGIN:VEVENT
DTSTART;TZID=America/New_York:20301111T170000
DTEND;TZID=America/New_York:20301111T180000
DTSTAMP:20260422T211528
CREATED:20241205T143201Z
LAST-MODIFIED:20250424T124807Z
UID:10001750-1920646800-1920650400@wilmingtonvermont.us
SUMMARY:Planning Commission
DESCRIPTION:
URL:https://wilmingtonvermont.us/event/planning-commission/2030-11-11/
LOCATION:Town Hall Meeting Room\, 2 East Main St\, WILMINGTON\, VT\, 053630217\, United States
END:VEVENT
BEGIN:VEVENT
DTSTART;TZID=America/New_York:20301114T173000
DTEND;TZID=America/New_York:20301114T183000
DTSTAMP:20260422T211528
CREATED:20241205T145808Z
LAST-MODIFIED:20250822T124908Z
UID:10001767-1920907800-1920911400@wilmingtonvermont.us
SUMMARY:Trails Committee
DESCRIPTION:
URL:https://wilmingtonvermont.us/event/trails-committee/2030-11-14/
LOCATION:Town Hall Meeting Room\, 2 East Main St\, WILMINGTON\, VT\, 053630217\, United States
END:VEVENT
END:VCALENDAR