BEGIN:VCALENDAR
VERSION:2.0
PRODID:-//Town of Wilmington - ECPv6.15.20//NONSGML v1.0//EN
CALSCALE:GREGORIAN
METHOD:PUBLISH
X-WR-CALNAME:Town of Wilmington
X-ORIGINAL-URL:https://wilmingtonvermont.us
X-WR-CALDESC:Events for Town of Wilmington
REFRESH-INTERVAL;VALUE=DURATION:PT1H
X-Robots-Tag:noindex
X-PUBLISHED-TTL:PT1H
BEGIN:VTIMEZONE
TZID:America/New_York
BEGIN:DAYLIGHT
TZOFFSETFROM:-0500
TZOFFSETTO:-0400
TZNAME:EDT
DTSTART:20290311T070000
END:DAYLIGHT
BEGIN:STANDARD
TZOFFSETFROM:-0400
TZOFFSETTO:-0500
TZNAME:EST
DTSTART:20291104T060000
END:STANDARD
BEGIN:DAYLIGHT
TZOFFSETFROM:-0500
TZOFFSETTO:-0400
TZNAME:EDT
DTSTART:20300310T070000
END:DAYLIGHT
BEGIN:STANDARD
TZOFFSETFROM:-0400
TZOFFSETTO:-0500
TZNAME:EST
DTSTART:20301103T060000
END:STANDARD
BEGIN:DAYLIGHT
TZOFFSETFROM:-0500
TZOFFSETTO:-0400
TZNAME:EDT
DTSTART:20310309T070000
END:DAYLIGHT
BEGIN:STANDARD
TZOFFSETFROM:-0400
TZOFFSETTO:-0500
TZNAME:EST
DTSTART:20311102T060000
END:STANDARD
END:VTIMEZONE
BEGIN:VEVENT
DTSTART;TZID=America/New_York:20300422T170000
DTEND;TZID=America/New_York:20300422T180000
DTSTAMP:20260422T181128
CREATED:20241205T143317Z
LAST-MODIFIED:20250424T124719Z
UID:10001409-1903107600-1903111200@wilmingtonvermont.us
SUMMARY:Planning Commission
DESCRIPTION:
URL:https://wilmingtonvermont.us/event/planning-commission-2/2030-04-22/
LOCATION:Town Hall Meeting Room\, 2 East Main St\, WILMINGTON\, VT\, 053630217\, United States
END:VEVENT
BEGIN:VEVENT
DTSTART;TZID=America/New_York:20300506T170000
DTEND;TZID=America/New_York:20300506T190000
DTSTAMP:20260422T181128
CREATED:20241205T143435Z
LAST-MODIFIED:20241205T143911Z
UID:10001554-1904317200-1904324400@wilmingtonvermont.us
SUMMARY:Development Review Board
DESCRIPTION:
URL:https://wilmingtonvermont.us/event/development-review-board/2030-05-06/
LOCATION:Town Hall Meeting Room\, 2 East Main St\, WILMINGTON\, VT\, 053630217\, United States
END:VEVENT
BEGIN:VEVENT
DTSTART;TZID=America/New_York:20300507T180000
DTEND;TZID=America/New_York:20300507T200000
DTSTAMP:20260422T181128
CREATED:20241205T145307Z
LAST-MODIFIED:20250529T124158Z
UID:10001549-1904407200-1904414400@wilmingtonvermont.us
SUMMARY:Selectboard
DESCRIPTION:
URL:https://wilmingtonvermont.us/event/selectboard/2030-05-07/
LOCATION:Town Hall Meeting Room\, 2 East Main St\, WILMINGTON\, VT\, 053630217\, United States
END:VEVENT
BEGIN:VEVENT
DTSTART;TZID=America/New_York:20300509T173000
DTEND;TZID=America/New_York:20300509T183000
DTSTAMP:20260422T181128
CREATED:20241205T145808Z
LAST-MODIFIED:20250822T124908Z
UID:10001704-1904578200-1904581800@wilmingtonvermont.us
SUMMARY:Trails Committee
DESCRIPTION:
URL:https://wilmingtonvermont.us/event/trails-committee/2030-05-09/
LOCATION:Town Hall Meeting Room\, 2 East Main St\, WILMINGTON\, VT\, 053630217\, United States
END:VEVENT
BEGIN:VEVENT
DTSTART;TZID=America/New_York:20300513T090000
DTEND;TZID=America/New_York:20300513T100000
DTSTAMP:20260422T181128
CREATED:20241205T142743Z
LAST-MODIFIED:20241205T142743Z
UID:10001562-1904893200-1904896800@wilmingtonvermont.us
SUMMARY:Beautification Committee Meeting
DESCRIPTION:
URL:https://wilmingtonvermont.us/event/beautification-committee-meeting/2030-05-13/
LOCATION:Town Hall Meeting Room\, 2 East Main St\, WILMINGTON\, VT\, 053630217\, United States
END:VEVENT
BEGIN:VEVENT
DTSTART;TZID=America/New_York:20300513T170000
DTEND;TZID=America/New_York:20300513T180000
DTSTAMP:20260422T181128
CREATED:20241205T143201Z
LAST-MODIFIED:20250424T124807Z
UID:10001563-1904922000-1904925600@wilmingtonvermont.us
SUMMARY:Planning Commission
DESCRIPTION:
URL:https://wilmingtonvermont.us/event/planning-commission/2030-05-13/
LOCATION:Town Hall Meeting Room\, 2 East Main St\, WILMINGTON\, VT\, 053630217\, United States
END:VEVENT
BEGIN:VEVENT
DTSTART;TZID=America/New_York:20300520T080000
DTEND;TZID=America/New_York:20300520T170000
DTSTAMP:20260422T181128
CREATED:20241205T143531Z
LAST-MODIFIED:20241205T143806Z
UID:10001593-1905494400-1905526800@wilmingtonvermont.us
SUMMARY:Development Review Board
DESCRIPTION:
URL:https://wilmingtonvermont.us/event/development-review-board-2/2030-05-20/
LOCATION:Town Hall Meeting Room\, 2 East Main St\, WILMINGTON\, VT\, 053630217\, United States
END:VEVENT
BEGIN:VEVENT
DTSTART;TZID=America/New_York:20300521T180000
DTEND;TZID=America/New_York:20300521T200000
DTSTAMP:20260422T181128
CREATED:20241205T145528Z
LAST-MODIFIED:20241205T145528Z
UID:10001607-1905616800-1905624000@wilmingtonvermont.us
SUMMARY:Selectboard
DESCRIPTION:
URL:https://wilmingtonvermont.us/event/selectboard-2/2030-05-21/
LOCATION:Town Hall Meeting Room\, 2 East Main St\, WILMINGTON\, VT\, 053630217\, United States
END:VEVENT
BEGIN:VEVENT
DTSTART;TZID=America/New_York:20300527T170000
DTEND;TZID=America/New_York:20300527T180000
DTSTAMP:20260422T181128
CREATED:20241205T143317Z
LAST-MODIFIED:20250424T124719Z
UID:10001612-1906131600-1906135200@wilmingtonvermont.us
SUMMARY:Planning Commission
DESCRIPTION:
URL:https://wilmingtonvermont.us/event/planning-commission-2/2030-05-27/
LOCATION:Town Hall Meeting Room\, 2 East Main St\, WILMINGTON\, VT\, 053630217\, United States
END:VEVENT
BEGIN:VEVENT
DTSTART;TZID=America/New_York:20300603T170000
DTEND;TZID=America/New_York:20300603T190000
DTSTAMP:20260422T181128
CREATED:20241205T143435Z
LAST-MODIFIED:20241205T143911Z
UID:10001555-1906736400-1906743600@wilmingtonvermont.us
SUMMARY:Development Review Board
DESCRIPTION:
URL:https://wilmingtonvermont.us/event/development-review-board/2030-06-03/
LOCATION:Town Hall Meeting Room\, 2 East Main St\, WILMINGTON\, VT\, 053630217\, United States
END:VEVENT
BEGIN:VEVENT
DTSTART;TZID=America/New_York:20300604T180000
DTEND;TZID=America/New_York:20300604T200000
DTSTAMP:20260422T181128
CREATED:20241205T145307Z
LAST-MODIFIED:20250529T124158Z
UID:10001556-1906826400-1906833600@wilmingtonvermont.us
SUMMARY:Selectboard
DESCRIPTION:
URL:https://wilmingtonvermont.us/event/selectboard/2030-06-04/
LOCATION:Town Hall Meeting Room\, 2 East Main St\, WILMINGTON\, VT\, 053630217\, United States
END:VEVENT
BEGIN:VEVENT
DTSTART;TZID=America/New_York:20300610T090000
DTEND;TZID=America/New_York:20300610T100000
DTSTAMP:20260422T181128
CREATED:20241205T142743Z
LAST-MODIFIED:20241205T142743Z
UID:10001619-1907312400-1907316000@wilmingtonvermont.us
SUMMARY:Beautification Committee Meeting
DESCRIPTION:
URL:https://wilmingtonvermont.us/event/beautification-committee-meeting/2030-06-10/
LOCATION:Town Hall Meeting Room\, 2 East Main St\, WILMINGTON\, VT\, 053630217\, United States
END:VEVENT
BEGIN:VEVENT
DTSTART;TZID=America/New_York:20300610T170000
DTEND;TZID=America/New_York:20300610T180000
DTSTAMP:20260422T181128
CREATED:20241205T143201Z
LAST-MODIFIED:20250424T124807Z
UID:10001564-1907341200-1907344800@wilmingtonvermont.us
SUMMARY:Planning Commission
DESCRIPTION:
URL:https://wilmingtonvermont.us/event/planning-commission/2030-06-10/
LOCATION:Town Hall Meeting Room\, 2 East Main St\, WILMINGTON\, VT\, 053630217\, United States
END:VEVENT
BEGIN:VEVENT
DTSTART;TZID=America/New_York:20300613T173000
DTEND;TZID=America/New_York:20300613T183000
DTSTAMP:20260422T181128
CREATED:20241205T145808Z
LAST-MODIFIED:20250822T124908Z
UID:10001705-1907602200-1907605800@wilmingtonvermont.us
SUMMARY:Trails Committee
DESCRIPTION:
URL:https://wilmingtonvermont.us/event/trails-committee/2030-06-13/
LOCATION:Town Hall Meeting Room\, 2 East Main St\, WILMINGTON\, VT\, 053630217\, United States
END:VEVENT
BEGIN:VEVENT
DTSTART;TZID=America/New_York:20300617T080000
DTEND;TZID=America/New_York:20300617T170000
DTSTAMP:20260422T181128
CREATED:20241205T143531Z
LAST-MODIFIED:20241205T143806Z
UID:10001594-1907913600-1907946000@wilmingtonvermont.us
SUMMARY:Development Review Board
DESCRIPTION:
URL:https://wilmingtonvermont.us/event/development-review-board-2/2030-06-17/
LOCATION:Town Hall Meeting Room\, 2 East Main St\, WILMINGTON\, VT\, 053630217\, United States
END:VEVENT
BEGIN:VEVENT
DTSTART;TZID=America/New_York:20300618T180000
DTEND;TZID=America/New_York:20300618T200000
DTSTAMP:20260422T181128
CREATED:20241205T145528Z
LAST-MODIFIED:20241205T145528Z
UID:10001608-1908036000-1908043200@wilmingtonvermont.us
SUMMARY:Selectboard
DESCRIPTION:
URL:https://wilmingtonvermont.us/event/selectboard-2/2030-06-18/
LOCATION:Town Hall Meeting Room\, 2 East Main St\, WILMINGTON\, VT\, 053630217\, United States
END:VEVENT
BEGIN:VEVENT
DTSTART;TZID=America/New_York:20300624T170000
DTEND;TZID=America/New_York:20300624T180000
DTSTAMP:20260422T181128
CREATED:20241205T143317Z
LAST-MODIFIED:20250424T124719Z
UID:10001613-1908550800-1908554400@wilmingtonvermont.us
SUMMARY:Planning Commission
DESCRIPTION:
URL:https://wilmingtonvermont.us/event/planning-commission-2/2030-06-24/
LOCATION:Town Hall Meeting Room\, 2 East Main St\, WILMINGTON\, VT\, 053630217\, United States
END:VEVENT
BEGIN:VEVENT
DTSTART;TZID=America/New_York:20300701T170000
DTEND;TZID=America/New_York:20300701T190000
DTSTAMP:20260422T181128
CREATED:20241205T143435Z
LAST-MODIFIED:20241205T143911Z
UID:10001614-1909155600-1909162800@wilmingtonvermont.us
SUMMARY:Development Review Board
DESCRIPTION:
URL:https://wilmingtonvermont.us/event/development-review-board/2030-07-01/
LOCATION:Town Hall Meeting Room\, 2 East Main St\, WILMINGTON\, VT\, 053630217\, United States
END:VEVENT
BEGIN:VEVENT
DTSTART;TZID=America/New_York:20300702T180000
DTEND;TZID=America/New_York:20300702T200000
DTSTAMP:20260422T181128
CREATED:20241205T145307Z
LAST-MODIFIED:20250529T124158Z
UID:10001615-1909245600-1909252800@wilmingtonvermont.us
SUMMARY:Selectboard
DESCRIPTION:
URL:https://wilmingtonvermont.us/event/selectboard/2030-07-02/
LOCATION:Town Hall Meeting Room\, 2 East Main St\, WILMINGTON\, VT\, 053630217\, United States
END:VEVENT
BEGIN:VEVENT
DTSTART;TZID=America/New_York:20300708T090000
DTEND;TZID=America/New_York:20300708T100000
DTSTAMP:20260422T181128
CREATED:20241205T142743Z
LAST-MODIFIED:20241205T142743Z
UID:10001620-1909731600-1909735200@wilmingtonvermont.us
SUMMARY:Beautification Committee Meeting
DESCRIPTION:
URL:https://wilmingtonvermont.us/event/beautification-committee-meeting/2030-07-08/
LOCATION:Town Hall Meeting Room\, 2 East Main St\, WILMINGTON\, VT\, 053630217\, United States
END:VEVENT
BEGIN:VEVENT
DTSTART;TZID=America/New_York:20300708T170000
DTEND;TZID=America/New_York:20300708T180000
DTSTAMP:20260422T181128
CREATED:20241205T143201Z
LAST-MODIFIED:20250424T124807Z
UID:10001621-1909760400-1909764000@wilmingtonvermont.us
SUMMARY:Planning Commission
DESCRIPTION:
URL:https://wilmingtonvermont.us/event/planning-commission/2030-07-08/
LOCATION:Town Hall Meeting Room\, 2 East Main St\, WILMINGTON\, VT\, 053630217\, United States
END:VEVENT
BEGIN:VEVENT
DTSTART;TZID=America/New_York:20300711T173000
DTEND;TZID=America/New_York:20300711T183000
DTSTAMP:20260422T181128
CREATED:20241205T145808Z
LAST-MODIFIED:20250822T124908Z
UID:10001706-1910021400-1910025000@wilmingtonvermont.us
SUMMARY:Trails Committee
DESCRIPTION:
URL:https://wilmingtonvermont.us/event/trails-committee/2030-07-11/
LOCATION:Town Hall Meeting Room\, 2 East Main St\, WILMINGTON\, VT\, 053630217\, United States
END:VEVENT
BEGIN:VEVENT
DTSTART;TZID=America/New_York:20300715T080000
DTEND;TZID=America/New_York:20300715T170000
DTSTAMP:20260422T181128
CREATED:20241205T143531Z
LAST-MODIFIED:20241205T143806Z
UID:10001624-1910332800-1910365200@wilmingtonvermont.us
SUMMARY:Development Review Board
DESCRIPTION:
URL:https://wilmingtonvermont.us/event/development-review-board-2/2030-07-15/
LOCATION:Town Hall Meeting Room\, 2 East Main St\, WILMINGTON\, VT\, 053630217\, United States
END:VEVENT
BEGIN:VEVENT
DTSTART;TZID=America/New_York:20300716T180000
DTEND;TZID=America/New_York:20300716T200000
DTSTAMP:20260422T181128
CREATED:20241205T145528Z
LAST-MODIFIED:20241205T145528Z
UID:10001626-1910455200-1910462400@wilmingtonvermont.us
SUMMARY:Selectboard
DESCRIPTION:
URL:https://wilmingtonvermont.us/event/selectboard-2/2030-07-16/
LOCATION:Town Hall Meeting Room\, 2 East Main St\, WILMINGTON\, VT\, 053630217\, United States
END:VEVENT
BEGIN:VEVENT
DTSTART;TZID=America/New_York:20300722T170000
DTEND;TZID=America/New_York:20300722T180000
DTSTAMP:20260422T181128
CREATED:20241205T143317Z
LAST-MODIFIED:20250424T124719Z
UID:10001629-1910970000-1910973600@wilmingtonvermont.us
SUMMARY:Planning Commission
DESCRIPTION:
URL:https://wilmingtonvermont.us/event/planning-commission-2/2030-07-22/
LOCATION:Town Hall Meeting Room\, 2 East Main St\, WILMINGTON\, VT\, 053630217\, United States
END:VEVENT
BEGIN:VEVENT
DTSTART;TZID=America/New_York:20300805T170000
DTEND;TZID=America/New_York:20300805T190000
DTSTAMP:20260422T181128
CREATED:20241205T143435Z
LAST-MODIFIED:20241205T143911Z
UID:10001708-1912179600-1912186800@wilmingtonvermont.us
SUMMARY:Development Review Board
DESCRIPTION:
URL:https://wilmingtonvermont.us/event/development-review-board/2030-08-05/
LOCATION:Town Hall Meeting Room\, 2 East Main St\, WILMINGTON\, VT\, 053630217\, United States
END:VEVENT
BEGIN:VEVENT
DTSTART;TZID=America/New_York:20300806T180000
DTEND;TZID=America/New_York:20300806T200000
DTSTAMP:20260422T181128
CREATED:20241205T145307Z
LAST-MODIFIED:20250529T124158Z
UID:10001710-1912269600-1912276800@wilmingtonvermont.us
SUMMARY:Selectboard
DESCRIPTION:
URL:https://wilmingtonvermont.us/event/selectboard/2030-08-06/
LOCATION:Town Hall Meeting Room\, 2 East Main St\, WILMINGTON\, VT\, 053630217\, United States
END:VEVENT
BEGIN:VEVENT
DTSTART;TZID=America/New_York:20300808T173000
DTEND;TZID=America/New_York:20300808T183000
DTSTAMP:20260422T181128
CREATED:20241205T145808Z
LAST-MODIFIED:20250822T124908Z
UID:10001707-1912440600-1912444200@wilmingtonvermont.us
SUMMARY:Trails Committee
DESCRIPTION:
URL:https://wilmingtonvermont.us/event/trails-committee/2030-08-08/
LOCATION:Town Hall Meeting Room\, 2 East Main St\, WILMINGTON\, VT\, 053630217\, United States
END:VEVENT
BEGIN:VEVENT
DTSTART;TZID=America/New_York:20300812T090000
DTEND;TZID=America/New_York:20300812T100000
DTSTAMP:20260422T181128
CREATED:20241205T142743Z
LAST-MODIFIED:20241205T142743Z
UID:10001713-1912755600-1912759200@wilmingtonvermont.us
SUMMARY:Beautification Committee Meeting
DESCRIPTION:
URL:https://wilmingtonvermont.us/event/beautification-committee-meeting/2030-08-12/
LOCATION:Town Hall Meeting Room\, 2 East Main St\, WILMINGTON\, VT\, 053630217\, United States
END:VEVENT
BEGIN:VEVENT
DTSTART;TZID=America/New_York:20300812T170000
DTEND;TZID=America/New_York:20300812T180000
DTSTAMP:20260422T181128
CREATED:20241205T143201Z
LAST-MODIFIED:20250424T124807Z
UID:10001715-1912784400-1912788000@wilmingtonvermont.us
SUMMARY:Planning Commission
DESCRIPTION:
URL:https://wilmingtonvermont.us/event/planning-commission/2030-08-12/
LOCATION:Town Hall Meeting Room\, 2 East Main St\, WILMINGTON\, VT\, 053630217\, United States
END:VEVENT
END:VCALENDAR