BEGIN:VCALENDAR
VERSION:2.0
PRODID:-//Town of Wilmington - ECPv6.15.20//NONSGML v1.0//EN
CALSCALE:GREGORIAN
METHOD:PUBLISH
X-WR-CALNAME:Town of Wilmington
X-ORIGINAL-URL:https://wilmingtonvermont.us
X-WR-CALDESC:Events for Town of Wilmington
REFRESH-INTERVAL;VALUE=DURATION:PT1H
X-Robots-Tag:noindex
X-PUBLISHED-TTL:PT1H
BEGIN:VTIMEZONE
TZID:America/New_York
BEGIN:DAYLIGHT
TZOFFSETFROM:-0500
TZOFFSETTO:-0400
TZNAME:EDT
DTSTART:20280312T070000
END:DAYLIGHT
BEGIN:STANDARD
TZOFFSETFROM:-0400
TZOFFSETTO:-0500
TZNAME:EST
DTSTART:20281105T060000
END:STANDARD
BEGIN:DAYLIGHT
TZOFFSETFROM:-0500
TZOFFSETTO:-0400
TZNAME:EDT
DTSTART:20290311T070000
END:DAYLIGHT
BEGIN:STANDARD
TZOFFSETFROM:-0400
TZOFFSETTO:-0500
TZNAME:EST
DTSTART:20291104T060000
END:STANDARD
BEGIN:DAYLIGHT
TZOFFSETFROM:-0500
TZOFFSETTO:-0400
TZNAME:EDT
DTSTART:20300310T070000
END:DAYLIGHT
BEGIN:STANDARD
TZOFFSETFROM:-0400
TZOFFSETTO:-0500
TZNAME:EST
DTSTART:20301103T060000
END:STANDARD
BEGIN:DAYLIGHT
TZOFFSETFROM:-0500
TZOFFSETTO:-0400
TZNAME:EDT
DTSTART:20310309T070000
END:DAYLIGHT
BEGIN:STANDARD
TZOFFSETFROM:-0400
TZOFFSETTO:-0500
TZNAME:EST
DTSTART:20311102T060000
END:STANDARD
END:VTIMEZONE
BEGIN:VEVENT
DTSTART;TZID=America/New_York:20291210T170000
DTEND;TZID=America/New_York:20291210T180000
DTSTAMP:20260422T130730
CREATED:20241205T143201Z
LAST-MODIFIED:20250424T124807Z
UID:10001470-1891616400-1891620000@wilmingtonvermont.us
SUMMARY:Planning Commission
DESCRIPTION:
URL:https://wilmingtonvermont.us/event/planning-commission/2029-12-10/
LOCATION:Town Hall Meeting Room\, 2 East Main St\, WILMINGTON\, VT\, 053630217\, United States
END:VEVENT
BEGIN:VEVENT
DTSTART;TZID=America/New_York:20291213T173000
DTEND;TZID=America/New_York:20291213T183000
DTSTAMP:20260422T130730
CREATED:20241205T145808Z
LAST-MODIFIED:20250822T124908Z
UID:10001699-1891877400-1891881000@wilmingtonvermont.us
SUMMARY:Trails Committee
DESCRIPTION:
URL:https://wilmingtonvermont.us/event/trails-committee/2029-12-13/
LOCATION:Town Hall Meeting Room\, 2 East Main St\, WILMINGTON\, VT\, 053630217\, United States
END:VEVENT
BEGIN:VEVENT
DTSTART;TZID=America/New_York:20291217T080000
DTEND;TZID=America/New_York:20291217T170000
DTSTAMP:20260422T130730
CREATED:20241205T143531Z
LAST-MODIFIED:20241205T143806Z
UID:10001588-1892188800-1892221200@wilmingtonvermont.us
SUMMARY:Development Review Board
DESCRIPTION:
URL:https://wilmingtonvermont.us/event/development-review-board-2/2029-12-17/
LOCATION:Town Hall Meeting Room\, 2 East Main St\, WILMINGTON\, VT\, 053630217\, United States
END:VEVENT
BEGIN:VEVENT
DTSTART;TZID=America/New_York:20291218T180000
DTEND;TZID=America/New_York:20291218T200000
DTSTAMP:20260422T130730
CREATED:20241205T145528Z
LAST-MODIFIED:20241205T145528Z
UID:10001602-1892311200-1892318400@wilmingtonvermont.us
SUMMARY:Selectboard
DESCRIPTION:
URL:https://wilmingtonvermont.us/event/selectboard-2/2029-12-18/
LOCATION:Town Hall Meeting Room\, 2 East Main St\, WILMINGTON\, VT\, 053630217\, United States
END:VEVENT
BEGIN:VEVENT
DTSTART;TZID=America/New_York:20291224T170000
DTEND;TZID=America/New_York:20291224T180000
DTSTAMP:20260422T130730
CREATED:20241205T143317Z
LAST-MODIFIED:20250424T124719Z
UID:10001405-1892826000-1892829600@wilmingtonvermont.us
SUMMARY:Planning Commission
DESCRIPTION:
URL:https://wilmingtonvermont.us/event/planning-commission-2/2029-12-24/
LOCATION:Town Hall Meeting Room\, 2 East Main St\, WILMINGTON\, VT\, 053630217\, United States
END:VEVENT
BEGIN:VEVENT
DTSTART;TZID=America/New_York:20300101T180000
DTEND;TZID=America/New_York:20300101T200000
DTSTAMP:20260422T130730
CREATED:20241205T145307Z
LAST-MODIFIED:20250529T124158Z
UID:10001545-1893520800-1893528000@wilmingtonvermont.us
SUMMARY:Selectboard
DESCRIPTION:
URL:https://wilmingtonvermont.us/event/selectboard/2030-01-01/
LOCATION:Town Hall Meeting Room\, 2 East Main St\, WILMINGTON\, VT\, 053630217\, United States
END:VEVENT
BEGIN:VEVENT
DTSTART;TZID=America/New_York:20300107T170000
DTEND;TZID=America/New_York:20300107T190000
DTSTAMP:20260422T130730
CREATED:20241205T143435Z
LAST-MODIFIED:20241205T143911Z
UID:10001550-1894035600-1894042800@wilmingtonvermont.us
SUMMARY:Development Review Board
DESCRIPTION:
URL:https://wilmingtonvermont.us/event/development-review-board/2030-01-07/
LOCATION:Town Hall Meeting Room\, 2 East Main St\, WILMINGTON\, VT\, 053630217\, United States
END:VEVENT
BEGIN:VEVENT
DTSTART;TZID=America/New_York:20300110T173000
DTEND;TZID=America/New_York:20300110T183000
DTSTAMP:20260422T130730
CREATED:20241205T145808Z
LAST-MODIFIED:20250822T124908Z
UID:10001700-1894296600-1894300200@wilmingtonvermont.us
SUMMARY:Trails Committee
DESCRIPTION:
URL:https://wilmingtonvermont.us/event/trails-committee/2030-01-10/
LOCATION:Town Hall Meeting Room\, 2 East Main St\, WILMINGTON\, VT\, 053630217\, United States
END:VEVENT
BEGIN:VEVENT
DTSTART;TZID=America/New_York:20300114T090000
DTEND;TZID=America/New_York:20300114T100000
DTSTAMP:20260422T130730
CREATED:20241205T142743Z
LAST-MODIFIED:20241205T142743Z
UID:10001558-1894611600-1894615200@wilmingtonvermont.us
SUMMARY:Beautification Committee Meeting
DESCRIPTION:
URL:https://wilmingtonvermont.us/event/beautification-committee-meeting/2030-01-14/
LOCATION:Town Hall Meeting Room\, 2 East Main St\, WILMINGTON\, VT\, 053630217\, United States
END:VEVENT
BEGIN:VEVENT
DTSTART;TZID=America/New_York:20300114T170000
DTEND;TZID=America/New_York:20300114T180000
DTSTAMP:20260422T130730
CREATED:20241205T143201Z
LAST-MODIFIED:20250424T124807Z
UID:10001471-1894640400-1894644000@wilmingtonvermont.us
SUMMARY:Planning Commission
DESCRIPTION:
URL:https://wilmingtonvermont.us/event/planning-commission/2030-01-14/
LOCATION:Town Hall Meeting Room\, 2 East Main St\, WILMINGTON\, VT\, 053630217\, United States
END:VEVENT
BEGIN:VEVENT
DTSTART;TZID=America/New_York:20300115T180000
DTEND;TZID=America/New_York:20300115T200000
DTSTAMP:20260422T130730
CREATED:20241205T145528Z
LAST-MODIFIED:20241205T145528Z
UID:10001603-1894730400-1894737600@wilmingtonvermont.us
SUMMARY:Selectboard
DESCRIPTION:
URL:https://wilmingtonvermont.us/event/selectboard-2/2030-01-15/
LOCATION:Town Hall Meeting Room\, 2 East Main St\, WILMINGTON\, VT\, 053630217\, United States
END:VEVENT
BEGIN:VEVENT
DTSTART;TZID=America/New_York:20300121T080000
DTEND;TZID=America/New_York:20300121T170000
DTSTAMP:20260422T130730
CREATED:20241205T143531Z
LAST-MODIFIED:20241205T143806Z
UID:10001589-1895212800-1895245200@wilmingtonvermont.us
SUMMARY:Development Review Board
DESCRIPTION:
URL:https://wilmingtonvermont.us/event/development-review-board-2/2030-01-21/
LOCATION:Town Hall Meeting Room\, 2 East Main St\, WILMINGTON\, VT\, 053630217\, United States
END:VEVENT
BEGIN:VEVENT
DTSTART;TZID=America/New_York:20300128T170000
DTEND;TZID=America/New_York:20300128T180000
DTSTAMP:20260422T130730
CREATED:20241205T143317Z
LAST-MODIFIED:20250424T124719Z
UID:10001406-1895850000-1895853600@wilmingtonvermont.us
SUMMARY:Planning Commission
DESCRIPTION:
URL:https://wilmingtonvermont.us/event/planning-commission-2/2030-01-28/
LOCATION:Town Hall Meeting Room\, 2 East Main St\, WILMINGTON\, VT\, 053630217\, United States
END:VEVENT
BEGIN:VEVENT
DTSTART;TZID=America/New_York:20300204T170000
DTEND;TZID=America/New_York:20300204T190000
DTSTAMP:20260422T130730
CREATED:20241205T143435Z
LAST-MODIFIED:20241205T143911Z
UID:10001551-1896454800-1896462000@wilmingtonvermont.us
SUMMARY:Development Review Board
DESCRIPTION:
URL:https://wilmingtonvermont.us/event/development-review-board/2030-02-04/
LOCATION:Town Hall Meeting Room\, 2 East Main St\, WILMINGTON\, VT\, 053630217\, United States
END:VEVENT
BEGIN:VEVENT
DTSTART;TZID=America/New_York:20300205T180000
DTEND;TZID=America/New_York:20300205T200000
DTSTAMP:20260422T130730
CREATED:20241205T145307Z
LAST-MODIFIED:20250529T124158Z
UID:10001546-1896544800-1896552000@wilmingtonvermont.us
SUMMARY:Selectboard
DESCRIPTION:
URL:https://wilmingtonvermont.us/event/selectboard/2030-02-05/
LOCATION:Town Hall Meeting Room\, 2 East Main St\, WILMINGTON\, VT\, 053630217\, United States
END:VEVENT
BEGIN:VEVENT
DTSTART;TZID=America/New_York:20300211T090000
DTEND;TZID=America/New_York:20300211T100000
DTSTAMP:20260422T130730
CREATED:20241205T142743Z
LAST-MODIFIED:20241205T142743Z
UID:10001559-1897030800-1897034400@wilmingtonvermont.us
SUMMARY:Beautification Committee Meeting
DESCRIPTION:
URL:https://wilmingtonvermont.us/event/beautification-committee-meeting/2030-02-11/
LOCATION:Town Hall Meeting Room\, 2 East Main St\, WILMINGTON\, VT\, 053630217\, United States
END:VEVENT
BEGIN:VEVENT
DTSTART;TZID=America/New_York:20300211T170000
DTEND;TZID=America/New_York:20300211T180000
DTSTAMP:20260422T130730
CREATED:20241205T143201Z
LAST-MODIFIED:20250424T124807Z
UID:10001472-1897059600-1897063200@wilmingtonvermont.us
SUMMARY:Planning Commission
DESCRIPTION:
URL:https://wilmingtonvermont.us/event/planning-commission/2030-02-11/
LOCATION:Town Hall Meeting Room\, 2 East Main St\, WILMINGTON\, VT\, 053630217\, United States
END:VEVENT
BEGIN:VEVENT
DTSTART;TZID=America/New_York:20300214T173000
DTEND;TZID=America/New_York:20300214T183000
DTSTAMP:20260422T130730
CREATED:20241205T145808Z
LAST-MODIFIED:20250822T124908Z
UID:10001701-1897320600-1897324200@wilmingtonvermont.us
SUMMARY:Trails Committee
DESCRIPTION:
URL:https://wilmingtonvermont.us/event/trails-committee/2030-02-14/
LOCATION:Town Hall Meeting Room\, 2 East Main St\, WILMINGTON\, VT\, 053630217\, United States
END:VEVENT
BEGIN:VEVENT
DTSTART;TZID=America/New_York:20300218T080000
DTEND;TZID=America/New_York:20300218T170000
DTSTAMP:20260422T130730
CREATED:20241205T143531Z
LAST-MODIFIED:20241205T143806Z
UID:10001590-1897632000-1897664400@wilmingtonvermont.us
SUMMARY:Development Review Board
DESCRIPTION:
URL:https://wilmingtonvermont.us/event/development-review-board-2/2030-02-18/
LOCATION:Town Hall Meeting Room\, 2 East Main St\, WILMINGTON\, VT\, 053630217\, United States
END:VEVENT
BEGIN:VEVENT
DTSTART;TZID=America/New_York:20300219T180000
DTEND;TZID=America/New_York:20300219T200000
DTSTAMP:20260422T130730
CREATED:20241205T145528Z
LAST-MODIFIED:20241205T145528Z
UID:10001604-1897754400-1897761600@wilmingtonvermont.us
SUMMARY:Selectboard
DESCRIPTION:
URL:https://wilmingtonvermont.us/event/selectboard-2/2030-02-19/
LOCATION:Town Hall Meeting Room\, 2 East Main St\, WILMINGTON\, VT\, 053630217\, United States
END:VEVENT
BEGIN:VEVENT
DTSTART;TZID=America/New_York:20300225T170000
DTEND;TZID=America/New_York:20300225T180000
DTSTAMP:20260422T130730
CREATED:20241205T143317Z
LAST-MODIFIED:20250424T124719Z
UID:10001407-1898269200-1898272800@wilmingtonvermont.us
SUMMARY:Planning Commission
DESCRIPTION:
URL:https://wilmingtonvermont.us/event/planning-commission-2/2030-02-25/
LOCATION:Town Hall Meeting Room\, 2 East Main St\, WILMINGTON\, VT\, 053630217\, United States
END:VEVENT
BEGIN:VEVENT
DTSTART;TZID=America/New_York:20300304T170000
DTEND;TZID=America/New_York:20300304T190000
DTSTAMP:20260422T130730
CREATED:20241205T143435Z
LAST-MODIFIED:20241205T143911Z
UID:10001552-1898874000-1898881200@wilmingtonvermont.us
SUMMARY:Development Review Board
DESCRIPTION:
URL:https://wilmingtonvermont.us/event/development-review-board/2030-03-04/
LOCATION:Town Hall Meeting Room\, 2 East Main St\, WILMINGTON\, VT\, 053630217\, United States
END:VEVENT
BEGIN:VEVENT
DTSTART;TZID=America/New_York:20300305T180000
DTEND;TZID=America/New_York:20300305T200000
DTSTAMP:20260422T130730
CREATED:20241205T145307Z
LAST-MODIFIED:20250529T124158Z
UID:10001547-1898964000-1898971200@wilmingtonvermont.us
SUMMARY:Selectboard
DESCRIPTION:
URL:https://wilmingtonvermont.us/event/selectboard/2030-03-05/
LOCATION:Town Hall Meeting Room\, 2 East Main St\, WILMINGTON\, VT\, 053630217\, United States
END:VEVENT
BEGIN:VEVENT
DTSTART;TZID=America/New_York:20300311T090000
DTEND;TZID=America/New_York:20300311T100000
DTSTAMP:20260422T130730
CREATED:20241205T142743Z
LAST-MODIFIED:20241205T142743Z
UID:10001560-1899450000-1899453600@wilmingtonvermont.us
SUMMARY:Beautification Committee Meeting
DESCRIPTION:
URL:https://wilmingtonvermont.us/event/beautification-committee-meeting/2030-03-11/
LOCATION:Town Hall Meeting Room\, 2 East Main St\, WILMINGTON\, VT\, 053630217\, United States
END:VEVENT
BEGIN:VEVENT
DTSTART;TZID=America/New_York:20300311T170000
DTEND;TZID=America/New_York:20300311T180000
DTSTAMP:20260422T130730
CREATED:20241205T143201Z
LAST-MODIFIED:20250424T124807Z
UID:10001473-1899478800-1899482400@wilmingtonvermont.us
SUMMARY:Planning Commission
DESCRIPTION:
URL:https://wilmingtonvermont.us/event/planning-commission/2030-03-11/
LOCATION:Town Hall Meeting Room\, 2 East Main St\, WILMINGTON\, VT\, 053630217\, United States
END:VEVENT
BEGIN:VEVENT
DTSTART;TZID=America/New_York:20300314T173000
DTEND;TZID=America/New_York:20300314T183000
DTSTAMP:20260422T130730
CREATED:20241205T145808Z
LAST-MODIFIED:20250822T124908Z
UID:10001702-1899739800-1899743400@wilmingtonvermont.us
SUMMARY:Trails Committee
DESCRIPTION:
URL:https://wilmingtonvermont.us/event/trails-committee/2030-03-14/
LOCATION:Town Hall Meeting Room\, 2 East Main St\, WILMINGTON\, VT\, 053630217\, United States
END:VEVENT
BEGIN:VEVENT
DTSTART;TZID=America/New_York:20300318T080000
DTEND;TZID=America/New_York:20300318T170000
DTSTAMP:20260422T130730
CREATED:20241205T143531Z
LAST-MODIFIED:20241205T143806Z
UID:10001591-1900051200-1900083600@wilmingtonvermont.us
SUMMARY:Development Review Board
DESCRIPTION:
URL:https://wilmingtonvermont.us/event/development-review-board-2/2030-03-18/
LOCATION:Town Hall Meeting Room\, 2 East Main St\, WILMINGTON\, VT\, 053630217\, United States
END:VEVENT
BEGIN:VEVENT
DTSTART;TZID=America/New_York:20300319T180000
DTEND;TZID=America/New_York:20300319T200000
DTSTAMP:20260422T130730
CREATED:20241205T145528Z
LAST-MODIFIED:20241205T145528Z
UID:10001605-1900173600-1900180800@wilmingtonvermont.us
SUMMARY:Selectboard
DESCRIPTION:
URL:https://wilmingtonvermont.us/event/selectboard-2/2030-03-19/
LOCATION:Town Hall Meeting Room\, 2 East Main St\, WILMINGTON\, VT\, 053630217\, United States
END:VEVENT
BEGIN:VEVENT
DTSTART;TZID=America/New_York:20300325T170000
DTEND;TZID=America/New_York:20300325T180000
DTSTAMP:20260422T130730
CREATED:20241205T143317Z
LAST-MODIFIED:20250424T124719Z
UID:10001408-1900688400-1900692000@wilmingtonvermont.us
SUMMARY:Planning Commission
DESCRIPTION:
URL:https://wilmingtonvermont.us/event/planning-commission-2/2030-03-25/
LOCATION:Town Hall Meeting Room\, 2 East Main St\, WILMINGTON\, VT\, 053630217\, United States
END:VEVENT
BEGIN:VEVENT
DTSTART;TZID=America/New_York:20300401T170000
DTEND;TZID=America/New_York:20300401T190000
DTSTAMP:20260422T130730
CREATED:20241205T143435Z
LAST-MODIFIED:20241205T143911Z
UID:10001553-1901293200-1901300400@wilmingtonvermont.us
SUMMARY:Development Review Board
DESCRIPTION:
URL:https://wilmingtonvermont.us/event/development-review-board/2030-04-01/
LOCATION:Town Hall Meeting Room\, 2 East Main St\, WILMINGTON\, VT\, 053630217\, United States
END:VEVENT
END:VCALENDAR