BEGIN:VCALENDAR
VERSION:2.0
PRODID:-//Town of Wilmington - ECPv6.15.20//NONSGML v1.0//EN
CALSCALE:GREGORIAN
METHOD:PUBLISH
X-WR-CALNAME:Town of Wilmington
X-ORIGINAL-URL:https://wilmingtonvermont.us
X-WR-CALDESC:Events for Town of Wilmington
REFRESH-INTERVAL;VALUE=DURATION:PT1H
X-Robots-Tag:noindex
X-PUBLISHED-TTL:PT1H
BEGIN:VTIMEZONE
TZID:America/New_York
BEGIN:DAYLIGHT
TZOFFSETFROM:-0500
TZOFFSETTO:-0400
TZNAME:EDT
DTSTART:20280312T070000
END:DAYLIGHT
BEGIN:STANDARD
TZOFFSETFROM:-0400
TZOFFSETTO:-0500
TZNAME:EST
DTSTART:20281105T060000
END:STANDARD
BEGIN:DAYLIGHT
TZOFFSETFROM:-0500
TZOFFSETTO:-0400
TZNAME:EDT
DTSTART:20290311T070000
END:DAYLIGHT
BEGIN:STANDARD
TZOFFSETFROM:-0400
TZOFFSETTO:-0500
TZNAME:EST
DTSTART:20291104T060000
END:STANDARD
BEGIN:DAYLIGHT
TZOFFSETFROM:-0500
TZOFFSETTO:-0400
TZNAME:EDT
DTSTART:20300310T070000
END:DAYLIGHT
BEGIN:STANDARD
TZOFFSETFROM:-0400
TZOFFSETTO:-0500
TZNAME:EST
DTSTART:20301103T060000
END:STANDARD
END:VTIMEZONE
BEGIN:VEVENT
DTSTART;TZID=America/New_York:20290611T170000
DTEND;TZID=America/New_York:20290611T180000
DTSTAMP:20260422T070031
CREATED:20241205T143201Z
LAST-MODIFIED:20250424T124807Z
UID:10001464-1875891600-1875895200@wilmingtonvermont.us
SUMMARY:Planning Commission
DESCRIPTION:
URL:https://wilmingtonvermont.us/event/planning-commission/2029-06-11/
LOCATION:Town Hall Meeting Room\, 2 East Main St\, WILMINGTON\, VT\, 053630217\, United States
END:VEVENT
BEGIN:VEVENT
DTSTART;TZID=America/New_York:20290614T173000
DTEND;TZID=America/New_York:20290614T183000
DTSTAMP:20260422T070031
CREATED:20241205T145808Z
LAST-MODIFIED:20250822T124908Z
UID:10001693-1876152600-1876156200@wilmingtonvermont.us
SUMMARY:Trails Committee
DESCRIPTION:
URL:https://wilmingtonvermont.us/event/trails-committee/2029-06-14/
LOCATION:Town Hall Meeting Room\, 2 East Main St\, WILMINGTON\, VT\, 053630217\, United States
END:VEVENT
BEGIN:VEVENT
DTSTART;TZID=America/New_York:20290618T080000
DTEND;TZID=America/New_York:20290618T170000
DTSTAMP:20260422T070031
CREATED:20241205T143531Z
LAST-MODIFIED:20241205T143806Z
UID:10000357-1876464000-1876496400@wilmingtonvermont.us
SUMMARY:Development Review Board
DESCRIPTION:
URL:https://wilmingtonvermont.us/event/development-review-board-2/2029-06-18/
LOCATION:Town Hall Meeting Room\, 2 East Main St\, WILMINGTON\, VT\, 053630217\, United States
END:VEVENT
BEGIN:VEVENT
DTSTART;TZID=America/New_York:20290619T180000
DTEND;TZID=America/New_York:20290619T200000
DTSTAMP:20260422T070031
CREATED:20241205T145528Z
LAST-MODIFIED:20241205T145528Z
UID:10000658-1876586400-1876593600@wilmingtonvermont.us
SUMMARY:Selectboard
DESCRIPTION:
URL:https://wilmingtonvermont.us/event/selectboard-2/2029-06-19/
LOCATION:Town Hall Meeting Room\, 2 East Main St\, WILMINGTON\, VT\, 053630217\, United States
END:VEVENT
BEGIN:VEVENT
DTSTART;TZID=America/New_York:20290625T170000
DTEND;TZID=America/New_York:20290625T180000
DTSTAMP:20260422T070031
CREATED:20241205T143317Z
LAST-MODIFIED:20250424T124719Z
UID:10001399-1877101200-1877104800@wilmingtonvermont.us
SUMMARY:Planning Commission
DESCRIPTION:
URL:https://wilmingtonvermont.us/event/planning-commission-2/2029-06-25/
LOCATION:Town Hall Meeting Room\, 2 East Main St\, WILMINGTON\, VT\, 053630217\, United States
END:VEVENT
BEGIN:VEVENT
DTSTART;TZID=America/New_York:20290702T170000
DTEND;TZID=America/New_York:20290702T190000
DTSTAMP:20260422T070031
CREATED:20241205T143435Z
LAST-MODIFIED:20241205T143911Z
UID:10000297-1877706000-1877713200@wilmingtonvermont.us
SUMMARY:Development Review Board
DESCRIPTION:
URL:https://wilmingtonvermont.us/event/development-review-board/2029-07-02/
LOCATION:Town Hall Meeting Room\, 2 East Main St\, WILMINGTON\, VT\, 053630217\, United States
END:VEVENT
BEGIN:VEVENT
DTSTART;TZID=America/New_York:20290703T180000
DTEND;TZID=America/New_York:20290703T200000
DTSTAMP:20260422T070031
CREATED:20241205T145307Z
LAST-MODIFIED:20250529T124158Z
UID:10000598-1877796000-1877803200@wilmingtonvermont.us
SUMMARY:Selectboard
DESCRIPTION:
URL:https://wilmingtonvermont.us/event/selectboard/2029-07-03/
LOCATION:Town Hall Meeting Room\, 2 East Main St\, WILMINGTON\, VT\, 053630217\, United States
END:VEVENT
BEGIN:VEVENT
DTSTART;TZID=America/New_York:20290709T090000
DTEND;TZID=America/New_York:20290709T100000
DTSTAMP:20260422T070031
CREATED:20241205T142743Z
LAST-MODIFIED:20241205T142743Z
UID:10000057-1878282000-1878285600@wilmingtonvermont.us
SUMMARY:Beautification Committee Meeting
DESCRIPTION:
URL:https://wilmingtonvermont.us/event/beautification-committee-meeting/2029-07-09/
LOCATION:Town Hall Meeting Room\, 2 East Main St\, WILMINGTON\, VT\, 053630217\, United States
END:VEVENT
BEGIN:VEVENT
DTSTART;TZID=America/New_York:20290709T170000
DTEND;TZID=America/New_York:20290709T180000
DTSTAMP:20260422T070031
CREATED:20241205T143201Z
LAST-MODIFIED:20250424T124807Z
UID:10001465-1878310800-1878314400@wilmingtonvermont.us
SUMMARY:Planning Commission
DESCRIPTION:
URL:https://wilmingtonvermont.us/event/planning-commission/2029-07-09/
LOCATION:Town Hall Meeting Room\, 2 East Main St\, WILMINGTON\, VT\, 053630217\, United States
END:VEVENT
BEGIN:VEVENT
DTSTART;TZID=America/New_York:20290712T173000
DTEND;TZID=America/New_York:20290712T183000
DTSTAMP:20260422T070031
CREATED:20241205T145808Z
LAST-MODIFIED:20250822T124908Z
UID:10001694-1878571800-1878575400@wilmingtonvermont.us
SUMMARY:Trails Committee
DESCRIPTION:
URL:https://wilmingtonvermont.us/event/trails-committee/2029-07-12/
LOCATION:Town Hall Meeting Room\, 2 East Main St\, WILMINGTON\, VT\, 053630217\, United States
END:VEVENT
BEGIN:VEVENT
DTSTART;TZID=America/New_York:20290716T080000
DTEND;TZID=America/New_York:20290716T170000
DTSTAMP:20260422T070031
CREATED:20241205T143531Z
LAST-MODIFIED:20241205T143806Z
UID:10000358-1878883200-1878915600@wilmingtonvermont.us
SUMMARY:Development Review Board
DESCRIPTION:
URL:https://wilmingtonvermont.us/event/development-review-board-2/2029-07-16/
LOCATION:Town Hall Meeting Room\, 2 East Main St\, WILMINGTON\, VT\, 053630217\, United States
END:VEVENT
BEGIN:VEVENT
DTSTART;TZID=America/New_York:20290717T180000
DTEND;TZID=America/New_York:20290717T200000
DTSTAMP:20260422T070031
CREATED:20241205T145528Z
LAST-MODIFIED:20241205T145528Z
UID:10000659-1879005600-1879012800@wilmingtonvermont.us
SUMMARY:Selectboard
DESCRIPTION:
URL:https://wilmingtonvermont.us/event/selectboard-2/2029-07-17/
LOCATION:Town Hall Meeting Room\, 2 East Main St\, WILMINGTON\, VT\, 053630217\, United States
END:VEVENT
BEGIN:VEVENT
DTSTART;TZID=America/New_York:20290723T170000
DTEND;TZID=America/New_York:20290723T180000
DTSTAMP:20260422T070031
CREATED:20241205T143317Z
LAST-MODIFIED:20250424T124719Z
UID:10001400-1879520400-1879524000@wilmingtonvermont.us
SUMMARY:Planning Commission
DESCRIPTION:
URL:https://wilmingtonvermont.us/event/planning-commission-2/2029-07-23/
LOCATION:Town Hall Meeting Room\, 2 East Main St\, WILMINGTON\, VT\, 053630217\, United States
END:VEVENT
BEGIN:VEVENT
DTSTART;TZID=America/New_York:20290806T170000
DTEND;TZID=America/New_York:20290806T190000
DTSTAMP:20260422T070031
CREATED:20241205T143435Z
LAST-MODIFIED:20241205T143911Z
UID:10000298-1880730000-1880737200@wilmingtonvermont.us
SUMMARY:Development Review Board
DESCRIPTION:
URL:https://wilmingtonvermont.us/event/development-review-board/2029-08-06/
LOCATION:Town Hall Meeting Room\, 2 East Main St\, WILMINGTON\, VT\, 053630217\, United States
END:VEVENT
BEGIN:VEVENT
DTSTART;TZID=America/New_York:20290807T180000
DTEND;TZID=America/New_York:20290807T200000
DTSTAMP:20260422T070031
CREATED:20241205T145307Z
LAST-MODIFIED:20250529T124158Z
UID:10000599-1880820000-1880827200@wilmingtonvermont.us
SUMMARY:Selectboard
DESCRIPTION:
URL:https://wilmingtonvermont.us/event/selectboard/2029-08-07/
LOCATION:Town Hall Meeting Room\, 2 East Main St\, WILMINGTON\, VT\, 053630217\, United States
END:VEVENT
BEGIN:VEVENT
DTSTART;TZID=America/New_York:20290809T173000
DTEND;TZID=America/New_York:20290809T183000
DTSTAMP:20260422T070031
CREATED:20241205T145808Z
LAST-MODIFIED:20250822T124908Z
UID:10001695-1880991000-1880994600@wilmingtonvermont.us
SUMMARY:Trails Committee
DESCRIPTION:
URL:https://wilmingtonvermont.us/event/trails-committee/2029-08-09/
LOCATION:Town Hall Meeting Room\, 2 East Main St\, WILMINGTON\, VT\, 053630217\, United States
END:VEVENT
BEGIN:VEVENT
DTSTART;TZID=America/New_York:20290813T090000
DTEND;TZID=America/New_York:20290813T100000
DTSTAMP:20260422T070031
CREATED:20241205T142743Z
LAST-MODIFIED:20241205T142743Z
UID:10000058-1881306000-1881309600@wilmingtonvermont.us
SUMMARY:Beautification Committee Meeting
DESCRIPTION:
URL:https://wilmingtonvermont.us/event/beautification-committee-meeting/2029-08-13/
LOCATION:Town Hall Meeting Room\, 2 East Main St\, WILMINGTON\, VT\, 053630217\, United States
END:VEVENT
BEGIN:VEVENT
DTSTART;TZID=America/New_York:20290813T170000
DTEND;TZID=America/New_York:20290813T180000
DTSTAMP:20260422T070031
CREATED:20241205T143201Z
LAST-MODIFIED:20250424T124807Z
UID:10001466-1881334800-1881338400@wilmingtonvermont.us
SUMMARY:Planning Commission
DESCRIPTION:
URL:https://wilmingtonvermont.us/event/planning-commission/2029-08-13/
LOCATION:Town Hall Meeting Room\, 2 East Main St\, WILMINGTON\, VT\, 053630217\, United States
END:VEVENT
BEGIN:VEVENT
DTSTART;TZID=America/New_York:20290820T080000
DTEND;TZID=America/New_York:20290820T170000
DTSTAMP:20260422T070031
CREATED:20241205T143531Z
LAST-MODIFIED:20241205T143806Z
UID:10000359-1881907200-1881939600@wilmingtonvermont.us
SUMMARY:Development Review Board
DESCRIPTION:
URL:https://wilmingtonvermont.us/event/development-review-board-2/2029-08-20/
LOCATION:Town Hall Meeting Room\, 2 East Main St\, WILMINGTON\, VT\, 053630217\, United States
END:VEVENT
BEGIN:VEVENT
DTSTART;TZID=America/New_York:20290821T180000
DTEND;TZID=America/New_York:20290821T200000
DTSTAMP:20260422T070031
CREATED:20241205T145528Z
LAST-MODIFIED:20241205T145528Z
UID:10000660-1882029600-1882036800@wilmingtonvermont.us
SUMMARY:Selectboard
DESCRIPTION:
URL:https://wilmingtonvermont.us/event/selectboard-2/2029-08-21/
LOCATION:Town Hall Meeting Room\, 2 East Main St\, WILMINGTON\, VT\, 053630217\, United States
END:VEVENT
BEGIN:VEVENT
DTSTART;TZID=America/New_York:20290827T170000
DTEND;TZID=America/New_York:20290827T180000
DTSTAMP:20260422T070031
CREATED:20241205T143317Z
LAST-MODIFIED:20250424T124719Z
UID:10001401-1882544400-1882548000@wilmingtonvermont.us
SUMMARY:Planning Commission
DESCRIPTION:
URL:https://wilmingtonvermont.us/event/planning-commission-2/2029-08-27/
LOCATION:Town Hall Meeting Room\, 2 East Main St\, WILMINGTON\, VT\, 053630217\, United States
END:VEVENT
BEGIN:VEVENT
DTSTART;TZID=America/New_York:20290903T170000
DTEND;TZID=America/New_York:20290903T190000
DTSTAMP:20260422T070031
CREATED:20241205T143435Z
LAST-MODIFIED:20241205T143911Z
UID:10000299-1883149200-1883156400@wilmingtonvermont.us
SUMMARY:Development Review Board
DESCRIPTION:
URL:https://wilmingtonvermont.us/event/development-review-board/2029-09-03/
LOCATION:Town Hall Meeting Room\, 2 East Main St\, WILMINGTON\, VT\, 053630217\, United States
END:VEVENT
BEGIN:VEVENT
DTSTART;TZID=America/New_York:20290904T180000
DTEND;TZID=America/New_York:20290904T200000
DTSTAMP:20260422T070031
CREATED:20241205T145307Z
LAST-MODIFIED:20250529T124158Z
UID:10000600-1883239200-1883246400@wilmingtonvermont.us
SUMMARY:Selectboard
DESCRIPTION:
URL:https://wilmingtonvermont.us/event/selectboard/2029-09-04/
LOCATION:Town Hall Meeting Room\, 2 East Main St\, WILMINGTON\, VT\, 053630217\, United States
END:VEVENT
BEGIN:VEVENT
DTSTART;TZID=America/New_York:20290910T090000
DTEND;TZID=America/New_York:20290910T100000
DTSTAMP:20260422T070031
CREATED:20241205T142743Z
LAST-MODIFIED:20241205T142743Z
UID:10000059-1883725200-1883728800@wilmingtonvermont.us
SUMMARY:Beautification Committee Meeting
DESCRIPTION:
URL:https://wilmingtonvermont.us/event/beautification-committee-meeting/2029-09-10/
LOCATION:Town Hall Meeting Room\, 2 East Main St\, WILMINGTON\, VT\, 053630217\, United States
END:VEVENT
BEGIN:VEVENT
DTSTART;TZID=America/New_York:20290910T170000
DTEND;TZID=America/New_York:20290910T180000
DTSTAMP:20260422T070031
CREATED:20241205T143201Z
LAST-MODIFIED:20250424T124807Z
UID:10001467-1883754000-1883757600@wilmingtonvermont.us
SUMMARY:Planning Commission
DESCRIPTION:
URL:https://wilmingtonvermont.us/event/planning-commission/2029-09-10/
LOCATION:Town Hall Meeting Room\, 2 East Main St\, WILMINGTON\, VT\, 053630217\, United States
END:VEVENT
BEGIN:VEVENT
DTSTART;TZID=America/New_York:20290913T173000
DTEND;TZID=America/New_York:20290913T183000
DTSTAMP:20260422T070031
CREATED:20241205T145808Z
LAST-MODIFIED:20250822T124908Z
UID:10001696-1884015000-1884018600@wilmingtonvermont.us
SUMMARY:Trails Committee
DESCRIPTION:
URL:https://wilmingtonvermont.us/event/trails-committee/2029-09-13/
LOCATION:Town Hall Meeting Room\, 2 East Main St\, WILMINGTON\, VT\, 053630217\, United States
END:VEVENT
BEGIN:VEVENT
DTSTART;TZID=America/New_York:20290917T080000
DTEND;TZID=America/New_York:20290917T170000
DTSTAMP:20260422T070031
CREATED:20241205T143531Z
LAST-MODIFIED:20241205T143806Z
UID:10000360-1884326400-1884358800@wilmingtonvermont.us
SUMMARY:Development Review Board
DESCRIPTION:
URL:https://wilmingtonvermont.us/event/development-review-board-2/2029-09-17/
LOCATION:Town Hall Meeting Room\, 2 East Main St\, WILMINGTON\, VT\, 053630217\, United States
END:VEVENT
BEGIN:VEVENT
DTSTART;TZID=America/New_York:20290918T180000
DTEND;TZID=America/New_York:20290918T200000
DTSTAMP:20260422T070031
CREATED:20241205T145528Z
LAST-MODIFIED:20241205T145528Z
UID:10000661-1884448800-1884456000@wilmingtonvermont.us
SUMMARY:Selectboard
DESCRIPTION:
URL:https://wilmingtonvermont.us/event/selectboard-2/2029-09-18/
LOCATION:Town Hall Meeting Room\, 2 East Main St\, WILMINGTON\, VT\, 053630217\, United States
END:VEVENT
BEGIN:VEVENT
DTSTART;TZID=America/New_York:20290924T170000
DTEND;TZID=America/New_York:20290924T180000
DTSTAMP:20260422T070031
CREATED:20241205T143317Z
LAST-MODIFIED:20250424T124719Z
UID:10001402-1884963600-1884967200@wilmingtonvermont.us
SUMMARY:Planning Commission
DESCRIPTION:
URL:https://wilmingtonvermont.us/event/planning-commission-2/2029-09-24/
LOCATION:Town Hall Meeting Room\, 2 East Main St\, WILMINGTON\, VT\, 053630217\, United States
END:VEVENT
BEGIN:VEVENT
DTSTART;TZID=America/New_York:20291001T170000
DTEND;TZID=America/New_York:20291001T190000
DTSTAMP:20260422T070031
CREATED:20241205T143435Z
LAST-MODIFIED:20241205T143911Z
UID:10000300-1885568400-1885575600@wilmingtonvermont.us
SUMMARY:Development Review Board
DESCRIPTION:
URL:https://wilmingtonvermont.us/event/development-review-board/2029-10-01/
LOCATION:Town Hall Meeting Room\, 2 East Main St\, WILMINGTON\, VT\, 053630217\, United States
END:VEVENT
END:VCALENDAR