BEGIN:VCALENDAR
VERSION:2.0
PRODID:-//Town of Wilmington - ECPv6.15.20//NONSGML v1.0//EN
CALSCALE:GREGORIAN
METHOD:PUBLISH
X-WR-CALNAME:Town of Wilmington
X-ORIGINAL-URL:https://wilmingtonvermont.us
X-WR-CALDESC:Events for Town of Wilmington
REFRESH-INTERVAL;VALUE=DURATION:PT1H
X-Robots-Tag:noindex
X-PUBLISHED-TTL:PT1H
BEGIN:VTIMEZONE
TZID:America/New_York
BEGIN:DAYLIGHT
TZOFFSETFROM:-0500
TZOFFSETTO:-0400
TZNAME:EDT
DTSTART:20270314T070000
END:DAYLIGHT
BEGIN:STANDARD
TZOFFSETFROM:-0400
TZOFFSETTO:-0500
TZNAME:EST
DTSTART:20271107T060000
END:STANDARD
BEGIN:DAYLIGHT
TZOFFSETFROM:-0500
TZOFFSETTO:-0400
TZNAME:EDT
DTSTART:20280312T070000
END:DAYLIGHT
BEGIN:STANDARD
TZOFFSETFROM:-0400
TZOFFSETTO:-0500
TZNAME:EST
DTSTART:20281105T060000
END:STANDARD
BEGIN:DAYLIGHT
TZOFFSETFROM:-0500
TZOFFSETTO:-0400
TZNAME:EDT
DTSTART:20290311T070000
END:DAYLIGHT
BEGIN:STANDARD
TZOFFSETFROM:-0400
TZOFFSETTO:-0500
TZNAME:EST
DTSTART:20291104T060000
END:STANDARD
BEGIN:DAYLIGHT
TZOFFSETFROM:-0500
TZOFFSETTO:-0400
TZNAME:EDT
DTSTART:20300310T070000
END:DAYLIGHT
BEGIN:STANDARD
TZOFFSETFROM:-0400
TZOFFSETTO:-0500
TZNAME:EST
DTSTART:20301103T060000
END:STANDARD
END:VTIMEZONE
BEGIN:VEVENT
DTSTART;TZID=America/New_York:20281023T170000
DTEND;TZID=America/New_York:20281023T180000
DTSTAMP:20260421T231431
CREATED:20241205T143317Z
LAST-MODIFIED:20250424T124719Z
UID:10001391-1855933200-1855936800@wilmingtonvermont.us
SUMMARY:Planning Commission
DESCRIPTION:
URL:https://wilmingtonvermont.us/event/planning-commission-2/2028-10-23/
LOCATION:Town Hall Meeting Room\, 2 East Main St\, WILMINGTON\, VT\, 053630217\, United States
END:VEVENT
BEGIN:VEVENT
DTSTART;TZID=America/New_York:20281106T170000
DTEND;TZID=America/New_York:20281106T190000
DTSTAMP:20260421T231431
CREATED:20241205T143435Z
LAST-MODIFIED:20241205T143911Z
UID:10000289-1857142800-1857150000@wilmingtonvermont.us
SUMMARY:Development Review Board
DESCRIPTION:
URL:https://wilmingtonvermont.us/event/development-review-board/2028-11-06/
LOCATION:Town Hall Meeting Room\, 2 East Main St\, WILMINGTON\, VT\, 053630217\, United States
END:VEVENT
BEGIN:VEVENT
DTSTART;TZID=America/New_York:20281107T180000
DTEND;TZID=America/New_York:20281107T200000
DTSTAMP:20260421T231431
CREATED:20241205T145307Z
LAST-MODIFIED:20250529T124158Z
UID:10000590-1857232800-1857240000@wilmingtonvermont.us
SUMMARY:Selectboard
DESCRIPTION:
URL:https://wilmingtonvermont.us/event/selectboard/2028-11-07/
LOCATION:Town Hall Meeting Room\, 2 East Main St\, WILMINGTON\, VT\, 053630217\, United States
END:VEVENT
BEGIN:VEVENT
DTSTART;TZID=America/New_York:20281109T173000
DTEND;TZID=America/New_York:20281109T183000
DTSTAMP:20260421T231431
CREATED:20241205T145808Z
LAST-MODIFIED:20250822T124908Z
UID:10001686-1857403800-1857407400@wilmingtonvermont.us
SUMMARY:Trails Committee
DESCRIPTION:
URL:https://wilmingtonvermont.us/event/trails-committee/2028-11-09/
LOCATION:Town Hall Meeting Room\, 2 East Main St\, WILMINGTON\, VT\, 053630217\, United States
END:VEVENT
BEGIN:VEVENT
DTSTART;TZID=America/New_York:20281113T090000
DTEND;TZID=America/New_York:20281113T100000
DTSTAMP:20260421T231431
CREATED:20241205T142743Z
LAST-MODIFIED:20241205T142743Z
UID:10000049-1857718800-1857722400@wilmingtonvermont.us
SUMMARY:Beautification Committee Meeting
DESCRIPTION:
URL:https://wilmingtonvermont.us/event/beautification-committee-meeting/2028-11-13/
LOCATION:Town Hall Meeting Room\, 2 East Main St\, WILMINGTON\, VT\, 053630217\, United States
END:VEVENT
BEGIN:VEVENT
DTSTART;TZID=America/New_York:20281113T170000
DTEND;TZID=America/New_York:20281113T180000
DTSTAMP:20260421T231431
CREATED:20241205T143201Z
LAST-MODIFIED:20250424T124807Z
UID:10001457-1857747600-1857751200@wilmingtonvermont.us
SUMMARY:Planning Commission
DESCRIPTION:
URL:https://wilmingtonvermont.us/event/planning-commission/2028-11-13/
LOCATION:Town Hall Meeting Room\, 2 East Main St\, WILMINGTON\, VT\, 053630217\, United States
END:VEVENT
BEGIN:VEVENT
DTSTART;TZID=America/New_York:20281120T080000
DTEND;TZID=America/New_York:20281120T170000
DTSTAMP:20260421T231431
CREATED:20241205T143531Z
LAST-MODIFIED:20241205T143806Z
UID:10000350-1858320000-1858352400@wilmingtonvermont.us
SUMMARY:Development Review Board
DESCRIPTION:
URL:https://wilmingtonvermont.us/event/development-review-board-2/2028-11-20/
LOCATION:Town Hall Meeting Room\, 2 East Main St\, WILMINGTON\, VT\, 053630217\, United States
END:VEVENT
BEGIN:VEVENT
DTSTART;TZID=America/New_York:20281121T180000
DTEND;TZID=America/New_York:20281121T200000
DTSTAMP:20260421T231431
CREATED:20241205T145528Z
LAST-MODIFIED:20241205T145528Z
UID:10000651-1858442400-1858449600@wilmingtonvermont.us
SUMMARY:Selectboard
DESCRIPTION:
URL:https://wilmingtonvermont.us/event/selectboard-2/2028-11-21/
LOCATION:Town Hall Meeting Room\, 2 East Main St\, WILMINGTON\, VT\, 053630217\, United States
END:VEVENT
BEGIN:VEVENT
DTSTART;TZID=America/New_York:20281127T170000
DTEND;TZID=America/New_York:20281127T180000
DTSTAMP:20260421T231431
CREATED:20241205T143317Z
LAST-MODIFIED:20250424T124719Z
UID:10001392-1858957200-1858960800@wilmingtonvermont.us
SUMMARY:Planning Commission
DESCRIPTION:
URL:https://wilmingtonvermont.us/event/planning-commission-2/2028-11-27/
LOCATION:Town Hall Meeting Room\, 2 East Main St\, WILMINGTON\, VT\, 053630217\, United States
END:VEVENT
BEGIN:VEVENT
DTSTART;TZID=America/New_York:20281204T170000
DTEND;TZID=America/New_York:20281204T190000
DTSTAMP:20260421T231431
CREATED:20241205T143435Z
LAST-MODIFIED:20241205T143911Z
UID:10000290-1859562000-1859569200@wilmingtonvermont.us
SUMMARY:Development Review Board
DESCRIPTION:
URL:https://wilmingtonvermont.us/event/development-review-board/2028-12-04/
LOCATION:Town Hall Meeting Room\, 2 East Main St\, WILMINGTON\, VT\, 053630217\, United States
END:VEVENT
BEGIN:VEVENT
DTSTART;TZID=America/New_York:20281205T180000
DTEND;TZID=America/New_York:20281205T200000
DTSTAMP:20260421T231431
CREATED:20241205T145307Z
LAST-MODIFIED:20250529T124158Z
UID:10000591-1859652000-1859659200@wilmingtonvermont.us
SUMMARY:Selectboard
DESCRIPTION:
URL:https://wilmingtonvermont.us/event/selectboard/2028-12-05/
LOCATION:Town Hall Meeting Room\, 2 East Main St\, WILMINGTON\, VT\, 053630217\, United States
END:VEVENT
BEGIN:VEVENT
DTSTART;TZID=America/New_York:20281211T090000
DTEND;TZID=America/New_York:20281211T100000
DTSTAMP:20260421T231431
CREATED:20241205T142743Z
LAST-MODIFIED:20241205T142743Z
UID:10000050-1860138000-1860141600@wilmingtonvermont.us
SUMMARY:Beautification Committee Meeting
DESCRIPTION:
URL:https://wilmingtonvermont.us/event/beautification-committee-meeting/2028-12-11/
LOCATION:Town Hall Meeting Room\, 2 East Main St\, WILMINGTON\, VT\, 053630217\, United States
END:VEVENT
BEGIN:VEVENT
DTSTART;TZID=America/New_York:20281211T170000
DTEND;TZID=America/New_York:20281211T180000
DTSTAMP:20260421T231431
CREATED:20241205T143201Z
LAST-MODIFIED:20250424T124807Z
UID:10001458-1860166800-1860170400@wilmingtonvermont.us
SUMMARY:Planning Commission
DESCRIPTION:
URL:https://wilmingtonvermont.us/event/planning-commission/2028-12-11/
LOCATION:Town Hall Meeting Room\, 2 East Main St\, WILMINGTON\, VT\, 053630217\, United States
END:VEVENT
BEGIN:VEVENT
DTSTART;TZID=America/New_York:20281214T173000
DTEND;TZID=America/New_York:20281214T183000
DTSTAMP:20260421T231431
CREATED:20241205T145808Z
LAST-MODIFIED:20250822T124908Z
UID:10001687-1860427800-1860431400@wilmingtonvermont.us
SUMMARY:Trails Committee
DESCRIPTION:
URL:https://wilmingtonvermont.us/event/trails-committee/2028-12-14/
LOCATION:Town Hall Meeting Room\, 2 East Main St\, WILMINGTON\, VT\, 053630217\, United States
END:VEVENT
BEGIN:VEVENT
DTSTART;TZID=America/New_York:20281218T080000
DTEND;TZID=America/New_York:20281218T170000
DTSTAMP:20260421T231431
CREATED:20241205T143531Z
LAST-MODIFIED:20241205T143806Z
UID:10000351-1860739200-1860771600@wilmingtonvermont.us
SUMMARY:Development Review Board
DESCRIPTION:
URL:https://wilmingtonvermont.us/event/development-review-board-2/2028-12-18/
LOCATION:Town Hall Meeting Room\, 2 East Main St\, WILMINGTON\, VT\, 053630217\, United States
END:VEVENT
BEGIN:VEVENT
DTSTART;TZID=America/New_York:20281219T180000
DTEND;TZID=America/New_York:20281219T200000
DTSTAMP:20260421T231431
CREATED:20241205T145528Z
LAST-MODIFIED:20241205T145528Z
UID:10000652-1860861600-1860868800@wilmingtonvermont.us
SUMMARY:Selectboard
DESCRIPTION:
URL:https://wilmingtonvermont.us/event/selectboard-2/2028-12-19/
LOCATION:Town Hall Meeting Room\, 2 East Main St\, WILMINGTON\, VT\, 053630217\, United States
END:VEVENT
BEGIN:VEVENT
DTSTART;TZID=America/New_York:20281225T170000
DTEND;TZID=America/New_York:20281225T180000
DTSTAMP:20260421T231431
CREATED:20241205T143317Z
LAST-MODIFIED:20250424T124719Z
UID:10001393-1861376400-1861380000@wilmingtonvermont.us
SUMMARY:Planning Commission
DESCRIPTION:
URL:https://wilmingtonvermont.us/event/planning-commission-2/2028-12-25/
LOCATION:Town Hall Meeting Room\, 2 East Main St\, WILMINGTON\, VT\, 053630217\, United States
END:VEVENT
BEGIN:VEVENT
DTSTART;TZID=America/New_York:20290101T170000
DTEND;TZID=America/New_York:20290101T190000
DTSTAMP:20260421T231431
CREATED:20241205T143435Z
LAST-MODIFIED:20241205T143911Z
UID:10000291-1861981200-1861988400@wilmingtonvermont.us
SUMMARY:Development Review Board
DESCRIPTION:
URL:https://wilmingtonvermont.us/event/development-review-board/2029-01-01/
LOCATION:Town Hall Meeting Room\, 2 East Main St\, WILMINGTON\, VT\, 053630217\, United States
END:VEVENT
BEGIN:VEVENT
DTSTART;TZID=America/New_York:20290102T180000
DTEND;TZID=America/New_York:20290102T200000
DTSTAMP:20260421T231431
CREATED:20241205T145307Z
LAST-MODIFIED:20250529T124158Z
UID:10000592-1862071200-1862078400@wilmingtonvermont.us
SUMMARY:Selectboard
DESCRIPTION:
URL:https://wilmingtonvermont.us/event/selectboard/2029-01-02/
LOCATION:Town Hall Meeting Room\, 2 East Main St\, WILMINGTON\, VT\, 053630217\, United States
END:VEVENT
BEGIN:VEVENT
DTSTART;TZID=America/New_York:20290108T090000
DTEND;TZID=America/New_York:20290108T100000
DTSTAMP:20260421T231431
CREATED:20241205T142743Z
LAST-MODIFIED:20241205T142743Z
UID:10000051-1862557200-1862560800@wilmingtonvermont.us
SUMMARY:Beautification Committee Meeting
DESCRIPTION:
URL:https://wilmingtonvermont.us/event/beautification-committee-meeting/2029-01-08/
LOCATION:Town Hall Meeting Room\, 2 East Main St\, WILMINGTON\, VT\, 053630217\, United States
END:VEVENT
BEGIN:VEVENT
DTSTART;TZID=America/New_York:20290108T170000
DTEND;TZID=America/New_York:20290108T180000
DTSTAMP:20260421T231431
CREATED:20241205T143201Z
LAST-MODIFIED:20250424T124807Z
UID:10001459-1862586000-1862589600@wilmingtonvermont.us
SUMMARY:Planning Commission
DESCRIPTION:
URL:https://wilmingtonvermont.us/event/planning-commission/2029-01-08/
LOCATION:Town Hall Meeting Room\, 2 East Main St\, WILMINGTON\, VT\, 053630217\, United States
END:VEVENT
BEGIN:VEVENT
DTSTART;TZID=America/New_York:20290111T173000
DTEND;TZID=America/New_York:20290111T183000
DTSTAMP:20260421T231431
CREATED:20241205T145808Z
LAST-MODIFIED:20250822T124908Z
UID:10001688-1862847000-1862850600@wilmingtonvermont.us
SUMMARY:Trails Committee
DESCRIPTION:
URL:https://wilmingtonvermont.us/event/trails-committee/2029-01-11/
LOCATION:Town Hall Meeting Room\, 2 East Main St\, WILMINGTON\, VT\, 053630217\, United States
END:VEVENT
BEGIN:VEVENT
DTSTART;TZID=America/New_York:20290115T080000
DTEND;TZID=America/New_York:20290115T170000
DTSTAMP:20260421T231431
CREATED:20241205T143531Z
LAST-MODIFIED:20241205T143806Z
UID:10000352-1863158400-1863190800@wilmingtonvermont.us
SUMMARY:Development Review Board
DESCRIPTION:
URL:https://wilmingtonvermont.us/event/development-review-board-2/2029-01-15/
LOCATION:Town Hall Meeting Room\, 2 East Main St\, WILMINGTON\, VT\, 053630217\, United States
END:VEVENT
BEGIN:VEVENT
DTSTART;TZID=America/New_York:20290116T180000
DTEND;TZID=America/New_York:20290116T200000
DTSTAMP:20260421T231431
CREATED:20241205T145528Z
LAST-MODIFIED:20241205T145528Z
UID:10000653-1863280800-1863288000@wilmingtonvermont.us
SUMMARY:Selectboard
DESCRIPTION:
URL:https://wilmingtonvermont.us/event/selectboard-2/2029-01-16/
LOCATION:Town Hall Meeting Room\, 2 East Main St\, WILMINGTON\, VT\, 053630217\, United States
END:VEVENT
BEGIN:VEVENT
DTSTART;TZID=America/New_York:20290122T170000
DTEND;TZID=America/New_York:20290122T180000
DTSTAMP:20260421T231431
CREATED:20241205T143317Z
LAST-MODIFIED:20250424T124719Z
UID:10001394-1863795600-1863799200@wilmingtonvermont.us
SUMMARY:Planning Commission
DESCRIPTION:
URL:https://wilmingtonvermont.us/event/planning-commission-2/2029-01-22/
LOCATION:Town Hall Meeting Room\, 2 East Main St\, WILMINGTON\, VT\, 053630217\, United States
END:VEVENT
BEGIN:VEVENT
DTSTART;TZID=America/New_York:20290205T170000
DTEND;TZID=America/New_York:20290205T190000
DTSTAMP:20260421T231431
CREATED:20241205T143435Z
LAST-MODIFIED:20241205T143911Z
UID:10000292-1865005200-1865012400@wilmingtonvermont.us
SUMMARY:Development Review Board
DESCRIPTION:
URL:https://wilmingtonvermont.us/event/development-review-board/2029-02-05/
LOCATION:Town Hall Meeting Room\, 2 East Main St\, WILMINGTON\, VT\, 053630217\, United States
END:VEVENT
BEGIN:VEVENT
DTSTART;TZID=America/New_York:20290206T180000
DTEND;TZID=America/New_York:20290206T200000
DTSTAMP:20260421T231431
CREATED:20241205T145307Z
LAST-MODIFIED:20250529T124158Z
UID:10000593-1865095200-1865102400@wilmingtonvermont.us
SUMMARY:Selectboard
DESCRIPTION:
URL:https://wilmingtonvermont.us/event/selectboard/2029-02-06/
LOCATION:Town Hall Meeting Room\, 2 East Main St\, WILMINGTON\, VT\, 053630217\, United States
END:VEVENT
BEGIN:VEVENT
DTSTART;TZID=America/New_York:20290208T173000
DTEND;TZID=America/New_York:20290208T183000
DTSTAMP:20260421T231431
CREATED:20241205T145808Z
LAST-MODIFIED:20250822T124908Z
UID:10001689-1865266200-1865269800@wilmingtonvermont.us
SUMMARY:Trails Committee
DESCRIPTION:
URL:https://wilmingtonvermont.us/event/trails-committee/2029-02-08/
LOCATION:Town Hall Meeting Room\, 2 East Main St\, WILMINGTON\, VT\, 053630217\, United States
END:VEVENT
BEGIN:VEVENT
DTSTART;TZID=America/New_York:20290212T090000
DTEND;TZID=America/New_York:20290212T100000
DTSTAMP:20260421T231431
CREATED:20241205T142743Z
LAST-MODIFIED:20241205T142743Z
UID:10000052-1865581200-1865584800@wilmingtonvermont.us
SUMMARY:Beautification Committee Meeting
DESCRIPTION:
URL:https://wilmingtonvermont.us/event/beautification-committee-meeting/2029-02-12/
LOCATION:Town Hall Meeting Room\, 2 East Main St\, WILMINGTON\, VT\, 053630217\, United States
END:VEVENT
BEGIN:VEVENT
DTSTART;TZID=America/New_York:20290212T170000
DTEND;TZID=America/New_York:20290212T180000
DTSTAMP:20260421T231431
CREATED:20241205T143201Z
LAST-MODIFIED:20250424T124807Z
UID:10001460-1865610000-1865613600@wilmingtonvermont.us
SUMMARY:Planning Commission
DESCRIPTION:
URL:https://wilmingtonvermont.us/event/planning-commission/2029-02-12/
LOCATION:Town Hall Meeting Room\, 2 East Main St\, WILMINGTON\, VT\, 053630217\, United States
END:VEVENT
END:VCALENDAR