BEGIN:VCALENDAR
VERSION:2.0
PRODID:-//Town of Wilmington - ECPv6.15.20//NONSGML v1.0//EN
CALSCALE:GREGORIAN
METHOD:PUBLISH
X-WR-CALNAME:Town of Wilmington
X-ORIGINAL-URL:https://wilmingtonvermont.us
X-WR-CALDESC:Events for Town of Wilmington
REFRESH-INTERVAL;VALUE=DURATION:PT1H
X-Robots-Tag:noindex
X-PUBLISHED-TTL:PT1H
BEGIN:VTIMEZONE
TZID:America/New_York
BEGIN:DAYLIGHT
TZOFFSETFROM:-0500
TZOFFSETTO:-0400
TZNAME:EDT
DTSTART:20270314T070000
END:DAYLIGHT
BEGIN:STANDARD
TZOFFSETFROM:-0400
TZOFFSETTO:-0500
TZNAME:EST
DTSTART:20271107T060000
END:STANDARD
BEGIN:DAYLIGHT
TZOFFSETFROM:-0500
TZOFFSETTO:-0400
TZNAME:EDT
DTSTART:20280312T070000
END:DAYLIGHT
BEGIN:STANDARD
TZOFFSETFROM:-0400
TZOFFSETTO:-0500
TZNAME:EST
DTSTART:20281105T060000
END:STANDARD
BEGIN:DAYLIGHT
TZOFFSETFROM:-0500
TZOFFSETTO:-0400
TZNAME:EDT
DTSTART:20290311T070000
END:DAYLIGHT
BEGIN:STANDARD
TZOFFSETFROM:-0400
TZOFFSETTO:-0500
TZNAME:EST
DTSTART:20291104T060000
END:STANDARD
END:VTIMEZONE
BEGIN:VEVENT
DTSTART;TZID=America/New_York:20280718T180000
DTEND;TZID=America/New_York:20280718T200000
DTSTAMP:20260421T195820
CREATED:20241205T145528Z
LAST-MODIFIED:20241205T145528Z
UID:10000647-1847556000-1847563200@wilmingtonvermont.us
SUMMARY:Selectboard
DESCRIPTION:
URL:https://wilmingtonvermont.us/event/selectboard-2/2028-07-18/
LOCATION:Town Hall Meeting Room\, 2 East Main St\, WILMINGTON\, VT\, 053630217\, United States
END:VEVENT
BEGIN:VEVENT
DTSTART;TZID=America/New_York:20280724T170000
DTEND;TZID=America/New_York:20280724T180000
DTSTAMP:20260421T195820
CREATED:20241205T143317Z
LAST-MODIFIED:20250424T124719Z
UID:10001388-1848070800-1848074400@wilmingtonvermont.us
SUMMARY:Planning Commission
DESCRIPTION:
URL:https://wilmingtonvermont.us/event/planning-commission-2/2028-07-24/
LOCATION:Town Hall Meeting Room\, 2 East Main St\, WILMINGTON\, VT\, 053630217\, United States
END:VEVENT
BEGIN:VEVENT
DTSTART;TZID=America/New_York:20280801T180000
DTEND;TZID=America/New_York:20280801T200000
DTSTAMP:20260421T195820
CREATED:20241205T145307Z
LAST-MODIFIED:20250529T124158Z
UID:10000587-1848765600-1848772800@wilmingtonvermont.us
SUMMARY:Selectboard
DESCRIPTION:
URL:https://wilmingtonvermont.us/event/selectboard/2028-08-01/
LOCATION:Town Hall Meeting Room\, 2 East Main St\, WILMINGTON\, VT\, 053630217\, United States
END:VEVENT
BEGIN:VEVENT
DTSTART;TZID=America/New_York:20280807T170000
DTEND;TZID=America/New_York:20280807T190000
DTSTAMP:20260421T195820
CREATED:20241205T143435Z
LAST-MODIFIED:20241205T143911Z
UID:10000286-1849280400-1849287600@wilmingtonvermont.us
SUMMARY:Development Review Board
DESCRIPTION:
URL:https://wilmingtonvermont.us/event/development-review-board/2028-08-07/
LOCATION:Town Hall Meeting Room\, 2 East Main St\, WILMINGTON\, VT\, 053630217\, United States
END:VEVENT
BEGIN:VEVENT
DTSTART;TZID=America/New_York:20280810T173000
DTEND;TZID=America/New_York:20280810T183000
DTSTAMP:20260421T195820
CREATED:20241205T145808Z
LAST-MODIFIED:20250822T124908Z
UID:10001683-1849541400-1849545000@wilmingtonvermont.us
SUMMARY:Trails Committee
DESCRIPTION:
URL:https://wilmingtonvermont.us/event/trails-committee/2028-08-10/
LOCATION:Town Hall Meeting Room\, 2 East Main St\, WILMINGTON\, VT\, 053630217\, United States
END:VEVENT
BEGIN:VEVENT
DTSTART;TZID=America/New_York:20280814T090000
DTEND;TZID=America/New_York:20280814T100000
DTSTAMP:20260421T195820
CREATED:20241205T142743Z
LAST-MODIFIED:20241205T142743Z
UID:10000046-1849856400-1849860000@wilmingtonvermont.us
SUMMARY:Beautification Committee Meeting
DESCRIPTION:
URL:https://wilmingtonvermont.us/event/beautification-committee-meeting/2028-08-14/
LOCATION:Town Hall Meeting Room\, 2 East Main St\, WILMINGTON\, VT\, 053630217\, United States
END:VEVENT
BEGIN:VEVENT
DTSTART;TZID=America/New_York:20280814T170000
DTEND;TZID=America/New_York:20280814T180000
DTSTAMP:20260421T195820
CREATED:20241205T143201Z
LAST-MODIFIED:20250424T124807Z
UID:10001454-1849885200-1849888800@wilmingtonvermont.us
SUMMARY:Planning Commission
DESCRIPTION:
URL:https://wilmingtonvermont.us/event/planning-commission/2028-08-14/
LOCATION:Town Hall Meeting Room\, 2 East Main St\, WILMINGTON\, VT\, 053630217\, United States
END:VEVENT
BEGIN:VEVENT
DTSTART;TZID=America/New_York:20280815T180000
DTEND;TZID=America/New_York:20280815T200000
DTSTAMP:20260421T195820
CREATED:20241205T145528Z
LAST-MODIFIED:20241205T145528Z
UID:10000648-1849975200-1849982400@wilmingtonvermont.us
SUMMARY:Selectboard
DESCRIPTION:
URL:https://wilmingtonvermont.us/event/selectboard-2/2028-08-15/
LOCATION:Town Hall Meeting Room\, 2 East Main St\, WILMINGTON\, VT\, 053630217\, United States
END:VEVENT
BEGIN:VEVENT
DTSTART;TZID=America/New_York:20280821T080000
DTEND;TZID=America/New_York:20280821T170000
DTSTAMP:20260421T195820
CREATED:20241205T143531Z
LAST-MODIFIED:20241205T143806Z
UID:10000347-1850457600-1850490000@wilmingtonvermont.us
SUMMARY:Development Review Board
DESCRIPTION:
URL:https://wilmingtonvermont.us/event/development-review-board-2/2028-08-21/
LOCATION:Town Hall Meeting Room\, 2 East Main St\, WILMINGTON\, VT\, 053630217\, United States
END:VEVENT
BEGIN:VEVENT
DTSTART;TZID=America/New_York:20280828T170000
DTEND;TZID=America/New_York:20280828T180000
DTSTAMP:20260421T195820
CREATED:20241205T143317Z
LAST-MODIFIED:20250424T124719Z
UID:10001389-1851094800-1851098400@wilmingtonvermont.us
SUMMARY:Planning Commission
DESCRIPTION:
URL:https://wilmingtonvermont.us/event/planning-commission-2/2028-08-28/
LOCATION:Town Hall Meeting Room\, 2 East Main St\, WILMINGTON\, VT\, 053630217\, United States
END:VEVENT
BEGIN:VEVENT
DTSTART;TZID=America/New_York:20280904T170000
DTEND;TZID=America/New_York:20280904T190000
DTSTAMP:20260421T195820
CREATED:20241205T143435Z
LAST-MODIFIED:20241205T143911Z
UID:10000287-1851699600-1851706800@wilmingtonvermont.us
SUMMARY:Development Review Board
DESCRIPTION:
URL:https://wilmingtonvermont.us/event/development-review-board/2028-09-04/
LOCATION:Town Hall Meeting Room\, 2 East Main St\, WILMINGTON\, VT\, 053630217\, United States
END:VEVENT
BEGIN:VEVENT
DTSTART;TZID=America/New_York:20280905T180000
DTEND;TZID=America/New_York:20280905T200000
DTSTAMP:20260421T195820
CREATED:20241205T145307Z
LAST-MODIFIED:20250529T124158Z
UID:10000588-1851789600-1851796800@wilmingtonvermont.us
SUMMARY:Selectboard
DESCRIPTION:
URL:https://wilmingtonvermont.us/event/selectboard/2028-09-05/
LOCATION:Town Hall Meeting Room\, 2 East Main St\, WILMINGTON\, VT\, 053630217\, United States
END:VEVENT
BEGIN:VEVENT
DTSTART;TZID=America/New_York:20280911T090000
DTEND;TZID=America/New_York:20280911T100000
DTSTAMP:20260421T195820
CREATED:20241205T142743Z
LAST-MODIFIED:20241205T142743Z
UID:10000047-1852275600-1852279200@wilmingtonvermont.us
SUMMARY:Beautification Committee Meeting
DESCRIPTION:
URL:https://wilmingtonvermont.us/event/beautification-committee-meeting/2028-09-11/
LOCATION:Town Hall Meeting Room\, 2 East Main St\, WILMINGTON\, VT\, 053630217\, United States
END:VEVENT
BEGIN:VEVENT
DTSTART;TZID=America/New_York:20280911T170000
DTEND;TZID=America/New_York:20280911T180000
DTSTAMP:20260421T195820
CREATED:20241205T143201Z
LAST-MODIFIED:20250424T124807Z
UID:10001455-1852304400-1852308000@wilmingtonvermont.us
SUMMARY:Planning Commission
DESCRIPTION:
URL:https://wilmingtonvermont.us/event/planning-commission/2028-09-11/
LOCATION:Town Hall Meeting Room\, 2 East Main St\, WILMINGTON\, VT\, 053630217\, United States
END:VEVENT
BEGIN:VEVENT
DTSTART;TZID=America/New_York:20280914T173000
DTEND;TZID=America/New_York:20280914T183000
DTSTAMP:20260421T195820
CREATED:20241205T145808Z
LAST-MODIFIED:20250822T124908Z
UID:10001684-1852565400-1852569000@wilmingtonvermont.us
SUMMARY:Trails Committee
DESCRIPTION:
URL:https://wilmingtonvermont.us/event/trails-committee/2028-09-14/
LOCATION:Town Hall Meeting Room\, 2 East Main St\, WILMINGTON\, VT\, 053630217\, United States
END:VEVENT
BEGIN:VEVENT
DTSTART;TZID=America/New_York:20280918T080000
DTEND;TZID=America/New_York:20280918T170000
DTSTAMP:20260421T195820
CREATED:20241205T143531Z
LAST-MODIFIED:20241205T143806Z
UID:10000348-1852876800-1852909200@wilmingtonvermont.us
SUMMARY:Development Review Board
DESCRIPTION:
URL:https://wilmingtonvermont.us/event/development-review-board-2/2028-09-18/
LOCATION:Town Hall Meeting Room\, 2 East Main St\, WILMINGTON\, VT\, 053630217\, United States
END:VEVENT
BEGIN:VEVENT
DTSTART;TZID=America/New_York:20280919T180000
DTEND;TZID=America/New_York:20280919T200000
DTSTAMP:20260421T195820
CREATED:20241205T145528Z
LAST-MODIFIED:20241205T145528Z
UID:10000649-1852999200-1853006400@wilmingtonvermont.us
SUMMARY:Selectboard
DESCRIPTION:
URL:https://wilmingtonvermont.us/event/selectboard-2/2028-09-19/
LOCATION:Town Hall Meeting Room\, 2 East Main St\, WILMINGTON\, VT\, 053630217\, United States
END:VEVENT
BEGIN:VEVENT
DTSTART;TZID=America/New_York:20280925T170000
DTEND;TZID=America/New_York:20280925T180000
DTSTAMP:20260421T195820
CREATED:20241205T143317Z
LAST-MODIFIED:20250424T124719Z
UID:10001390-1853514000-1853517600@wilmingtonvermont.us
SUMMARY:Planning Commission
DESCRIPTION:
URL:https://wilmingtonvermont.us/event/planning-commission-2/2028-09-25/
LOCATION:Town Hall Meeting Room\, 2 East Main St\, WILMINGTON\, VT\, 053630217\, United States
END:VEVENT
BEGIN:VEVENT
DTSTART;TZID=America/New_York:20281002T170000
DTEND;TZID=America/New_York:20281002T190000
DTSTAMP:20260421T195820
CREATED:20241205T143435Z
LAST-MODIFIED:20241205T143911Z
UID:10000288-1854118800-1854126000@wilmingtonvermont.us
SUMMARY:Development Review Board
DESCRIPTION:
URL:https://wilmingtonvermont.us/event/development-review-board/2028-10-02/
LOCATION:Town Hall Meeting Room\, 2 East Main St\, WILMINGTON\, VT\, 053630217\, United States
END:VEVENT
BEGIN:VEVENT
DTSTART;TZID=America/New_York:20281003T180000
DTEND;TZID=America/New_York:20281003T200000
DTSTAMP:20260421T195820
CREATED:20241205T145307Z
LAST-MODIFIED:20250529T124158Z
UID:10000589-1854208800-1854216000@wilmingtonvermont.us
SUMMARY:Selectboard
DESCRIPTION:
URL:https://wilmingtonvermont.us/event/selectboard/2028-10-03/
LOCATION:Town Hall Meeting Room\, 2 East Main St\, WILMINGTON\, VT\, 053630217\, United States
END:VEVENT
BEGIN:VEVENT
DTSTART;TZID=America/New_York:20281009T090000
DTEND;TZID=America/New_York:20281009T100000
DTSTAMP:20260421T195820
CREATED:20241205T142743Z
LAST-MODIFIED:20241205T142743Z
UID:10000048-1854694800-1854698400@wilmingtonvermont.us
SUMMARY:Beautification Committee Meeting
DESCRIPTION:
URL:https://wilmingtonvermont.us/event/beautification-committee-meeting/2028-10-09/
LOCATION:Town Hall Meeting Room\, 2 East Main St\, WILMINGTON\, VT\, 053630217\, United States
END:VEVENT
BEGIN:VEVENT
DTSTART;TZID=America/New_York:20281009T170000
DTEND;TZID=America/New_York:20281009T180000
DTSTAMP:20260421T195820
CREATED:20241205T143201Z
LAST-MODIFIED:20250424T124807Z
UID:10001456-1854723600-1854727200@wilmingtonvermont.us
SUMMARY:Planning Commission
DESCRIPTION:
URL:https://wilmingtonvermont.us/event/planning-commission/2028-10-09/
LOCATION:Town Hall Meeting Room\, 2 East Main St\, WILMINGTON\, VT\, 053630217\, United States
END:VEVENT
BEGIN:VEVENT
DTSTART;TZID=America/New_York:20281012T173000
DTEND;TZID=America/New_York:20281012T183000
DTSTAMP:20260421T195820
CREATED:20241205T145808Z
LAST-MODIFIED:20250822T124908Z
UID:10001685-1854984600-1854988200@wilmingtonvermont.us
SUMMARY:Trails Committee
DESCRIPTION:
URL:https://wilmingtonvermont.us/event/trails-committee/2028-10-12/
LOCATION:Town Hall Meeting Room\, 2 East Main St\, WILMINGTON\, VT\, 053630217\, United States
END:VEVENT
BEGIN:VEVENT
DTSTART;TZID=America/New_York:20281016T080000
DTEND;TZID=America/New_York:20281016T170000
DTSTAMP:20260421T195820
CREATED:20241205T143531Z
LAST-MODIFIED:20241205T143806Z
UID:10000349-1855296000-1855328400@wilmingtonvermont.us
SUMMARY:Development Review Board
DESCRIPTION:
URL:https://wilmingtonvermont.us/event/development-review-board-2/2028-10-16/
LOCATION:Town Hall Meeting Room\, 2 East Main St\, WILMINGTON\, VT\, 053630217\, United States
END:VEVENT
BEGIN:VEVENT
DTSTART;TZID=America/New_York:20281017T180000
DTEND;TZID=America/New_York:20281017T200000
DTSTAMP:20260421T195820
CREATED:20241205T145528Z
LAST-MODIFIED:20241205T145528Z
UID:10000650-1855418400-1855425600@wilmingtonvermont.us
SUMMARY:Selectboard
DESCRIPTION:
URL:https://wilmingtonvermont.us/event/selectboard-2/2028-10-17/
LOCATION:Town Hall Meeting Room\, 2 East Main St\, WILMINGTON\, VT\, 053630217\, United States
END:VEVENT
BEGIN:VEVENT
DTSTART;TZID=America/New_York:20281023T170000
DTEND;TZID=America/New_York:20281023T180000
DTSTAMP:20260421T195820
CREATED:20241205T143317Z
LAST-MODIFIED:20250424T124719Z
UID:10001391-1855933200-1855936800@wilmingtonvermont.us
SUMMARY:Planning Commission
DESCRIPTION:
URL:https://wilmingtonvermont.us/event/planning-commission-2/2028-10-23/
LOCATION:Town Hall Meeting Room\, 2 East Main St\, WILMINGTON\, VT\, 053630217\, United States
END:VEVENT
BEGIN:VEVENT
DTSTART;TZID=America/New_York:20281106T170000
DTEND;TZID=America/New_York:20281106T190000
DTSTAMP:20260421T195820
CREATED:20241205T143435Z
LAST-MODIFIED:20241205T143911Z
UID:10000289-1857142800-1857150000@wilmingtonvermont.us
SUMMARY:Development Review Board
DESCRIPTION:
URL:https://wilmingtonvermont.us/event/development-review-board/2028-11-06/
LOCATION:Town Hall Meeting Room\, 2 East Main St\, WILMINGTON\, VT\, 053630217\, United States
END:VEVENT
BEGIN:VEVENT
DTSTART;TZID=America/New_York:20281107T180000
DTEND;TZID=America/New_York:20281107T200000
DTSTAMP:20260421T195820
CREATED:20241205T145307Z
LAST-MODIFIED:20250529T124158Z
UID:10000590-1857232800-1857240000@wilmingtonvermont.us
SUMMARY:Selectboard
DESCRIPTION:
URL:https://wilmingtonvermont.us/event/selectboard/2028-11-07/
LOCATION:Town Hall Meeting Room\, 2 East Main St\, WILMINGTON\, VT\, 053630217\, United States
END:VEVENT
BEGIN:VEVENT
DTSTART;TZID=America/New_York:20281109T173000
DTEND;TZID=America/New_York:20281109T183000
DTSTAMP:20260421T195820
CREATED:20241205T145808Z
LAST-MODIFIED:20250822T124908Z
UID:10001686-1857403800-1857407400@wilmingtonvermont.us
SUMMARY:Trails Committee
DESCRIPTION:
URL:https://wilmingtonvermont.us/event/trails-committee/2028-11-09/
LOCATION:Town Hall Meeting Room\, 2 East Main St\, WILMINGTON\, VT\, 053630217\, United States
END:VEVENT
BEGIN:VEVENT
DTSTART;TZID=America/New_York:20281113T090000
DTEND;TZID=America/New_York:20281113T100000
DTSTAMP:20260421T195820
CREATED:20241205T142743Z
LAST-MODIFIED:20241205T142743Z
UID:10000049-1857718800-1857722400@wilmingtonvermont.us
SUMMARY:Beautification Committee Meeting
DESCRIPTION:
URL:https://wilmingtonvermont.us/event/beautification-committee-meeting/2028-11-13/
LOCATION:Town Hall Meeting Room\, 2 East Main St\, WILMINGTON\, VT\, 053630217\, United States
END:VEVENT
END:VCALENDAR