BEGIN:VCALENDAR
VERSION:2.0
PRODID:-//Town of Wilmington - ECPv6.15.20//NONSGML v1.0//EN
CALSCALE:GREGORIAN
METHOD:PUBLISH
X-WR-CALNAME:Town of Wilmington
X-ORIGINAL-URL:https://wilmingtonvermont.us
X-WR-CALDESC:Events for Town of Wilmington
REFRESH-INTERVAL;VALUE=DURATION:PT1H
X-Robots-Tag:noindex
X-PUBLISHED-TTL:PT1H
BEGIN:VTIMEZONE
TZID:America/New_York
BEGIN:DAYLIGHT
TZOFFSETFROM:-0500
TZOFFSETTO:-0400
TZNAME:EDT
DTSTART:20270314T070000
END:DAYLIGHT
BEGIN:STANDARD
TZOFFSETFROM:-0400
TZOFFSETTO:-0500
TZNAME:EST
DTSTART:20271107T060000
END:STANDARD
BEGIN:DAYLIGHT
TZOFFSETFROM:-0500
TZOFFSETTO:-0400
TZNAME:EDT
DTSTART:20280312T070000
END:DAYLIGHT
BEGIN:STANDARD
TZOFFSETFROM:-0400
TZOFFSETTO:-0500
TZNAME:EST
DTSTART:20281105T060000
END:STANDARD
BEGIN:DAYLIGHT
TZOFFSETFROM:-0500
TZOFFSETTO:-0400
TZNAME:EDT
DTSTART:20290311T070000
END:DAYLIGHT
BEGIN:STANDARD
TZOFFSETFROM:-0400
TZOFFSETTO:-0500
TZNAME:EST
DTSTART:20291104T060000
END:STANDARD
END:VTIMEZONE
BEGIN:VEVENT
DTSTART;TZID=America/New_York:20280418T180000
DTEND;TZID=America/New_York:20280418T200000
DTSTAMP:20260421T163641
CREATED:20241205T145528Z
LAST-MODIFIED:20241205T145528Z
UID:10000644-1839693600-1839700800@wilmingtonvermont.us
SUMMARY:Selectboard
DESCRIPTION:
URL:https://wilmingtonvermont.us/event/selectboard-2/2028-04-18/
LOCATION:Town Hall Meeting Room\, 2 East Main St\, WILMINGTON\, VT\, 053630217\, United States
END:VEVENT
BEGIN:VEVENT
DTSTART;TZID=America/New_York:20280424T170000
DTEND;TZID=America/New_York:20280424T180000
DTSTAMP:20260421T163641
CREATED:20241205T143317Z
LAST-MODIFIED:20250424T124719Z
UID:10001385-1840208400-1840212000@wilmingtonvermont.us
SUMMARY:Planning Commission
DESCRIPTION:
URL:https://wilmingtonvermont.us/event/planning-commission-2/2028-04-24/
LOCATION:Town Hall Meeting Room\, 2 East Main St\, WILMINGTON\, VT\, 053630217\, United States
END:VEVENT
BEGIN:VEVENT
DTSTART;TZID=America/New_York:20280501T170000
DTEND;TZID=America/New_York:20280501T190000
DTSTAMP:20260421T163641
CREATED:20241205T143435Z
LAST-MODIFIED:20241205T143911Z
UID:10000283-1840813200-1840820400@wilmingtonvermont.us
SUMMARY:Development Review Board
DESCRIPTION:
URL:https://wilmingtonvermont.us/event/development-review-board/2028-05-01/
LOCATION:Town Hall Meeting Room\, 2 East Main St\, WILMINGTON\, VT\, 053630217\, United States
END:VEVENT
BEGIN:VEVENT
DTSTART;TZID=America/New_York:20280502T180000
DTEND;TZID=America/New_York:20280502T200000
DTSTAMP:20260421T163641
CREATED:20241205T145307Z
LAST-MODIFIED:20250529T124158Z
UID:10000584-1840903200-1840910400@wilmingtonvermont.us
SUMMARY:Selectboard
DESCRIPTION:
URL:https://wilmingtonvermont.us/event/selectboard/2028-05-02/
LOCATION:Town Hall Meeting Room\, 2 East Main St\, WILMINGTON\, VT\, 053630217\, United States
END:VEVENT
BEGIN:VEVENT
DTSTART;TZID=America/New_York:20280508T090000
DTEND;TZID=America/New_York:20280508T100000
DTSTAMP:20260421T163641
CREATED:20241205T142743Z
LAST-MODIFIED:20241205T142743Z
UID:10000043-1841389200-1841392800@wilmingtonvermont.us
SUMMARY:Beautification Committee Meeting
DESCRIPTION:
URL:https://wilmingtonvermont.us/event/beautification-committee-meeting/2028-05-08/
LOCATION:Town Hall Meeting Room\, 2 East Main St\, WILMINGTON\, VT\, 053630217\, United States
END:VEVENT
BEGIN:VEVENT
DTSTART;TZID=America/New_York:20280508T170000
DTEND;TZID=America/New_York:20280508T180000
DTSTAMP:20260421T163641
CREATED:20241205T143201Z
LAST-MODIFIED:20250424T124807Z
UID:10001451-1841418000-1841421600@wilmingtonvermont.us
SUMMARY:Planning Commission
DESCRIPTION:
URL:https://wilmingtonvermont.us/event/planning-commission/2028-05-08/
LOCATION:Town Hall Meeting Room\, 2 East Main St\, WILMINGTON\, VT\, 053630217\, United States
END:VEVENT
BEGIN:VEVENT
DTSTART;TZID=America/New_York:20280511T173000
DTEND;TZID=America/New_York:20280511T183000
DTSTAMP:20260421T163641
CREATED:20241205T145808Z
LAST-MODIFIED:20250822T124908Z
UID:10001680-1841679000-1841682600@wilmingtonvermont.us
SUMMARY:Trails Committee
DESCRIPTION:
URL:https://wilmingtonvermont.us/event/trails-committee/2028-05-11/
LOCATION:Town Hall Meeting Room\, 2 East Main St\, WILMINGTON\, VT\, 053630217\, United States
END:VEVENT
BEGIN:VEVENT
DTSTART;TZID=America/New_York:20280515T080000
DTEND;TZID=America/New_York:20280515T170000
DTSTAMP:20260421T163641
CREATED:20241205T143531Z
LAST-MODIFIED:20241205T143806Z
UID:10000344-1841990400-1842022800@wilmingtonvermont.us
SUMMARY:Development Review Board
DESCRIPTION:
URL:https://wilmingtonvermont.us/event/development-review-board-2/2028-05-15/
LOCATION:Town Hall Meeting Room\, 2 East Main St\, WILMINGTON\, VT\, 053630217\, United States
END:VEVENT
BEGIN:VEVENT
DTSTART;TZID=America/New_York:20280516T180000
DTEND;TZID=America/New_York:20280516T200000
DTSTAMP:20260421T163641
CREATED:20241205T145528Z
LAST-MODIFIED:20241205T145528Z
UID:10000645-1842112800-1842120000@wilmingtonvermont.us
SUMMARY:Selectboard
DESCRIPTION:
URL:https://wilmingtonvermont.us/event/selectboard-2/2028-05-16/
LOCATION:Town Hall Meeting Room\, 2 East Main St\, WILMINGTON\, VT\, 053630217\, United States
END:VEVENT
BEGIN:VEVENT
DTSTART;TZID=America/New_York:20280522T170000
DTEND;TZID=America/New_York:20280522T180000
DTSTAMP:20260421T163641
CREATED:20241205T143317Z
LAST-MODIFIED:20250424T124719Z
UID:10001386-1842627600-1842631200@wilmingtonvermont.us
SUMMARY:Planning Commission
DESCRIPTION:
URL:https://wilmingtonvermont.us/event/planning-commission-2/2028-05-22/
LOCATION:Town Hall Meeting Room\, 2 East Main St\, WILMINGTON\, VT\, 053630217\, United States
END:VEVENT
BEGIN:VEVENT
DTSTART;TZID=America/New_York:20280605T170000
DTEND;TZID=America/New_York:20280605T190000
DTSTAMP:20260421T163641
CREATED:20241205T143435Z
LAST-MODIFIED:20241205T143911Z
UID:10000284-1843837200-1843844400@wilmingtonvermont.us
SUMMARY:Development Review Board
DESCRIPTION:
URL:https://wilmingtonvermont.us/event/development-review-board/2028-06-05/
LOCATION:Town Hall Meeting Room\, 2 East Main St\, WILMINGTON\, VT\, 053630217\, United States
END:VEVENT
BEGIN:VEVENT
DTSTART;TZID=America/New_York:20280606T180000
DTEND;TZID=America/New_York:20280606T200000
DTSTAMP:20260421T163641
CREATED:20241205T145307Z
LAST-MODIFIED:20250529T124158Z
UID:10000585-1843927200-1843934400@wilmingtonvermont.us
SUMMARY:Selectboard
DESCRIPTION:
URL:https://wilmingtonvermont.us/event/selectboard/2028-06-06/
LOCATION:Town Hall Meeting Room\, 2 East Main St\, WILMINGTON\, VT\, 053630217\, United States
END:VEVENT
BEGIN:VEVENT
DTSTART;TZID=America/New_York:20280608T173000
DTEND;TZID=America/New_York:20280608T183000
DTSTAMP:20260421T163641
CREATED:20241205T145808Z
LAST-MODIFIED:20250822T124908Z
UID:10001681-1844098200-1844101800@wilmingtonvermont.us
SUMMARY:Trails Committee
DESCRIPTION:
URL:https://wilmingtonvermont.us/event/trails-committee/2028-06-08/
LOCATION:Town Hall Meeting Room\, 2 East Main St\, WILMINGTON\, VT\, 053630217\, United States
END:VEVENT
BEGIN:VEVENT
DTSTART;TZID=America/New_York:20280612T090000
DTEND;TZID=America/New_York:20280612T100000
DTSTAMP:20260421T163641
CREATED:20241205T142743Z
LAST-MODIFIED:20241205T142743Z
UID:10000044-1844413200-1844416800@wilmingtonvermont.us
SUMMARY:Beautification Committee Meeting
DESCRIPTION:
URL:https://wilmingtonvermont.us/event/beautification-committee-meeting/2028-06-12/
LOCATION:Town Hall Meeting Room\, 2 East Main St\, WILMINGTON\, VT\, 053630217\, United States
END:VEVENT
BEGIN:VEVENT
DTSTART;TZID=America/New_York:20280612T170000
DTEND;TZID=America/New_York:20280612T180000
DTSTAMP:20260421T163641
CREATED:20241205T143201Z
LAST-MODIFIED:20250424T124807Z
UID:10001452-1844442000-1844445600@wilmingtonvermont.us
SUMMARY:Planning Commission
DESCRIPTION:
URL:https://wilmingtonvermont.us/event/planning-commission/2028-06-12/
LOCATION:Town Hall Meeting Room\, 2 East Main St\, WILMINGTON\, VT\, 053630217\, United States
END:VEVENT
BEGIN:VEVENT
DTSTART;TZID=America/New_York:20280619T080000
DTEND;TZID=America/New_York:20280619T170000
DTSTAMP:20260421T163641
CREATED:20241205T143531Z
LAST-MODIFIED:20241205T143806Z
UID:10000345-1845014400-1845046800@wilmingtonvermont.us
SUMMARY:Development Review Board
DESCRIPTION:
URL:https://wilmingtonvermont.us/event/development-review-board-2/2028-06-19/
LOCATION:Town Hall Meeting Room\, 2 East Main St\, WILMINGTON\, VT\, 053630217\, United States
END:VEVENT
BEGIN:VEVENT
DTSTART;TZID=America/New_York:20280620T180000
DTEND;TZID=America/New_York:20280620T200000
DTSTAMP:20260421T163641
CREATED:20241205T145528Z
LAST-MODIFIED:20241205T145528Z
UID:10000646-1845136800-1845144000@wilmingtonvermont.us
SUMMARY:Selectboard
DESCRIPTION:
URL:https://wilmingtonvermont.us/event/selectboard-2/2028-06-20/
LOCATION:Town Hall Meeting Room\, 2 East Main St\, WILMINGTON\, VT\, 053630217\, United States
END:VEVENT
BEGIN:VEVENT
DTSTART;TZID=America/New_York:20280626T170000
DTEND;TZID=America/New_York:20280626T180000
DTSTAMP:20260421T163641
CREATED:20241205T143317Z
LAST-MODIFIED:20250424T124719Z
UID:10001387-1845651600-1845655200@wilmingtonvermont.us
SUMMARY:Planning Commission
DESCRIPTION:
URL:https://wilmingtonvermont.us/event/planning-commission-2/2028-06-26/
LOCATION:Town Hall Meeting Room\, 2 East Main St\, WILMINGTON\, VT\, 053630217\, United States
END:VEVENT
BEGIN:VEVENT
DTSTART;TZID=America/New_York:20280703T170000
DTEND;TZID=America/New_York:20280703T190000
DTSTAMP:20260421T163641
CREATED:20241205T143435Z
LAST-MODIFIED:20241205T143911Z
UID:10000285-1846256400-1846263600@wilmingtonvermont.us
SUMMARY:Development Review Board
DESCRIPTION:
URL:https://wilmingtonvermont.us/event/development-review-board/2028-07-03/
LOCATION:Town Hall Meeting Room\, 2 East Main St\, WILMINGTON\, VT\, 053630217\, United States
END:VEVENT
BEGIN:VEVENT
DTSTART;TZID=America/New_York:20280704T180000
DTEND;TZID=America/New_York:20280704T200000
DTSTAMP:20260421T163641
CREATED:20241205T145307Z
LAST-MODIFIED:20250529T124158Z
UID:10000586-1846346400-1846353600@wilmingtonvermont.us
SUMMARY:Selectboard
DESCRIPTION:
URL:https://wilmingtonvermont.us/event/selectboard/2028-07-04/
LOCATION:Town Hall Meeting Room\, 2 East Main St\, WILMINGTON\, VT\, 053630217\, United States
END:VEVENT
BEGIN:VEVENT
DTSTART;TZID=America/New_York:20280710T090000
DTEND;TZID=America/New_York:20280710T100000
DTSTAMP:20260421T163641
CREATED:20241205T142743Z
LAST-MODIFIED:20241205T142743Z
UID:10000045-1846832400-1846836000@wilmingtonvermont.us
SUMMARY:Beautification Committee Meeting
DESCRIPTION:
URL:https://wilmingtonvermont.us/event/beautification-committee-meeting/2028-07-10/
LOCATION:Town Hall Meeting Room\, 2 East Main St\, WILMINGTON\, VT\, 053630217\, United States
END:VEVENT
BEGIN:VEVENT
DTSTART;TZID=America/New_York:20280710T170000
DTEND;TZID=America/New_York:20280710T180000
DTSTAMP:20260421T163641
CREATED:20241205T143201Z
LAST-MODIFIED:20250424T124807Z
UID:10001453-1846861200-1846864800@wilmingtonvermont.us
SUMMARY:Planning Commission
DESCRIPTION:
URL:https://wilmingtonvermont.us/event/planning-commission/2028-07-10/
LOCATION:Town Hall Meeting Room\, 2 East Main St\, WILMINGTON\, VT\, 053630217\, United States
END:VEVENT
BEGIN:VEVENT
DTSTART;TZID=America/New_York:20280713T173000
DTEND;TZID=America/New_York:20280713T183000
DTSTAMP:20260421T163641
CREATED:20241205T145808Z
LAST-MODIFIED:20250822T124908Z
UID:10001682-1847122200-1847125800@wilmingtonvermont.us
SUMMARY:Trails Committee
DESCRIPTION:
URL:https://wilmingtonvermont.us/event/trails-committee/2028-07-13/
LOCATION:Town Hall Meeting Room\, 2 East Main St\, WILMINGTON\, VT\, 053630217\, United States
END:VEVENT
BEGIN:VEVENT
DTSTART;TZID=America/New_York:20280717T080000
DTEND;TZID=America/New_York:20280717T170000
DTSTAMP:20260421T163641
CREATED:20241205T143531Z
LAST-MODIFIED:20241205T143806Z
UID:10000346-1847433600-1847466000@wilmingtonvermont.us
SUMMARY:Development Review Board
DESCRIPTION:
URL:https://wilmingtonvermont.us/event/development-review-board-2/2028-07-17/
LOCATION:Town Hall Meeting Room\, 2 East Main St\, WILMINGTON\, VT\, 053630217\, United States
END:VEVENT
BEGIN:VEVENT
DTSTART;TZID=America/New_York:20280718T180000
DTEND;TZID=America/New_York:20280718T200000
DTSTAMP:20260421T163641
CREATED:20241205T145528Z
LAST-MODIFIED:20241205T145528Z
UID:10000647-1847556000-1847563200@wilmingtonvermont.us
SUMMARY:Selectboard
DESCRIPTION:
URL:https://wilmingtonvermont.us/event/selectboard-2/2028-07-18/
LOCATION:Town Hall Meeting Room\, 2 East Main St\, WILMINGTON\, VT\, 053630217\, United States
END:VEVENT
BEGIN:VEVENT
DTSTART;TZID=America/New_York:20280724T170000
DTEND;TZID=America/New_York:20280724T180000
DTSTAMP:20260421T163641
CREATED:20241205T143317Z
LAST-MODIFIED:20250424T124719Z
UID:10001388-1848070800-1848074400@wilmingtonvermont.us
SUMMARY:Planning Commission
DESCRIPTION:
URL:https://wilmingtonvermont.us/event/planning-commission-2/2028-07-24/
LOCATION:Town Hall Meeting Room\, 2 East Main St\, WILMINGTON\, VT\, 053630217\, United States
END:VEVENT
BEGIN:VEVENT
DTSTART;TZID=America/New_York:20280801T180000
DTEND;TZID=America/New_York:20280801T200000
DTSTAMP:20260421T163641
CREATED:20241205T145307Z
LAST-MODIFIED:20250529T124158Z
UID:10000587-1848765600-1848772800@wilmingtonvermont.us
SUMMARY:Selectboard
DESCRIPTION:
URL:https://wilmingtonvermont.us/event/selectboard/2028-08-01/
LOCATION:Town Hall Meeting Room\, 2 East Main St\, WILMINGTON\, VT\, 053630217\, United States
END:VEVENT
BEGIN:VEVENT
DTSTART;TZID=America/New_York:20280807T170000
DTEND;TZID=America/New_York:20280807T190000
DTSTAMP:20260421T163641
CREATED:20241205T143435Z
LAST-MODIFIED:20241205T143911Z
UID:10000286-1849280400-1849287600@wilmingtonvermont.us
SUMMARY:Development Review Board
DESCRIPTION:
URL:https://wilmingtonvermont.us/event/development-review-board/2028-08-07/
LOCATION:Town Hall Meeting Room\, 2 East Main St\, WILMINGTON\, VT\, 053630217\, United States
END:VEVENT
BEGIN:VEVENT
DTSTART;TZID=America/New_York:20280810T173000
DTEND;TZID=America/New_York:20280810T183000
DTSTAMP:20260421T163641
CREATED:20241205T145808Z
LAST-MODIFIED:20250822T124908Z
UID:10001683-1849541400-1849545000@wilmingtonvermont.us
SUMMARY:Trails Committee
DESCRIPTION:
URL:https://wilmingtonvermont.us/event/trails-committee/2028-08-10/
LOCATION:Town Hall Meeting Room\, 2 East Main St\, WILMINGTON\, VT\, 053630217\, United States
END:VEVENT
BEGIN:VEVENT
DTSTART;TZID=America/New_York:20280814T090000
DTEND;TZID=America/New_York:20280814T100000
DTSTAMP:20260421T163641
CREATED:20241205T142743Z
LAST-MODIFIED:20241205T142743Z
UID:10000046-1849856400-1849860000@wilmingtonvermont.us
SUMMARY:Beautification Committee Meeting
DESCRIPTION:
URL:https://wilmingtonvermont.us/event/beautification-committee-meeting/2028-08-14/
LOCATION:Town Hall Meeting Room\, 2 East Main St\, WILMINGTON\, VT\, 053630217\, United States
END:VEVENT
END:VCALENDAR