BEGIN:VCALENDAR
VERSION:2.0
PRODID:-//Town of Wilmington - ECPv6.15.20//NONSGML v1.0//EN
CALSCALE:GREGORIAN
METHOD:PUBLISH
X-ORIGINAL-URL:https://wilmingtonvermont.us
X-WR-CALDESC:Events for Town of Wilmington
REFRESH-INTERVAL;VALUE=DURATION:PT1H
X-Robots-Tag:noindex
X-PUBLISHED-TTL:PT1H
BEGIN:VTIMEZONE
TZID:America/New_York
BEGIN:DAYLIGHT
TZOFFSETFROM:-0500
TZOFFSETTO:-0400
TZNAME:EDT
DTSTART:20270314T070000
END:DAYLIGHT
BEGIN:STANDARD
TZOFFSETFROM:-0400
TZOFFSETTO:-0500
TZNAME:EST
DTSTART:20271107T060000
END:STANDARD
BEGIN:DAYLIGHT
TZOFFSETFROM:-0500
TZOFFSETTO:-0400
TZNAME:EDT
DTSTART:20280312T070000
END:DAYLIGHT
BEGIN:STANDARD
TZOFFSETFROM:-0400
TZOFFSETTO:-0500
TZNAME:EST
DTSTART:20281105T060000
END:STANDARD
BEGIN:DAYLIGHT
TZOFFSETFROM:-0500
TZOFFSETTO:-0400
TZNAME:EDT
DTSTART:20290311T070000
END:DAYLIGHT
BEGIN:STANDARD
TZOFFSETFROM:-0400
TZOFFSETTO:-0500
TZNAME:EST
DTSTART:20291104T060000
END:STANDARD
END:VTIMEZONE
BEGIN:VEVENT
DTSTART;TZID=America/New_York:20280118T180000
DTEND;TZID=America/New_York:20280118T200000
DTSTAMP:20260421T132424
CREATED:20241205T145528Z
LAST-MODIFIED:20241205T145528Z
UID:10000641-1831831200-1831838400@wilmingtonvermont.us
SUMMARY:Selectboard
DESCRIPTION:
URL:https://wilmingtonvermont.us/event/selectboard-2/2028-01-18/
LOCATION:Town Hall Meeting Room\, 2 East Main St\, WILMINGTON\, VT\, 053630217\, United States
END:VEVENT
BEGIN:VEVENT
DTSTART;TZID=America/New_York:20280124T170000
DTEND;TZID=America/New_York:20280124T180000
DTSTAMP:20260421T132424
CREATED:20241205T143317Z
LAST-MODIFIED:20250424T124719Z
UID:10001382-1832346000-1832349600@wilmingtonvermont.us
SUMMARY:Planning Commission
DESCRIPTION:
URL:https://wilmingtonvermont.us/event/planning-commission-2/2028-01-24/
LOCATION:Town Hall Meeting Room\, 2 East Main St\, WILMINGTON\, VT\, 053630217\, United States
END:VEVENT
BEGIN:VEVENT
DTSTART;TZID=America/New_York:20280201T180000
DTEND;TZID=America/New_York:20280201T200000
DTSTAMP:20260421T132424
CREATED:20241205T145307Z
LAST-MODIFIED:20250529T124158Z
UID:10000581-1833040800-1833048000@wilmingtonvermont.us
SUMMARY:Selectboard
DESCRIPTION:
URL:https://wilmingtonvermont.us/event/selectboard/2028-02-01/
LOCATION:Town Hall Meeting Room\, 2 East Main St\, WILMINGTON\, VT\, 053630217\, United States
END:VEVENT
BEGIN:VEVENT
DTSTART;TZID=America/New_York:20280207T170000
DTEND;TZID=America/New_York:20280207T190000
DTSTAMP:20260421T132424
CREATED:20241205T143435Z
LAST-MODIFIED:20241205T143911Z
UID:10000280-1833555600-1833562800@wilmingtonvermont.us
SUMMARY:Development Review Board
DESCRIPTION:
URL:https://wilmingtonvermont.us/event/development-review-board/2028-02-07/
LOCATION:Town Hall Meeting Room\, 2 East Main St\, WILMINGTON\, VT\, 053630217\, United States
END:VEVENT
BEGIN:VEVENT
DTSTART;TZID=America/New_York:20280210T173000
DTEND;TZID=America/New_York:20280210T183000
DTSTAMP:20260421T132424
CREATED:20241205T145808Z
LAST-MODIFIED:20250822T124908Z
UID:10001677-1833816600-1833820200@wilmingtonvermont.us
SUMMARY:Trails Committee
DESCRIPTION:
URL:https://wilmingtonvermont.us/event/trails-committee/2028-02-10/
LOCATION:Town Hall Meeting Room\, 2 East Main St\, WILMINGTON\, VT\, 053630217\, United States
END:VEVENT
BEGIN:VEVENT
DTSTART;TZID=America/New_York:20280214T090000
DTEND;TZID=America/New_York:20280214T100000
DTSTAMP:20260421T132424
CREATED:20241205T142743Z
LAST-MODIFIED:20241205T142743Z
UID:10000040-1834131600-1834135200@wilmingtonvermont.us
SUMMARY:Beautification Committee Meeting
DESCRIPTION:
URL:https://wilmingtonvermont.us/event/beautification-committee-meeting/2028-02-14/
LOCATION:Town Hall Meeting Room\, 2 East Main St\, WILMINGTON\, VT\, 053630217\, United States
END:VEVENT
BEGIN:VEVENT
DTSTART;TZID=America/New_York:20280214T170000
DTEND;TZID=America/New_York:20280214T180000
DTSTAMP:20260421T132424
CREATED:20241205T143201Z
LAST-MODIFIED:20250424T124807Z
UID:10001448-1834160400-1834164000@wilmingtonvermont.us
SUMMARY:Planning Commission
DESCRIPTION:
URL:https://wilmingtonvermont.us/event/planning-commission/2028-02-14/
LOCATION:Town Hall Meeting Room\, 2 East Main St\, WILMINGTON\, VT\, 053630217\, United States
END:VEVENT
BEGIN:VEVENT
DTSTART;TZID=America/New_York:20280215T180000
DTEND;TZID=America/New_York:20280215T200000
DTSTAMP:20260421T132424
CREATED:20241205T145528Z
LAST-MODIFIED:20241205T145528Z
UID:10000642-1834250400-1834257600@wilmingtonvermont.us
SUMMARY:Selectboard
DESCRIPTION:
URL:https://wilmingtonvermont.us/event/selectboard-2/2028-02-15/
LOCATION:Town Hall Meeting Room\, 2 East Main St\, WILMINGTON\, VT\, 053630217\, United States
END:VEVENT
BEGIN:VEVENT
DTSTART;TZID=America/New_York:20280221T080000
DTEND;TZID=America/New_York:20280221T170000
DTSTAMP:20260421T132424
CREATED:20241205T143531Z
LAST-MODIFIED:20241205T143806Z
UID:10000341-1834732800-1834765200@wilmingtonvermont.us
SUMMARY:Development Review Board
DESCRIPTION:
URL:https://wilmingtonvermont.us/event/development-review-board-2/2028-02-21/
LOCATION:Town Hall Meeting Room\, 2 East Main St\, WILMINGTON\, VT\, 053630217\, United States
END:VEVENT
BEGIN:VEVENT
DTSTART;TZID=America/New_York:20280228T170000
DTEND;TZID=America/New_York:20280228T180000
DTSTAMP:20260421T132424
CREATED:20241205T143317Z
LAST-MODIFIED:20250424T124719Z
UID:10001383-1835370000-1835373600@wilmingtonvermont.us
SUMMARY:Planning Commission
DESCRIPTION:
URL:https://wilmingtonvermont.us/event/planning-commission-2/2028-02-28/
LOCATION:Town Hall Meeting Room\, 2 East Main St\, WILMINGTON\, VT\, 053630217\, United States
END:VEVENT
BEGIN:VEVENT
DTSTART;TZID=America/New_York:20280306T170000
DTEND;TZID=America/New_York:20280306T190000
DTSTAMP:20260421T132424
CREATED:20241205T143435Z
LAST-MODIFIED:20241205T143911Z
UID:10000281-1835974800-1835982000@wilmingtonvermont.us
SUMMARY:Development Review Board
DESCRIPTION:
URL:https://wilmingtonvermont.us/event/development-review-board/2028-03-06/
LOCATION:Town Hall Meeting Room\, 2 East Main St\, WILMINGTON\, VT\, 053630217\, United States
END:VEVENT
BEGIN:VEVENT
DTSTART;TZID=America/New_York:20280307T180000
DTEND;TZID=America/New_York:20280307T200000
DTSTAMP:20260421T132424
CREATED:20241205T145307Z
LAST-MODIFIED:20250529T124158Z
UID:10000582-1836064800-1836072000@wilmingtonvermont.us
SUMMARY:Selectboard
DESCRIPTION:
URL:https://wilmingtonvermont.us/event/selectboard/2028-03-07/
LOCATION:Town Hall Meeting Room\, 2 East Main St\, WILMINGTON\, VT\, 053630217\, United States
END:VEVENT
BEGIN:VEVENT
DTSTART;TZID=America/New_York:20280309T173000
DTEND;TZID=America/New_York:20280309T183000
DTSTAMP:20260421T132424
CREATED:20241205T145808Z
LAST-MODIFIED:20250822T124908Z
UID:10001678-1836235800-1836239400@wilmingtonvermont.us
SUMMARY:Trails Committee
DESCRIPTION:
URL:https://wilmingtonvermont.us/event/trails-committee/2028-03-09/
LOCATION:Town Hall Meeting Room\, 2 East Main St\, WILMINGTON\, VT\, 053630217\, United States
END:VEVENT
BEGIN:VEVENT
DTSTART;TZID=America/New_York:20280313T090000
DTEND;TZID=America/New_York:20280313T100000
DTSTAMP:20260421T132424
CREATED:20241205T142743Z
LAST-MODIFIED:20241205T142743Z
UID:10000041-1836550800-1836554400@wilmingtonvermont.us
SUMMARY:Beautification Committee Meeting
DESCRIPTION:
URL:https://wilmingtonvermont.us/event/beautification-committee-meeting/2028-03-13/
LOCATION:Town Hall Meeting Room\, 2 East Main St\, WILMINGTON\, VT\, 053630217\, United States
END:VEVENT
BEGIN:VEVENT
DTSTART;TZID=America/New_York:20280313T170000
DTEND;TZID=America/New_York:20280313T180000
DTSTAMP:20260421T132424
CREATED:20241205T143201Z
LAST-MODIFIED:20250424T124807Z
UID:10001449-1836579600-1836583200@wilmingtonvermont.us
SUMMARY:Planning Commission
DESCRIPTION:
URL:https://wilmingtonvermont.us/event/planning-commission/2028-03-13/
LOCATION:Town Hall Meeting Room\, 2 East Main St\, WILMINGTON\, VT\, 053630217\, United States
END:VEVENT
BEGIN:VEVENT
DTSTART;TZID=America/New_York:20280320T080000
DTEND;TZID=America/New_York:20280320T170000
DTSTAMP:20260421T132424
CREATED:20241205T143531Z
LAST-MODIFIED:20241205T143806Z
UID:10000342-1837152000-1837184400@wilmingtonvermont.us
SUMMARY:Development Review Board
DESCRIPTION:
URL:https://wilmingtonvermont.us/event/development-review-board-2/2028-03-20/
LOCATION:Town Hall Meeting Room\, 2 East Main St\, WILMINGTON\, VT\, 053630217\, United States
END:VEVENT
BEGIN:VEVENT
DTSTART;TZID=America/New_York:20280321T180000
DTEND;TZID=America/New_York:20280321T200000
DTSTAMP:20260421T132424
CREATED:20241205T145528Z
LAST-MODIFIED:20241205T145528Z
UID:10000643-1837274400-1837281600@wilmingtonvermont.us
SUMMARY:Selectboard
DESCRIPTION:
URL:https://wilmingtonvermont.us/event/selectboard-2/2028-03-21/
LOCATION:Town Hall Meeting Room\, 2 East Main St\, WILMINGTON\, VT\, 053630217\, United States
END:VEVENT
BEGIN:VEVENT
DTSTART;TZID=America/New_York:20280327T170000
DTEND;TZID=America/New_York:20280327T180000
DTSTAMP:20260421T132424
CREATED:20241205T143317Z
LAST-MODIFIED:20250424T124719Z
UID:10001384-1837789200-1837792800@wilmingtonvermont.us
SUMMARY:Planning Commission
DESCRIPTION:
URL:https://wilmingtonvermont.us/event/planning-commission-2/2028-03-27/
LOCATION:Town Hall Meeting Room\, 2 East Main St\, WILMINGTON\, VT\, 053630217\, United States
END:VEVENT
BEGIN:VEVENT
DTSTART;TZID=America/New_York:20280403T170000
DTEND;TZID=America/New_York:20280403T190000
DTSTAMP:20260421T132424
CREATED:20241205T143435Z
LAST-MODIFIED:20241205T143911Z
UID:10000282-1838394000-1838401200@wilmingtonvermont.us
SUMMARY:Development Review Board
DESCRIPTION:
URL:https://wilmingtonvermont.us/event/development-review-board/2028-04-03/
LOCATION:Town Hall Meeting Room\, 2 East Main St\, WILMINGTON\, VT\, 053630217\, United States
END:VEVENT
BEGIN:VEVENT
DTSTART;TZID=America/New_York:20280404T180000
DTEND;TZID=America/New_York:20280404T200000
DTSTAMP:20260421T132424
CREATED:20241205T145307Z
LAST-MODIFIED:20250529T124158Z
UID:10000583-1838484000-1838491200@wilmingtonvermont.us
SUMMARY:Selectboard
DESCRIPTION:
URL:https://wilmingtonvermont.us/event/selectboard/2028-04-04/
LOCATION:Town Hall Meeting Room\, 2 East Main St\, WILMINGTON\, VT\, 053630217\, United States
END:VEVENT
BEGIN:VEVENT
DTSTART;TZID=America/New_York:20280410T090000
DTEND;TZID=America/New_York:20280410T100000
DTSTAMP:20260421T132424
CREATED:20241205T142743Z
LAST-MODIFIED:20241205T142743Z
UID:10000042-1838970000-1838973600@wilmingtonvermont.us
SUMMARY:Beautification Committee Meeting
DESCRIPTION:
URL:https://wilmingtonvermont.us/event/beautification-committee-meeting/2028-04-10/
LOCATION:Town Hall Meeting Room\, 2 East Main St\, WILMINGTON\, VT\, 053630217\, United States
END:VEVENT
BEGIN:VEVENT
DTSTART;TZID=America/New_York:20280410T170000
DTEND;TZID=America/New_York:20280410T180000
DTSTAMP:20260421T132424
CREATED:20241205T143201Z
LAST-MODIFIED:20250424T124807Z
UID:10001450-1838998800-1839002400@wilmingtonvermont.us
SUMMARY:Planning Commission
DESCRIPTION:
URL:https://wilmingtonvermont.us/event/planning-commission/2028-04-10/
LOCATION:Town Hall Meeting Room\, 2 East Main St\, WILMINGTON\, VT\, 053630217\, United States
END:VEVENT
BEGIN:VEVENT
DTSTART;TZID=America/New_York:20280413T173000
DTEND;TZID=America/New_York:20280413T183000
DTSTAMP:20260421T132424
CREATED:20241205T145808Z
LAST-MODIFIED:20250822T124908Z
UID:10001679-1839259800-1839263400@wilmingtonvermont.us
SUMMARY:Trails Committee
DESCRIPTION:
URL:https://wilmingtonvermont.us/event/trails-committee/2028-04-13/
LOCATION:Town Hall Meeting Room\, 2 East Main St\, WILMINGTON\, VT\, 053630217\, United States
END:VEVENT
BEGIN:VEVENT
DTSTART;TZID=America/New_York:20280417T080000
DTEND;TZID=America/New_York:20280417T170000
DTSTAMP:20260421T132424
CREATED:20241205T143531Z
LAST-MODIFIED:20241205T143806Z
UID:10000343-1839571200-1839603600@wilmingtonvermont.us
SUMMARY:Development Review Board
DESCRIPTION:
URL:https://wilmingtonvermont.us/event/development-review-board-2/2028-04-17/
LOCATION:Town Hall Meeting Room\, 2 East Main St\, WILMINGTON\, VT\, 053630217\, United States
END:VEVENT
BEGIN:VEVENT
DTSTART;TZID=America/New_York:20280418T180000
DTEND;TZID=America/New_York:20280418T200000
DTSTAMP:20260421T132424
CREATED:20241205T145528Z
LAST-MODIFIED:20241205T145528Z
UID:10000644-1839693600-1839700800@wilmingtonvermont.us
SUMMARY:Selectboard
DESCRIPTION:
URL:https://wilmingtonvermont.us/event/selectboard-2/2028-04-18/
LOCATION:Town Hall Meeting Room\, 2 East Main St\, WILMINGTON\, VT\, 053630217\, United States
END:VEVENT
BEGIN:VEVENT
DTSTART;TZID=America/New_York:20280424T170000
DTEND;TZID=America/New_York:20280424T180000
DTSTAMP:20260421T132424
CREATED:20241205T143317Z
LAST-MODIFIED:20250424T124719Z
UID:10001385-1840208400-1840212000@wilmingtonvermont.us
SUMMARY:Planning Commission
DESCRIPTION:
URL:https://wilmingtonvermont.us/event/planning-commission-2/2028-04-24/
LOCATION:Town Hall Meeting Room\, 2 East Main St\, WILMINGTON\, VT\, 053630217\, United States
END:VEVENT
BEGIN:VEVENT
DTSTART;TZID=America/New_York:20280501T170000
DTEND;TZID=America/New_York:20280501T190000
DTSTAMP:20260421T132424
CREATED:20241205T143435Z
LAST-MODIFIED:20241205T143911Z
UID:10000283-1840813200-1840820400@wilmingtonvermont.us
SUMMARY:Development Review Board
DESCRIPTION:
URL:https://wilmingtonvermont.us/event/development-review-board/2028-05-01/
LOCATION:Town Hall Meeting Room\, 2 East Main St\, WILMINGTON\, VT\, 053630217\, United States
END:VEVENT
BEGIN:VEVENT
DTSTART;TZID=America/New_York:20280502T180000
DTEND;TZID=America/New_York:20280502T200000
DTSTAMP:20260421T132424
CREATED:20241205T145307Z
LAST-MODIFIED:20250529T124158Z
UID:10000584-1840903200-1840910400@wilmingtonvermont.us
SUMMARY:Selectboard
DESCRIPTION:
URL:https://wilmingtonvermont.us/event/selectboard/2028-05-02/
LOCATION:Town Hall Meeting Room\, 2 East Main St\, WILMINGTON\, VT\, 053630217\, United States
END:VEVENT
BEGIN:VEVENT
DTSTART;TZID=America/New_York:20280508T090000
DTEND;TZID=America/New_York:20280508T100000
DTSTAMP:20260421T132424
CREATED:20241205T142743Z
LAST-MODIFIED:20241205T142743Z
UID:10000043-1841389200-1841392800@wilmingtonvermont.us
SUMMARY:Beautification Committee Meeting
DESCRIPTION:
URL:https://wilmingtonvermont.us/event/beautification-committee-meeting/2028-05-08/
LOCATION:Town Hall Meeting Room\, 2 East Main St\, WILMINGTON\, VT\, 053630217\, United States
END:VEVENT
BEGIN:VEVENT
DTSTART;TZID=America/New_York:20280508T170000
DTEND;TZID=America/New_York:20280508T180000
DTSTAMP:20260421T132424
CREATED:20241205T143201Z
LAST-MODIFIED:20250424T124807Z
UID:10001451-1841418000-1841421600@wilmingtonvermont.us
SUMMARY:Planning Commission
DESCRIPTION:
URL:https://wilmingtonvermont.us/event/planning-commission/2028-05-08/
LOCATION:Town Hall Meeting Room\, 2 East Main St\, WILMINGTON\, VT\, 053630217\, United States
END:VEVENT
END:VCALENDAR