BEGIN:VCALENDAR
VERSION:2.0
PRODID:-//Town of Wilmington - ECPv6.15.20//NONSGML v1.0//EN
CALSCALE:GREGORIAN
METHOD:PUBLISH
X-ORIGINAL-URL:https://wilmingtonvermont.us
X-WR-CALDESC:Events for Town of Wilmington
REFRESH-INTERVAL;VALUE=DURATION:PT1H
X-Robots-Tag:noindex
X-PUBLISHED-TTL:PT1H
BEGIN:VTIMEZONE
TZID:America/New_York
BEGIN:DAYLIGHT
TZOFFSETFROM:-0500
TZOFFSETTO:-0400
TZNAME:EDT
DTSTART:20260308T070000
END:DAYLIGHT
BEGIN:STANDARD
TZOFFSETFROM:-0400
TZOFFSETTO:-0500
TZNAME:EST
DTSTART:20261101T060000
END:STANDARD
BEGIN:DAYLIGHT
TZOFFSETFROM:-0500
TZOFFSETTO:-0400
TZNAME:EDT
DTSTART:20270314T070000
END:DAYLIGHT
BEGIN:STANDARD
TZOFFSETFROM:-0400
TZOFFSETTO:-0500
TZNAME:EST
DTSTART:20271107T060000
END:STANDARD
BEGIN:DAYLIGHT
TZOFFSETFROM:-0500
TZOFFSETTO:-0400
TZNAME:EDT
DTSTART:20280312T070000
END:DAYLIGHT
BEGIN:STANDARD
TZOFFSETFROM:-0400
TZOFFSETTO:-0500
TZNAME:EST
DTSTART:20281105T060000
END:STANDARD
END:VTIMEZONE
BEGIN:VEVENT
DTSTART;TZID=America/New_York:20270909T173000
DTEND;TZID=America/New_York:20270909T183000
DTSTAMP:20260421T085927
CREATED:20241205T145808Z
LAST-MODIFIED:20250822T124908Z
UID:10001672-1820511000-1820514600@wilmingtonvermont.us
SUMMARY:Trails Committee
DESCRIPTION:
URL:https://wilmingtonvermont.us/event/trails-committee/2027-09-09/
LOCATION:Town Hall Meeting Room\, 2 East Main St\, WILMINGTON\, VT\, 053630217\, United States
END:VEVENT
BEGIN:VEVENT
DTSTART;TZID=America/New_York:20270913T090000
DTEND;TZID=America/New_York:20270913T100000
DTSTAMP:20260421T085927
CREATED:20241205T142743Z
LAST-MODIFIED:20241205T142743Z
UID:10000035-1820826000-1820829600@wilmingtonvermont.us
SUMMARY:Beautification Committee Meeting
DESCRIPTION:
URL:https://wilmingtonvermont.us/event/beautification-committee-meeting/2027-09-13/
LOCATION:Town Hall Meeting Room\, 2 East Main St\, WILMINGTON\, VT\, 053630217\, United States
END:VEVENT
BEGIN:VEVENT
DTSTART;TZID=America/New_York:20270913T170000
DTEND;TZID=America/New_York:20270913T180000
DTSTAMP:20260421T085927
CREATED:20241205T143201Z
LAST-MODIFIED:20250424T124807Z
UID:10001443-1820854800-1820858400@wilmingtonvermont.us
SUMMARY:Planning Commission
DESCRIPTION:
URL:https://wilmingtonvermont.us/event/planning-commission/2027-09-13/
LOCATION:Town Hall Meeting Room\, 2 East Main St\, WILMINGTON\, VT\, 053630217\, United States
END:VEVENT
BEGIN:VEVENT
DTSTART;TZID=America/New_York:20270920T080000
DTEND;TZID=America/New_York:20270920T170000
DTSTAMP:20260421T085927
CREATED:20241205T143531Z
LAST-MODIFIED:20241205T143806Z
UID:10000336-1821427200-1821459600@wilmingtonvermont.us
SUMMARY:Development Review Board
DESCRIPTION:
URL:https://wilmingtonvermont.us/event/development-review-board-2/2027-09-20/
LOCATION:Town Hall Meeting Room\, 2 East Main St\, WILMINGTON\, VT\, 053630217\, United States
END:VEVENT
BEGIN:VEVENT
DTSTART;TZID=America/New_York:20270921T180000
DTEND;TZID=America/New_York:20270921T200000
DTSTAMP:20260421T085927
CREATED:20241205T145528Z
LAST-MODIFIED:20241205T145528Z
UID:10000637-1821549600-1821556800@wilmingtonvermont.us
SUMMARY:Selectboard
DESCRIPTION:
URL:https://wilmingtonvermont.us/event/selectboard-2/2027-09-21/
LOCATION:Town Hall Meeting Room\, 2 East Main St\, WILMINGTON\, VT\, 053630217\, United States
END:VEVENT
BEGIN:VEVENT
DTSTART;TZID=America/New_York:20270927T170000
DTEND;TZID=America/New_York:20270927T180000
DTSTAMP:20260421T085927
CREATED:20241205T143317Z
LAST-MODIFIED:20250424T124719Z
UID:10001378-1822064400-1822068000@wilmingtonvermont.us
SUMMARY:Planning Commission
DESCRIPTION:
URL:https://wilmingtonvermont.us/event/planning-commission-2/2027-09-27/
LOCATION:Town Hall Meeting Room\, 2 East Main St\, WILMINGTON\, VT\, 053630217\, United States
END:VEVENT
BEGIN:VEVENT
DTSTART;TZID=America/New_York:20271004T170000
DTEND;TZID=America/New_York:20271004T190000
DTSTAMP:20260421T085927
CREATED:20241205T143435Z
LAST-MODIFIED:20241205T143911Z
UID:10000276-1822669200-1822676400@wilmingtonvermont.us
SUMMARY:Development Review Board
DESCRIPTION:
URL:https://wilmingtonvermont.us/event/development-review-board/2027-10-04/
LOCATION:Town Hall Meeting Room\, 2 East Main St\, WILMINGTON\, VT\, 053630217\, United States
END:VEVENT
BEGIN:VEVENT
DTSTART;TZID=America/New_York:20271005T180000
DTEND;TZID=America/New_York:20271005T200000
DTSTAMP:20260421T085927
CREATED:20241205T145307Z
LAST-MODIFIED:20250529T124158Z
UID:10000577-1822759200-1822766400@wilmingtonvermont.us
SUMMARY:Selectboard
DESCRIPTION:
URL:https://wilmingtonvermont.us/event/selectboard/2027-10-05/
LOCATION:Town Hall Meeting Room\, 2 East Main St\, WILMINGTON\, VT\, 053630217\, United States
END:VEVENT
BEGIN:VEVENT
DTSTART;TZID=America/New_York:20271011T090000
DTEND;TZID=America/New_York:20271011T100000
DTSTAMP:20260421T085927
CREATED:20241205T142743Z
LAST-MODIFIED:20241205T142743Z
UID:10000036-1823245200-1823248800@wilmingtonvermont.us
SUMMARY:Beautification Committee Meeting
DESCRIPTION:
URL:https://wilmingtonvermont.us/event/beautification-committee-meeting/2027-10-11/
LOCATION:Town Hall Meeting Room\, 2 East Main St\, WILMINGTON\, VT\, 053630217\, United States
END:VEVENT
BEGIN:VEVENT
DTSTART;TZID=America/New_York:20271011T170000
DTEND;TZID=America/New_York:20271011T180000
DTSTAMP:20260421T085927
CREATED:20241205T143201Z
LAST-MODIFIED:20250424T124807Z
UID:10001444-1823274000-1823277600@wilmingtonvermont.us
SUMMARY:Planning Commission
DESCRIPTION:
URL:https://wilmingtonvermont.us/event/planning-commission/2027-10-11/
LOCATION:Town Hall Meeting Room\, 2 East Main St\, WILMINGTON\, VT\, 053630217\, United States
END:VEVENT
BEGIN:VEVENT
DTSTART;TZID=America/New_York:20271014T173000
DTEND;TZID=America/New_York:20271014T183000
DTSTAMP:20260421T085927
CREATED:20241205T145808Z
LAST-MODIFIED:20250822T124908Z
UID:10001673-1823535000-1823538600@wilmingtonvermont.us
SUMMARY:Trails Committee
DESCRIPTION:
URL:https://wilmingtonvermont.us/event/trails-committee/2027-10-14/
LOCATION:Town Hall Meeting Room\, 2 East Main St\, WILMINGTON\, VT\, 053630217\, United States
END:VEVENT
BEGIN:VEVENT
DTSTART;TZID=America/New_York:20271018T080000
DTEND;TZID=America/New_York:20271018T170000
DTSTAMP:20260421T085927
CREATED:20241205T143531Z
LAST-MODIFIED:20241205T143806Z
UID:10000337-1823846400-1823878800@wilmingtonvermont.us
SUMMARY:Development Review Board
DESCRIPTION:
URL:https://wilmingtonvermont.us/event/development-review-board-2/2027-10-18/
LOCATION:Town Hall Meeting Room\, 2 East Main St\, WILMINGTON\, VT\, 053630217\, United States
END:VEVENT
BEGIN:VEVENT
DTSTART;TZID=America/New_York:20271019T180000
DTEND;TZID=America/New_York:20271019T200000
DTSTAMP:20260421T085927
CREATED:20241205T145528Z
LAST-MODIFIED:20241205T145528Z
UID:10000638-1823968800-1823976000@wilmingtonvermont.us
SUMMARY:Selectboard
DESCRIPTION:
URL:https://wilmingtonvermont.us/event/selectboard-2/2027-10-19/
LOCATION:Town Hall Meeting Room\, 2 East Main St\, WILMINGTON\, VT\, 053630217\, United States
END:VEVENT
BEGIN:VEVENT
DTSTART;TZID=America/New_York:20271025T170000
DTEND;TZID=America/New_York:20271025T180000
DTSTAMP:20260421T085927
CREATED:20241205T143317Z
LAST-MODIFIED:20250424T124719Z
UID:10001379-1824483600-1824487200@wilmingtonvermont.us
SUMMARY:Planning Commission
DESCRIPTION:
URL:https://wilmingtonvermont.us/event/planning-commission-2/2027-10-25/
LOCATION:Town Hall Meeting Room\, 2 East Main St\, WILMINGTON\, VT\, 053630217\, United States
END:VEVENT
BEGIN:VEVENT
DTSTART;TZID=America/New_York:20271101T170000
DTEND;TZID=America/New_York:20271101T190000
DTSTAMP:20260421T085927
CREATED:20241205T143435Z
LAST-MODIFIED:20241205T143911Z
UID:10000277-1825088400-1825095600@wilmingtonvermont.us
SUMMARY:Development Review Board
DESCRIPTION:
URL:https://wilmingtonvermont.us/event/development-review-board/2027-11-01/
LOCATION:Town Hall Meeting Room\, 2 East Main St\, WILMINGTON\, VT\, 053630217\, United States
END:VEVENT
BEGIN:VEVENT
DTSTART;TZID=America/New_York:20271102T180000
DTEND;TZID=America/New_York:20271102T200000
DTSTAMP:20260421T085927
CREATED:20241205T145307Z
LAST-MODIFIED:20250529T124158Z
UID:10000578-1825178400-1825185600@wilmingtonvermont.us
SUMMARY:Selectboard
DESCRIPTION:
URL:https://wilmingtonvermont.us/event/selectboard/2027-11-02/
LOCATION:Town Hall Meeting Room\, 2 East Main St\, WILMINGTON\, VT\, 053630217\, United States
END:VEVENT
BEGIN:VEVENT
DTSTART;TZID=America/New_York:20271108T090000
DTEND;TZID=America/New_York:20271108T100000
DTSTAMP:20260421T085927
CREATED:20241205T142743Z
LAST-MODIFIED:20241205T142743Z
UID:10000037-1825664400-1825668000@wilmingtonvermont.us
SUMMARY:Beautification Committee Meeting
DESCRIPTION:
URL:https://wilmingtonvermont.us/event/beautification-committee-meeting/2027-11-08/
LOCATION:Town Hall Meeting Room\, 2 East Main St\, WILMINGTON\, VT\, 053630217\, United States
END:VEVENT
BEGIN:VEVENT
DTSTART;TZID=America/New_York:20271108T170000
DTEND;TZID=America/New_York:20271108T180000
DTSTAMP:20260421T085927
CREATED:20241205T143201Z
LAST-MODIFIED:20250424T124807Z
UID:10001445-1825693200-1825696800@wilmingtonvermont.us
SUMMARY:Planning Commission
DESCRIPTION:
URL:https://wilmingtonvermont.us/event/planning-commission/2027-11-08/
LOCATION:Town Hall Meeting Room\, 2 East Main St\, WILMINGTON\, VT\, 053630217\, United States
END:VEVENT
BEGIN:VEVENT
DTSTART;TZID=America/New_York:20271111T173000
DTEND;TZID=America/New_York:20271111T183000
DTSTAMP:20260421T085927
CREATED:20241205T145808Z
LAST-MODIFIED:20250822T124908Z
UID:10001674-1825954200-1825957800@wilmingtonvermont.us
SUMMARY:Trails Committee
DESCRIPTION:
URL:https://wilmingtonvermont.us/event/trails-committee/2027-11-11/
LOCATION:Town Hall Meeting Room\, 2 East Main St\, WILMINGTON\, VT\, 053630217\, United States
END:VEVENT
BEGIN:VEVENT
DTSTART;TZID=America/New_York:20271115T080000
DTEND;TZID=America/New_York:20271115T170000
DTSTAMP:20260421T085927
CREATED:20241205T143531Z
LAST-MODIFIED:20241205T143806Z
UID:10000338-1826265600-1826298000@wilmingtonvermont.us
SUMMARY:Development Review Board
DESCRIPTION:
URL:https://wilmingtonvermont.us/event/development-review-board-2/2027-11-15/
LOCATION:Town Hall Meeting Room\, 2 East Main St\, WILMINGTON\, VT\, 053630217\, United States
END:VEVENT
BEGIN:VEVENT
DTSTART;TZID=America/New_York:20271116T180000
DTEND;TZID=America/New_York:20271116T200000
DTSTAMP:20260421T085927
CREATED:20241205T145528Z
LAST-MODIFIED:20241205T145528Z
UID:10000639-1826388000-1826395200@wilmingtonvermont.us
SUMMARY:Selectboard
DESCRIPTION:
URL:https://wilmingtonvermont.us/event/selectboard-2/2027-11-16/
LOCATION:Town Hall Meeting Room\, 2 East Main St\, WILMINGTON\, VT\, 053630217\, United States
END:VEVENT
BEGIN:VEVENT
DTSTART;TZID=America/New_York:20271122T170000
DTEND;TZID=America/New_York:20271122T180000
DTSTAMP:20260421T085927
CREATED:20241205T143317Z
LAST-MODIFIED:20250424T124719Z
UID:10001380-1826902800-1826906400@wilmingtonvermont.us
SUMMARY:Planning Commission
DESCRIPTION:
URL:https://wilmingtonvermont.us/event/planning-commission-2/2027-11-22/
LOCATION:Town Hall Meeting Room\, 2 East Main St\, WILMINGTON\, VT\, 053630217\, United States
END:VEVENT
BEGIN:VEVENT
DTSTART;TZID=America/New_York:20271206T170000
DTEND;TZID=America/New_York:20271206T190000
DTSTAMP:20260421T085927
CREATED:20241205T143435Z
LAST-MODIFIED:20241205T143911Z
UID:10000278-1828112400-1828119600@wilmingtonvermont.us
SUMMARY:Development Review Board
DESCRIPTION:
URL:https://wilmingtonvermont.us/event/development-review-board/2027-12-06/
LOCATION:Town Hall Meeting Room\, 2 East Main St\, WILMINGTON\, VT\, 053630217\, United States
END:VEVENT
BEGIN:VEVENT
DTSTART;TZID=America/New_York:20271207T180000
DTEND;TZID=America/New_York:20271207T200000
DTSTAMP:20260421T085927
CREATED:20241205T145307Z
LAST-MODIFIED:20250529T124158Z
UID:10000579-1828202400-1828209600@wilmingtonvermont.us
SUMMARY:Selectboard
DESCRIPTION:
URL:https://wilmingtonvermont.us/event/selectboard/2027-12-07/
LOCATION:Town Hall Meeting Room\, 2 East Main St\, WILMINGTON\, VT\, 053630217\, United States
END:VEVENT
BEGIN:VEVENT
DTSTART;TZID=America/New_York:20271209T173000
DTEND;TZID=America/New_York:20271209T183000
DTSTAMP:20260421T085927
CREATED:20241205T145808Z
LAST-MODIFIED:20250822T124908Z
UID:10001675-1828373400-1828377000@wilmingtonvermont.us
SUMMARY:Trails Committee
DESCRIPTION:
URL:https://wilmingtonvermont.us/event/trails-committee/2027-12-09/
LOCATION:Town Hall Meeting Room\, 2 East Main St\, WILMINGTON\, VT\, 053630217\, United States
END:VEVENT
BEGIN:VEVENT
DTSTART;TZID=America/New_York:20271213T090000
DTEND;TZID=America/New_York:20271213T100000
DTSTAMP:20260421T085927
CREATED:20241205T142743Z
LAST-MODIFIED:20241205T142743Z
UID:10000038-1828688400-1828692000@wilmingtonvermont.us
SUMMARY:Beautification Committee Meeting
DESCRIPTION:
URL:https://wilmingtonvermont.us/event/beautification-committee-meeting/2027-12-13/
LOCATION:Town Hall Meeting Room\, 2 East Main St\, WILMINGTON\, VT\, 053630217\, United States
END:VEVENT
BEGIN:VEVENT
DTSTART;TZID=America/New_York:20271213T170000
DTEND;TZID=America/New_York:20271213T180000
DTSTAMP:20260421T085927
CREATED:20241205T143201Z
LAST-MODIFIED:20250424T124807Z
UID:10001446-1828717200-1828720800@wilmingtonvermont.us
SUMMARY:Planning Commission
DESCRIPTION:
URL:https://wilmingtonvermont.us/event/planning-commission/2027-12-13/
LOCATION:Town Hall Meeting Room\, 2 East Main St\, WILMINGTON\, VT\, 053630217\, United States
END:VEVENT
BEGIN:VEVENT
DTSTART;TZID=America/New_York:20271220T080000
DTEND;TZID=America/New_York:20271220T170000
DTSTAMP:20260421T085927
CREATED:20241205T143531Z
LAST-MODIFIED:20241205T143806Z
UID:10000339-1829289600-1829322000@wilmingtonvermont.us
SUMMARY:Development Review Board
DESCRIPTION:
URL:https://wilmingtonvermont.us/event/development-review-board-2/2027-12-20/
LOCATION:Town Hall Meeting Room\, 2 East Main St\, WILMINGTON\, VT\, 053630217\, United States
END:VEVENT
BEGIN:VEVENT
DTSTART;TZID=America/New_York:20271221T180000
DTEND;TZID=America/New_York:20271221T200000
DTSTAMP:20260421T085927
CREATED:20241205T145528Z
LAST-MODIFIED:20241205T145528Z
UID:10000640-1829412000-1829419200@wilmingtonvermont.us
SUMMARY:Selectboard
DESCRIPTION:
URL:https://wilmingtonvermont.us/event/selectboard-2/2027-12-21/
LOCATION:Town Hall Meeting Room\, 2 East Main St\, WILMINGTON\, VT\, 053630217\, United States
END:VEVENT
BEGIN:VEVENT
DTSTART;TZID=America/New_York:20271227T170000
DTEND;TZID=America/New_York:20271227T180000
DTSTAMP:20260421T085927
CREATED:20241205T143317Z
LAST-MODIFIED:20250424T124719Z
UID:10001381-1829926800-1829930400@wilmingtonvermont.us
SUMMARY:Planning Commission
DESCRIPTION:
URL:https://wilmingtonvermont.us/event/planning-commission-2/2027-12-27/
LOCATION:Town Hall Meeting Room\, 2 East Main St\, WILMINGTON\, VT\, 053630217\, United States
END:VEVENT
END:VCALENDAR