BEGIN:VCALENDAR
VERSION:2.0
PRODID:-//Town of Wilmington - ECPv6.15.20//NONSGML v1.0//EN
CALSCALE:GREGORIAN
METHOD:PUBLISH
X-WR-CALNAME:Town of Wilmington
X-ORIGINAL-URL:https://wilmingtonvermont.us
X-WR-CALDESC:Events for Town of Wilmington
REFRESH-INTERVAL;VALUE=DURATION:PT1H
X-Robots-Tag:noindex
X-PUBLISHED-TTL:PT1H
BEGIN:VTIMEZONE
TZID:America/New_York
BEGIN:DAYLIGHT
TZOFFSETFROM:-0500
TZOFFSETTO:-0400
TZNAME:EDT
DTSTART:20260308T070000
END:DAYLIGHT
BEGIN:STANDARD
TZOFFSETFROM:-0400
TZOFFSETTO:-0500
TZNAME:EST
DTSTART:20261101T060000
END:STANDARD
BEGIN:DAYLIGHT
TZOFFSETFROM:-0500
TZOFFSETTO:-0400
TZNAME:EDT
DTSTART:20270314T070000
END:DAYLIGHT
BEGIN:STANDARD
TZOFFSETFROM:-0400
TZOFFSETTO:-0500
TZNAME:EST
DTSTART:20271107T060000
END:STANDARD
BEGIN:DAYLIGHT
TZOFFSETFROM:-0500
TZOFFSETTO:-0400
TZNAME:EDT
DTSTART:20280312T070000
END:DAYLIGHT
BEGIN:STANDARD
TZOFFSETFROM:-0400
TZOFFSETTO:-0500
TZNAME:EST
DTSTART:20281105T060000
END:STANDARD
END:VTIMEZONE
BEGIN:VEVENT
DTSTART;TZID=America/New_York:20270610T173000
DTEND;TZID=America/New_York:20270610T183000
DTSTAMP:20260421T060827
CREATED:20241205T145808Z
LAST-MODIFIED:20250822T124908Z
UID:10001669-1812648600-1812652200@wilmingtonvermont.us
SUMMARY:Trails Committee
DESCRIPTION:
URL:https://wilmingtonvermont.us/event/trails-committee/2027-06-10/
LOCATION:Town Hall Meeting Room\, 2 East Main St\, WILMINGTON\, VT\, 053630217\, United States
END:VEVENT
BEGIN:VEVENT
DTSTART;TZID=America/New_York:20270614T090000
DTEND;TZID=America/New_York:20270614T100000
DTSTAMP:20260421T060827
CREATED:20241205T142743Z
LAST-MODIFIED:20241205T142743Z
UID:10000032-1812963600-1812967200@wilmingtonvermont.us
SUMMARY:Beautification Committee Meeting
DESCRIPTION:
URL:https://wilmingtonvermont.us/event/beautification-committee-meeting/2027-06-14/
LOCATION:Town Hall Meeting Room\, 2 East Main St\, WILMINGTON\, VT\, 053630217\, United States
END:VEVENT
BEGIN:VEVENT
DTSTART;TZID=America/New_York:20270614T170000
DTEND;TZID=America/New_York:20270614T180000
DTSTAMP:20260421T060827
CREATED:20241205T143201Z
LAST-MODIFIED:20250424T124807Z
UID:10001440-1812992400-1812996000@wilmingtonvermont.us
SUMMARY:Planning Commission
DESCRIPTION:
URL:https://wilmingtonvermont.us/event/planning-commission/2027-06-14/
LOCATION:Town Hall Meeting Room\, 2 East Main St\, WILMINGTON\, VT\, 053630217\, United States
END:VEVENT
BEGIN:VEVENT
DTSTART;TZID=America/New_York:20270615T180000
DTEND;TZID=America/New_York:20270615T200000
DTSTAMP:20260421T060827
CREATED:20241205T145528Z
LAST-MODIFIED:20241205T145528Z
UID:10000634-1813082400-1813089600@wilmingtonvermont.us
SUMMARY:Selectboard
DESCRIPTION:
URL:https://wilmingtonvermont.us/event/selectboard-2/2027-06-15/
LOCATION:Town Hall Meeting Room\, 2 East Main St\, WILMINGTON\, VT\, 053630217\, United States
END:VEVENT
BEGIN:VEVENT
DTSTART;TZID=America/New_York:20270621T080000
DTEND;TZID=America/New_York:20270621T170000
DTSTAMP:20260421T060827
CREATED:20241205T143531Z
LAST-MODIFIED:20241205T143806Z
UID:10000333-1813564800-1813597200@wilmingtonvermont.us
SUMMARY:Development Review Board
DESCRIPTION:
URL:https://wilmingtonvermont.us/event/development-review-board-2/2027-06-21/
LOCATION:Town Hall Meeting Room\, 2 East Main St\, WILMINGTON\, VT\, 053630217\, United States
END:VEVENT
BEGIN:VEVENT
DTSTART;TZID=America/New_York:20270628T170000
DTEND;TZID=America/New_York:20270628T180000
DTSTAMP:20260421T060827
CREATED:20241205T143317Z
LAST-MODIFIED:20250424T124719Z
UID:10001375-1814202000-1814205600@wilmingtonvermont.us
SUMMARY:Planning Commission
DESCRIPTION:
URL:https://wilmingtonvermont.us/event/planning-commission-2/2027-06-28/
LOCATION:Town Hall Meeting Room\, 2 East Main St\, WILMINGTON\, VT\, 053630217\, United States
END:VEVENT
BEGIN:VEVENT
DTSTART;TZID=America/New_York:20270705T170000
DTEND;TZID=America/New_York:20270705T190000
DTSTAMP:20260421T060827
CREATED:20241205T143435Z
LAST-MODIFIED:20241205T143911Z
UID:10000273-1814806800-1814814000@wilmingtonvermont.us
SUMMARY:Development Review Board
DESCRIPTION:
URL:https://wilmingtonvermont.us/event/development-review-board/2027-07-05/
LOCATION:Town Hall Meeting Room\, 2 East Main St\, WILMINGTON\, VT\, 053630217\, United States
END:VEVENT
BEGIN:VEVENT
DTSTART;TZID=America/New_York:20270706T180000
DTEND;TZID=America/New_York:20270706T200000
DTSTAMP:20260421T060827
CREATED:20241205T145307Z
LAST-MODIFIED:20250529T124158Z
UID:10000574-1814896800-1814904000@wilmingtonvermont.us
SUMMARY:Selectboard
DESCRIPTION:
URL:https://wilmingtonvermont.us/event/selectboard/2027-07-06/
LOCATION:Town Hall Meeting Room\, 2 East Main St\, WILMINGTON\, VT\, 053630217\, United States
END:VEVENT
BEGIN:VEVENT
DTSTART;TZID=America/New_York:20270708T173000
DTEND;TZID=America/New_York:20270708T183000
DTSTAMP:20260421T060827
CREATED:20241205T145808Z
LAST-MODIFIED:20250822T124908Z
UID:10001670-1815067800-1815071400@wilmingtonvermont.us
SUMMARY:Trails Committee
DESCRIPTION:
URL:https://wilmingtonvermont.us/event/trails-committee/2027-07-08/
LOCATION:Town Hall Meeting Room\, 2 East Main St\, WILMINGTON\, VT\, 053630217\, United States
END:VEVENT
BEGIN:VEVENT
DTSTART;TZID=America/New_York:20270712T090000
DTEND;TZID=America/New_York:20270712T100000
DTSTAMP:20260421T060827
CREATED:20241205T142743Z
LAST-MODIFIED:20241205T142743Z
UID:10000033-1815382800-1815386400@wilmingtonvermont.us
SUMMARY:Beautification Committee Meeting
DESCRIPTION:
URL:https://wilmingtonvermont.us/event/beautification-committee-meeting/2027-07-12/
LOCATION:Town Hall Meeting Room\, 2 East Main St\, WILMINGTON\, VT\, 053630217\, United States
END:VEVENT
BEGIN:VEVENT
DTSTART;TZID=America/New_York:20270712T170000
DTEND;TZID=America/New_York:20270712T180000
DTSTAMP:20260421T060827
CREATED:20241205T143201Z
LAST-MODIFIED:20250424T124807Z
UID:10001441-1815411600-1815415200@wilmingtonvermont.us
SUMMARY:Planning Commission
DESCRIPTION:
URL:https://wilmingtonvermont.us/event/planning-commission/2027-07-12/
LOCATION:Town Hall Meeting Room\, 2 East Main St\, WILMINGTON\, VT\, 053630217\, United States
END:VEVENT
BEGIN:VEVENT
DTSTART;TZID=America/New_York:20270719T080000
DTEND;TZID=America/New_York:20270719T170000
DTSTAMP:20260421T060827
CREATED:20241205T143531Z
LAST-MODIFIED:20241205T143806Z
UID:10000334-1815984000-1816016400@wilmingtonvermont.us
SUMMARY:Development Review Board
DESCRIPTION:
URL:https://wilmingtonvermont.us/event/development-review-board-2/2027-07-19/
LOCATION:Town Hall Meeting Room\, 2 East Main St\, WILMINGTON\, VT\, 053630217\, United States
END:VEVENT
BEGIN:VEVENT
DTSTART;TZID=America/New_York:20270720T180000
DTEND;TZID=America/New_York:20270720T200000
DTSTAMP:20260421T060827
CREATED:20241205T145528Z
LAST-MODIFIED:20241205T145528Z
UID:10000635-1816106400-1816113600@wilmingtonvermont.us
SUMMARY:Selectboard
DESCRIPTION:
URL:https://wilmingtonvermont.us/event/selectboard-2/2027-07-20/
LOCATION:Town Hall Meeting Room\, 2 East Main St\, WILMINGTON\, VT\, 053630217\, United States
END:VEVENT
BEGIN:VEVENT
DTSTART;TZID=America/New_York:20270726T170000
DTEND;TZID=America/New_York:20270726T180000
DTSTAMP:20260421T060827
CREATED:20241205T143317Z
LAST-MODIFIED:20250424T124719Z
UID:10001376-1816621200-1816624800@wilmingtonvermont.us
SUMMARY:Planning Commission
DESCRIPTION:
URL:https://wilmingtonvermont.us/event/planning-commission-2/2027-07-26/
LOCATION:Town Hall Meeting Room\, 2 East Main St\, WILMINGTON\, VT\, 053630217\, United States
END:VEVENT
BEGIN:VEVENT
DTSTART;TZID=America/New_York:20270802T170000
DTEND;TZID=America/New_York:20270802T190000
DTSTAMP:20260421T060827
CREATED:20241205T143435Z
LAST-MODIFIED:20241205T143911Z
UID:10000274-1817226000-1817233200@wilmingtonvermont.us
SUMMARY:Development Review Board
DESCRIPTION:
URL:https://wilmingtonvermont.us/event/development-review-board/2027-08-02/
LOCATION:Town Hall Meeting Room\, 2 East Main St\, WILMINGTON\, VT\, 053630217\, United States
END:VEVENT
BEGIN:VEVENT
DTSTART;TZID=America/New_York:20270803T180000
DTEND;TZID=America/New_York:20270803T200000
DTSTAMP:20260421T060827
CREATED:20241205T145307Z
LAST-MODIFIED:20250529T124158Z
UID:10000575-1817316000-1817323200@wilmingtonvermont.us
SUMMARY:Selectboard
DESCRIPTION:
URL:https://wilmingtonvermont.us/event/selectboard/2027-08-03/
LOCATION:Town Hall Meeting Room\, 2 East Main St\, WILMINGTON\, VT\, 053630217\, United States
END:VEVENT
BEGIN:VEVENT
DTSTART;TZID=America/New_York:20270809T090000
DTEND;TZID=America/New_York:20270809T100000
DTSTAMP:20260421T060827
CREATED:20241205T142743Z
LAST-MODIFIED:20241205T142743Z
UID:10000034-1817802000-1817805600@wilmingtonvermont.us
SUMMARY:Beautification Committee Meeting
DESCRIPTION:
URL:https://wilmingtonvermont.us/event/beautification-committee-meeting/2027-08-09/
LOCATION:Town Hall Meeting Room\, 2 East Main St\, WILMINGTON\, VT\, 053630217\, United States
END:VEVENT
BEGIN:VEVENT
DTSTART;TZID=America/New_York:20270809T170000
DTEND;TZID=America/New_York:20270809T180000
DTSTAMP:20260421T060827
CREATED:20241205T143201Z
LAST-MODIFIED:20250424T124807Z
UID:10001442-1817830800-1817834400@wilmingtonvermont.us
SUMMARY:Planning Commission
DESCRIPTION:
URL:https://wilmingtonvermont.us/event/planning-commission/2027-08-09/
LOCATION:Town Hall Meeting Room\, 2 East Main St\, WILMINGTON\, VT\, 053630217\, United States
END:VEVENT
BEGIN:VEVENT
DTSTART;TZID=America/New_York:20270812T173000
DTEND;TZID=America/New_York:20270812T183000
DTSTAMP:20260421T060827
CREATED:20241205T145808Z
LAST-MODIFIED:20250822T124908Z
UID:10001671-1818091800-1818095400@wilmingtonvermont.us
SUMMARY:Trails Committee
DESCRIPTION:
URL:https://wilmingtonvermont.us/event/trails-committee/2027-08-12/
LOCATION:Town Hall Meeting Room\, 2 East Main St\, WILMINGTON\, VT\, 053630217\, United States
END:VEVENT
BEGIN:VEVENT
DTSTART;TZID=America/New_York:20270816T080000
DTEND;TZID=America/New_York:20270816T170000
DTSTAMP:20260421T060827
CREATED:20241205T143531Z
LAST-MODIFIED:20241205T143806Z
UID:10000335-1818403200-1818435600@wilmingtonvermont.us
SUMMARY:Development Review Board
DESCRIPTION:
URL:https://wilmingtonvermont.us/event/development-review-board-2/2027-08-16/
LOCATION:Town Hall Meeting Room\, 2 East Main St\, WILMINGTON\, VT\, 053630217\, United States
END:VEVENT
BEGIN:VEVENT
DTSTART;TZID=America/New_York:20270817T180000
DTEND;TZID=America/New_York:20270817T200000
DTSTAMP:20260421T060827
CREATED:20241205T145528Z
LAST-MODIFIED:20241205T145528Z
UID:10000636-1818525600-1818532800@wilmingtonvermont.us
SUMMARY:Selectboard
DESCRIPTION:
URL:https://wilmingtonvermont.us/event/selectboard-2/2027-08-17/
LOCATION:Town Hall Meeting Room\, 2 East Main St\, WILMINGTON\, VT\, 053630217\, United States
END:VEVENT
BEGIN:VEVENT
DTSTART;TZID=America/New_York:20270823T170000
DTEND;TZID=America/New_York:20270823T180000
DTSTAMP:20260421T060827
CREATED:20241205T143317Z
LAST-MODIFIED:20250424T124719Z
UID:10001377-1819040400-1819044000@wilmingtonvermont.us
SUMMARY:Planning Commission
DESCRIPTION:
URL:https://wilmingtonvermont.us/event/planning-commission-2/2027-08-23/
LOCATION:Town Hall Meeting Room\, 2 East Main St\, WILMINGTON\, VT\, 053630217\, United States
END:VEVENT
BEGIN:VEVENT
DTSTART;TZID=America/New_York:20270906T170000
DTEND;TZID=America/New_York:20270906T190000
DTSTAMP:20260421T060827
CREATED:20241205T143435Z
LAST-MODIFIED:20241205T143911Z
UID:10000275-1820250000-1820257200@wilmingtonvermont.us
SUMMARY:Development Review Board
DESCRIPTION:
URL:https://wilmingtonvermont.us/event/development-review-board/2027-09-06/
LOCATION:Town Hall Meeting Room\, 2 East Main St\, WILMINGTON\, VT\, 053630217\, United States
END:VEVENT
BEGIN:VEVENT
DTSTART;TZID=America/New_York:20270907T180000
DTEND;TZID=America/New_York:20270907T200000
DTSTAMP:20260421T060827
CREATED:20241205T145307Z
LAST-MODIFIED:20250529T124158Z
UID:10000576-1820340000-1820347200@wilmingtonvermont.us
SUMMARY:Selectboard
DESCRIPTION:
URL:https://wilmingtonvermont.us/event/selectboard/2027-09-07/
LOCATION:Town Hall Meeting Room\, 2 East Main St\, WILMINGTON\, VT\, 053630217\, United States
END:VEVENT
BEGIN:VEVENT
DTSTART;TZID=America/New_York:20270909T173000
DTEND;TZID=America/New_York:20270909T183000
DTSTAMP:20260421T060827
CREATED:20241205T145808Z
LAST-MODIFIED:20250822T124908Z
UID:10001672-1820511000-1820514600@wilmingtonvermont.us
SUMMARY:Trails Committee
DESCRIPTION:
URL:https://wilmingtonvermont.us/event/trails-committee/2027-09-09/
LOCATION:Town Hall Meeting Room\, 2 East Main St\, WILMINGTON\, VT\, 053630217\, United States
END:VEVENT
BEGIN:VEVENT
DTSTART;TZID=America/New_York:20270913T090000
DTEND;TZID=America/New_York:20270913T100000
DTSTAMP:20260421T060827
CREATED:20241205T142743Z
LAST-MODIFIED:20241205T142743Z
UID:10000035-1820826000-1820829600@wilmingtonvermont.us
SUMMARY:Beautification Committee Meeting
DESCRIPTION:
URL:https://wilmingtonvermont.us/event/beautification-committee-meeting/2027-09-13/
LOCATION:Town Hall Meeting Room\, 2 East Main St\, WILMINGTON\, VT\, 053630217\, United States
END:VEVENT
BEGIN:VEVENT
DTSTART;TZID=America/New_York:20270913T170000
DTEND;TZID=America/New_York:20270913T180000
DTSTAMP:20260421T060827
CREATED:20241205T143201Z
LAST-MODIFIED:20250424T124807Z
UID:10001443-1820854800-1820858400@wilmingtonvermont.us
SUMMARY:Planning Commission
DESCRIPTION:
URL:https://wilmingtonvermont.us/event/planning-commission/2027-09-13/
LOCATION:Town Hall Meeting Room\, 2 East Main St\, WILMINGTON\, VT\, 053630217\, United States
END:VEVENT
BEGIN:VEVENT
DTSTART;TZID=America/New_York:20270920T080000
DTEND;TZID=America/New_York:20270920T170000
DTSTAMP:20260421T060827
CREATED:20241205T143531Z
LAST-MODIFIED:20241205T143806Z
UID:10000336-1821427200-1821459600@wilmingtonvermont.us
SUMMARY:Development Review Board
DESCRIPTION:
URL:https://wilmingtonvermont.us/event/development-review-board-2/2027-09-20/
LOCATION:Town Hall Meeting Room\, 2 East Main St\, WILMINGTON\, VT\, 053630217\, United States
END:VEVENT
BEGIN:VEVENT
DTSTART;TZID=America/New_York:20270921T180000
DTEND;TZID=America/New_York:20270921T200000
DTSTAMP:20260421T060827
CREATED:20241205T145528Z
LAST-MODIFIED:20241205T145528Z
UID:10000637-1821549600-1821556800@wilmingtonvermont.us
SUMMARY:Selectboard
DESCRIPTION:
URL:https://wilmingtonvermont.us/event/selectboard-2/2027-09-21/
LOCATION:Town Hall Meeting Room\, 2 East Main St\, WILMINGTON\, VT\, 053630217\, United States
END:VEVENT
BEGIN:VEVENT
DTSTART;TZID=America/New_York:20270927T170000
DTEND;TZID=America/New_York:20270927T180000
DTSTAMP:20260421T060827
CREATED:20241205T143317Z
LAST-MODIFIED:20250424T124719Z
UID:10001378-1822064400-1822068000@wilmingtonvermont.us
SUMMARY:Planning Commission
DESCRIPTION:
URL:https://wilmingtonvermont.us/event/planning-commission-2/2027-09-27/
LOCATION:Town Hall Meeting Room\, 2 East Main St\, WILMINGTON\, VT\, 053630217\, United States
END:VEVENT
END:VCALENDAR