BEGIN:VCALENDAR
VERSION:2.0
PRODID:-//Town of Wilmington - ECPv6.15.20//NONSGML v1.0//EN
CALSCALE:GREGORIAN
METHOD:PUBLISH
X-ORIGINAL-URL:https://wilmingtonvermont.us
X-WR-CALDESC:Events for Town of Wilmington
REFRESH-INTERVAL;VALUE=DURATION:PT1H
X-Robots-Tag:noindex
X-PUBLISHED-TTL:PT1H
BEGIN:VTIMEZONE
TZID:America/New_York
BEGIN:DAYLIGHT
TZOFFSETFROM:-0500
TZOFFSETTO:-0400
TZNAME:EDT
DTSTART:20250309T070000
END:DAYLIGHT
BEGIN:STANDARD
TZOFFSETFROM:-0400
TZOFFSETTO:-0500
TZNAME:EST
DTSTART:20251102T060000
END:STANDARD
BEGIN:DAYLIGHT
TZOFFSETFROM:-0500
TZOFFSETTO:-0400
TZNAME:EDT
DTSTART:20260308T070000
END:DAYLIGHT
BEGIN:STANDARD
TZOFFSETFROM:-0400
TZOFFSETTO:-0500
TZNAME:EST
DTSTART:20261101T060000
END:STANDARD
BEGIN:DAYLIGHT
TZOFFSETFROM:-0500
TZOFFSETTO:-0400
TZNAME:EDT
DTSTART:20270314T070000
END:DAYLIGHT
BEGIN:STANDARD
TZOFFSETFROM:-0400
TZOFFSETTO:-0500
TZNAME:EST
DTSTART:20271107T060000
END:STANDARD
BEGIN:DAYLIGHT
TZOFFSETFROM:-0500
TZOFFSETTO:-0400
TZNAME:EDT
DTSTART:20280312T070000
END:DAYLIGHT
BEGIN:STANDARD
TZOFFSETFROM:-0400
TZOFFSETTO:-0500
TZNAME:EST
DTSTART:20281105T060000
END:STANDARD
BEGIN:DAYLIGHT
TZOFFSETFROM:-0500
TZOFFSETTO:-0400
TZNAME:EDT
DTSTART:20290311T070000
END:DAYLIGHT
BEGIN:STANDARD
TZOFFSETFROM:-0400
TZOFFSETTO:-0500
TZNAME:EST
DTSTART:20291104T060000
END:STANDARD
END:VTIMEZONE
BEGIN:VEVENT
DTSTART;TZID=America/New_York:20260507T080000
DTEND;TZID=America/New_York:20260507T090000
DTSTAMP:20260422T010500
CREATED:20241205T150022Z
LAST-MODIFIED:20241205T150333Z
UID:10000740-1778140800-1778144400@wilmingtonvermont.us
SUMMARY:Bi-Town Economic Development Committee
DESCRIPTION:Bi-Town Committee meets every other month
URL:https://wilmingtonvermont.us/event/bi-town-economic-development-committee/2026-05-07/
LOCATION:Deerfield Valley Rescue
END:VEVENT
BEGIN:VEVENT
DTSTART;TZID=America/New_York:20260604T080000
DTEND;TZID=America/New_York:20260604T090000
DTSTAMP:20260422T010500
CREATED:20241205T150022Z
LAST-MODIFIED:20241205T150333Z
UID:10000741-1780560000-1780563600@wilmingtonvermont.us
SUMMARY:Bi-Town Economic Development Committee
DESCRIPTION:Bi-Town Committee meets every other month
URL:https://wilmingtonvermont.us/event/bi-town-economic-development-committee/2026-06-04/
LOCATION:Deerfield Valley Rescue
END:VEVENT
BEGIN:VEVENT
DTSTART;TZID=America/New_York:20260702T080000
DTEND;TZID=America/New_York:20260702T090000
DTSTAMP:20260422T010500
CREATED:20241205T150022Z
LAST-MODIFIED:20241205T150333Z
UID:10000742-1782979200-1782982800@wilmingtonvermont.us
SUMMARY:Bi-Town Economic Development Committee
DESCRIPTION:Bi-Town Committee meets every other month
URL:https://wilmingtonvermont.us/event/bi-town-economic-development-committee/2026-07-02/
LOCATION:Deerfield Valley Rescue
END:VEVENT
BEGIN:VEVENT
DTSTART;TZID=America/New_York:20260806T080000
DTEND;TZID=America/New_York:20260806T090000
DTSTAMP:20260422T010500
CREATED:20241205T150022Z
LAST-MODIFIED:20241205T150333Z
UID:10000743-1786003200-1786006800@wilmingtonvermont.us
SUMMARY:Bi-Town Economic Development Committee
DESCRIPTION:Bi-Town Committee meets every other month
URL:https://wilmingtonvermont.us/event/bi-town-economic-development-committee/2026-08-06/
LOCATION:Deerfield Valley Rescue
END:VEVENT
BEGIN:VEVENT
DTSTART;TZID=America/New_York:20260903T080000
DTEND;TZID=America/New_York:20260903T090000
DTSTAMP:20260422T010500
CREATED:20241205T150022Z
LAST-MODIFIED:20241205T150333Z
UID:10000744-1788422400-1788426000@wilmingtonvermont.us
SUMMARY:Bi-Town Economic Development Committee
DESCRIPTION:Bi-Town Committee meets every other month
URL:https://wilmingtonvermont.us/event/bi-town-economic-development-committee/2026-09-03/
LOCATION:Deerfield Valley Rescue
END:VEVENT
BEGIN:VEVENT
DTSTART;TZID=America/New_York:20261001T080000
DTEND;TZID=America/New_York:20261001T090000
DTSTAMP:20260422T010500
CREATED:20241205T150022Z
LAST-MODIFIED:20241205T150333Z
UID:10000745-1790841600-1790845200@wilmingtonvermont.us
SUMMARY:Bi-Town Economic Development Committee
DESCRIPTION:Bi-Town Committee meets every other month
URL:https://wilmingtonvermont.us/event/bi-town-economic-development-committee/2026-10-01/
LOCATION:Deerfield Valley Rescue
END:VEVENT
BEGIN:VEVENT
DTSTART;TZID=America/New_York:20261105T080000
DTEND;TZID=America/New_York:20261105T090000
DTSTAMP:20260422T010500
CREATED:20241205T150022Z
LAST-MODIFIED:20241205T150333Z
UID:10000746-1793865600-1793869200@wilmingtonvermont.us
SUMMARY:Bi-Town Economic Development Committee
DESCRIPTION:Bi-Town Committee meets every other month
URL:https://wilmingtonvermont.us/event/bi-town-economic-development-committee/2026-11-05/
LOCATION:Deerfield Valley Rescue
END:VEVENT
BEGIN:VEVENT
DTSTART;TZID=America/New_York:20261203T080000
DTEND;TZID=America/New_York:20261203T090000
DTSTAMP:20260422T010500
CREATED:20241205T150022Z
LAST-MODIFIED:20241205T150333Z
UID:10000747-1796284800-1796288400@wilmingtonvermont.us
SUMMARY:Bi-Town Economic Development Committee
DESCRIPTION:Bi-Town Committee meets every other month
URL:https://wilmingtonvermont.us/event/bi-town-economic-development-committee/2026-12-03/
LOCATION:Deerfield Valley Rescue
END:VEVENT
BEGIN:VEVENT
DTSTART;TZID=America/New_York:20270107T080000
DTEND;TZID=America/New_York:20270107T090000
DTSTAMP:20260422T010500
CREATED:20241205T150022Z
LAST-MODIFIED:20241205T150333Z
UID:10000748-1799308800-1799312400@wilmingtonvermont.us
SUMMARY:Bi-Town Economic Development Committee
DESCRIPTION:Bi-Town Committee meets every other month
URL:https://wilmingtonvermont.us/event/bi-town-economic-development-committee/2027-01-07/
LOCATION:Deerfield Valley Rescue
END:VEVENT
BEGIN:VEVENT
DTSTART;TZID=America/New_York:20270204T080000
DTEND;TZID=America/New_York:20270204T090000
DTSTAMP:20260422T010500
CREATED:20241205T150022Z
LAST-MODIFIED:20241205T150333Z
UID:10000749-1801728000-1801731600@wilmingtonvermont.us
SUMMARY:Bi-Town Economic Development Committee
DESCRIPTION:Bi-Town Committee meets every other month
URL:https://wilmingtonvermont.us/event/bi-town-economic-development-committee/2027-02-04/
LOCATION:Deerfield Valley Rescue
END:VEVENT
BEGIN:VEVENT
DTSTART;TZID=America/New_York:20270304T080000
DTEND;TZID=America/New_York:20270304T090000
DTSTAMP:20260422T010500
CREATED:20241205T150022Z
LAST-MODIFIED:20241205T150333Z
UID:10000750-1804147200-1804150800@wilmingtonvermont.us
SUMMARY:Bi-Town Economic Development Committee
DESCRIPTION:Bi-Town Committee meets every other month
URL:https://wilmingtonvermont.us/event/bi-town-economic-development-committee/2027-03-04/
LOCATION:Deerfield Valley Rescue
END:VEVENT
BEGIN:VEVENT
DTSTART;TZID=America/New_York:20270401T080000
DTEND;TZID=America/New_York:20270401T090000
DTSTAMP:20260422T010500
CREATED:20241205T150022Z
LAST-MODIFIED:20241205T150333Z
UID:10000751-1806566400-1806570000@wilmingtonvermont.us
SUMMARY:Bi-Town Economic Development Committee
DESCRIPTION:Bi-Town Committee meets every other month
URL:https://wilmingtonvermont.us/event/bi-town-economic-development-committee/2027-04-01/
LOCATION:Deerfield Valley Rescue
END:VEVENT
BEGIN:VEVENT
DTSTART;TZID=America/New_York:20270506T080000
DTEND;TZID=America/New_York:20270506T090000
DTSTAMP:20260422T010500
CREATED:20241205T150022Z
LAST-MODIFIED:20241205T150333Z
UID:10000752-1809590400-1809594000@wilmingtonvermont.us
SUMMARY:Bi-Town Economic Development Committee
DESCRIPTION:Bi-Town Committee meets every other month
URL:https://wilmingtonvermont.us/event/bi-town-economic-development-committee/2027-05-06/
LOCATION:Deerfield Valley Rescue
END:VEVENT
BEGIN:VEVENT
DTSTART;TZID=America/New_York:20270603T080000
DTEND;TZID=America/New_York:20270603T090000
DTSTAMP:20260422T010500
CREATED:20241205T150022Z
LAST-MODIFIED:20241205T150333Z
UID:10000753-1812009600-1812013200@wilmingtonvermont.us
SUMMARY:Bi-Town Economic Development Committee
DESCRIPTION:Bi-Town Committee meets every other month
URL:https://wilmingtonvermont.us/event/bi-town-economic-development-committee/2027-06-03/
LOCATION:Deerfield Valley Rescue
END:VEVENT
BEGIN:VEVENT
DTSTART;TZID=America/New_York:20270701T080000
DTEND;TZID=America/New_York:20270701T090000
DTSTAMP:20260422T010500
CREATED:20241205T150022Z
LAST-MODIFIED:20241205T150333Z
UID:10000754-1814428800-1814432400@wilmingtonvermont.us
SUMMARY:Bi-Town Economic Development Committee
DESCRIPTION:Bi-Town Committee meets every other month
URL:https://wilmingtonvermont.us/event/bi-town-economic-development-committee/2027-07-01/
LOCATION:Deerfield Valley Rescue
END:VEVENT
BEGIN:VEVENT
DTSTART;TZID=America/New_York:20270805T080000
DTEND;TZID=America/New_York:20270805T090000
DTSTAMP:20260422T010500
CREATED:20241205T150022Z
LAST-MODIFIED:20241205T150333Z
UID:10000755-1817452800-1817456400@wilmingtonvermont.us
SUMMARY:Bi-Town Economic Development Committee
DESCRIPTION:Bi-Town Committee meets every other month
URL:https://wilmingtonvermont.us/event/bi-town-economic-development-committee/2027-08-05/
LOCATION:Deerfield Valley Rescue
END:VEVENT
BEGIN:VEVENT
DTSTART;TZID=America/New_York:20270902T080000
DTEND;TZID=America/New_York:20270902T090000
DTSTAMP:20260422T010500
CREATED:20241205T150022Z
LAST-MODIFIED:20241205T150333Z
UID:10000756-1819872000-1819875600@wilmingtonvermont.us
SUMMARY:Bi-Town Economic Development Committee
DESCRIPTION:Bi-Town Committee meets every other month
URL:https://wilmingtonvermont.us/event/bi-town-economic-development-committee/2027-09-02/
LOCATION:Deerfield Valley Rescue
END:VEVENT
BEGIN:VEVENT
DTSTART;TZID=America/New_York:20271007T080000
DTEND;TZID=America/New_York:20271007T090000
DTSTAMP:20260422T010500
CREATED:20241205T150022Z
LAST-MODIFIED:20241205T150333Z
UID:10000757-1822896000-1822899600@wilmingtonvermont.us
SUMMARY:Bi-Town Economic Development Committee
DESCRIPTION:Bi-Town Committee meets every other month
URL:https://wilmingtonvermont.us/event/bi-town-economic-development-committee/2027-10-07/
LOCATION:Deerfield Valley Rescue
END:VEVENT
BEGIN:VEVENT
DTSTART;TZID=America/New_York:20271104T080000
DTEND;TZID=America/New_York:20271104T090000
DTSTAMP:20260422T010500
CREATED:20241205T150022Z
LAST-MODIFIED:20241205T150333Z
UID:10000758-1825315200-1825318800@wilmingtonvermont.us
SUMMARY:Bi-Town Economic Development Committee
DESCRIPTION:Bi-Town Committee meets every other month
URL:https://wilmingtonvermont.us/event/bi-town-economic-development-committee/2027-11-04/
LOCATION:Deerfield Valley Rescue
END:VEVENT
BEGIN:VEVENT
DTSTART;TZID=America/New_York:20271202T080000
DTEND;TZID=America/New_York:20271202T090000
DTSTAMP:20260422T010500
CREATED:20241205T150022Z
LAST-MODIFIED:20241205T150333Z
UID:10000759-1827734400-1827738000@wilmingtonvermont.us
SUMMARY:Bi-Town Economic Development Committee
DESCRIPTION:Bi-Town Committee meets every other month
URL:https://wilmingtonvermont.us/event/bi-town-economic-development-committee/2027-12-02/
LOCATION:Deerfield Valley Rescue
END:VEVENT
BEGIN:VEVENT
DTSTART;TZID=America/New_York:20280106T080000
DTEND;TZID=America/New_York:20280106T090000
DTSTAMP:20260422T010500
CREATED:20241205T150022Z
LAST-MODIFIED:20241205T150333Z
UID:10000760-1830758400-1830762000@wilmingtonvermont.us
SUMMARY:Bi-Town Economic Development Committee
DESCRIPTION:Bi-Town Committee meets every other month
URL:https://wilmingtonvermont.us/event/bi-town-economic-development-committee/2028-01-06/
LOCATION:Deerfield Valley Rescue
END:VEVENT
BEGIN:VEVENT
DTSTART;TZID=America/New_York:20280203T080000
DTEND;TZID=America/New_York:20280203T090000
DTSTAMP:20260422T010500
CREATED:20241205T150022Z
LAST-MODIFIED:20241205T150333Z
UID:10000761-1833177600-1833181200@wilmingtonvermont.us
SUMMARY:Bi-Town Economic Development Committee
DESCRIPTION:Bi-Town Committee meets every other month
URL:https://wilmingtonvermont.us/event/bi-town-economic-development-committee/2028-02-03/
LOCATION:Deerfield Valley Rescue
END:VEVENT
BEGIN:VEVENT
DTSTART;TZID=America/New_York:20280302T080000
DTEND;TZID=America/New_York:20280302T090000
DTSTAMP:20260422T010500
CREATED:20241205T150022Z
LAST-MODIFIED:20241205T150333Z
UID:10000762-1835596800-1835600400@wilmingtonvermont.us
SUMMARY:Bi-Town Economic Development Committee
DESCRIPTION:Bi-Town Committee meets every other month
URL:https://wilmingtonvermont.us/event/bi-town-economic-development-committee/2028-03-02/
LOCATION:Deerfield Valley Rescue
END:VEVENT
BEGIN:VEVENT
DTSTART;TZID=America/New_York:20280406T080000
DTEND;TZID=America/New_York:20280406T090000
DTSTAMP:20260422T010500
CREATED:20241205T150022Z
LAST-MODIFIED:20241205T150333Z
UID:10000763-1838620800-1838624400@wilmingtonvermont.us
SUMMARY:Bi-Town Economic Development Committee
DESCRIPTION:Bi-Town Committee meets every other month
URL:https://wilmingtonvermont.us/event/bi-town-economic-development-committee/2028-04-06/
LOCATION:Deerfield Valley Rescue
END:VEVENT
BEGIN:VEVENT
DTSTART;TZID=America/New_York:20280504T080000
DTEND;TZID=America/New_York:20280504T090000
DTSTAMP:20260422T010500
CREATED:20241205T150022Z
LAST-MODIFIED:20241205T150333Z
UID:10000764-1841040000-1841043600@wilmingtonvermont.us
SUMMARY:Bi-Town Economic Development Committee
DESCRIPTION:Bi-Town Committee meets every other month
URL:https://wilmingtonvermont.us/event/bi-town-economic-development-committee/2028-05-04/
LOCATION:Deerfield Valley Rescue
END:VEVENT
BEGIN:VEVENT
DTSTART;TZID=America/New_York:20280601T080000
DTEND;TZID=America/New_York:20280601T090000
DTSTAMP:20260422T010500
CREATED:20241205T150022Z
LAST-MODIFIED:20241205T150333Z
UID:10000765-1843459200-1843462800@wilmingtonvermont.us
SUMMARY:Bi-Town Economic Development Committee
DESCRIPTION:Bi-Town Committee meets every other month
URL:https://wilmingtonvermont.us/event/bi-town-economic-development-committee/2028-06-01/
LOCATION:Deerfield Valley Rescue
END:VEVENT
BEGIN:VEVENT
DTSTART;TZID=America/New_York:20280706T080000
DTEND;TZID=America/New_York:20280706T090000
DTSTAMP:20260422T010500
CREATED:20241205T150022Z
LAST-MODIFIED:20241205T150333Z
UID:10000766-1846483200-1846486800@wilmingtonvermont.us
SUMMARY:Bi-Town Economic Development Committee
DESCRIPTION:Bi-Town Committee meets every other month
URL:https://wilmingtonvermont.us/event/bi-town-economic-development-committee/2028-07-06/
LOCATION:Deerfield Valley Rescue
END:VEVENT
BEGIN:VEVENT
DTSTART;TZID=America/New_York:20280803T080000
DTEND;TZID=America/New_York:20280803T090000
DTSTAMP:20260422T010500
CREATED:20241205T150022Z
LAST-MODIFIED:20241205T150333Z
UID:10000767-1848902400-1848906000@wilmingtonvermont.us
SUMMARY:Bi-Town Economic Development Committee
DESCRIPTION:Bi-Town Committee meets every other month
URL:https://wilmingtonvermont.us/event/bi-town-economic-development-committee/2028-08-03/
LOCATION:Deerfield Valley Rescue
END:VEVENT
BEGIN:VEVENT
DTSTART;TZID=America/New_York:20280907T080000
DTEND;TZID=America/New_York:20280907T090000
DTSTAMP:20260422T010500
CREATED:20241205T150022Z
LAST-MODIFIED:20241205T150333Z
UID:10000768-1851926400-1851930000@wilmingtonvermont.us
SUMMARY:Bi-Town Economic Development Committee
DESCRIPTION:Bi-Town Committee meets every other month
URL:https://wilmingtonvermont.us/event/bi-town-economic-development-committee/2028-09-07/
LOCATION:Deerfield Valley Rescue
END:VEVENT
BEGIN:VEVENT
DTSTART;TZID=America/New_York:20281005T080000
DTEND;TZID=America/New_York:20281005T090000
DTSTAMP:20260422T010500
CREATED:20241205T150022Z
LAST-MODIFIED:20241205T150333Z
UID:10000769-1854345600-1854349200@wilmingtonvermont.us
SUMMARY:Bi-Town Economic Development Committee
DESCRIPTION:Bi-Town Committee meets every other month
URL:https://wilmingtonvermont.us/event/bi-town-economic-development-committee/2028-10-05/
LOCATION:Deerfield Valley Rescue
END:VEVENT
END:VCALENDAR